BEGIN:VCALENDAR
VERSION:2.0
PRODID:-//Was geht in Hellersdorf - ECPv6.1.2.2//NONSGML v1.0//EN
CALSCALE:GREGORIAN
METHOD:PUBLISH
X-ORIGINAL-URL:http://s130056251.online.de
X-WR-CALDESC:Veranstaltungen für Was geht in Hellersdorf
REFRESH-INTERVAL;VALUE=DURATION:PT1H
X-Robots-Tag:noindex
X-PUBLISHED-TTL:PT1H
BEGIN:VTIMEZONE
TZID:Europe/Berlin
BEGIN:DAYLIGHT
TZOFFSETFROM:+0100
TZOFFSETTO:+0200
TZNAME:CEST
DTSTART:20260329T010000
END:DAYLIGHT
BEGIN:STANDARD
TZOFFSETFROM:+0200
TZOFFSETTO:+0100
TZNAME:CET
DTSTART:20261025T010000
END:STANDARD
END:VTIMEZONE
BEGIN:VEVENT
DTSTART;TZID=Europe/Berlin:20260428T150000
DTEND;TZID=Europe/Berlin:20260428T170000
DTSTAMP:20260422T125256
CREATED:20231021T164345Z
LAST-MODIFIED:20231031T120204Z
UID:10003741-1777388400-1777395600@s130056251.online.de
SUMMARY:Kochen
DESCRIPTION:Kochen mit Basti – Eure Vorschläge sind gefragt 🙂
URL:http://s130056251.online.de/event/kochen-2/2026-04-28/
LOCATION:Eastend-Berlin\, Tangermünder Str. 127\, Berlin\, 12627
END:VEVENT
BEGIN:VEVENT
DTSTART;TZID=Europe/Berlin:20260505T150000
DTEND;TZID=Europe/Berlin:20260505T170000
DTSTAMP:20260422T125256
CREATED:20231021T164345Z
LAST-MODIFIED:20231031T120204Z
UID:10003742-1777993200-1778000400@s130056251.online.de
SUMMARY:Kochen
DESCRIPTION:Kochen mit Basti – Eure Vorschläge sind gefragt 🙂
URL:http://s130056251.online.de/event/kochen-2/2026-05-05/
LOCATION:Eastend-Berlin\, Tangermünder Str. 127\, Berlin\, 12627
END:VEVENT
BEGIN:VEVENT
DTSTART;TZID=Europe/Berlin:20260512T150000
DTEND;TZID=Europe/Berlin:20260512T170000
DTSTAMP:20260422T125256
CREATED:20231021T164345Z
LAST-MODIFIED:20231031T120204Z
UID:10003743-1778598000-1778605200@s130056251.online.de
SUMMARY:Kochen
DESCRIPTION:Kochen mit Basti – Eure Vorschläge sind gefragt 🙂
URL:http://s130056251.online.de/event/kochen-2/2026-05-12/
LOCATION:Eastend-Berlin\, Tangermünder Str. 127\, Berlin\, 12627
END:VEVENT
BEGIN:VEVENT
DTSTART;TZID=Europe/Berlin:20260519T150000
DTEND;TZID=Europe/Berlin:20260519T170000
DTSTAMP:20260422T125256
CREATED:20231021T164345Z
LAST-MODIFIED:20231031T120204Z
UID:10003744-1779202800-1779210000@s130056251.online.de
SUMMARY:Kochen
DESCRIPTION:Kochen mit Basti – Eure Vorschläge sind gefragt 🙂
URL:http://s130056251.online.de/event/kochen-2/2026-05-19/
LOCATION:Eastend-Berlin\, Tangermünder Str. 127\, Berlin\, 12627
END:VEVENT
BEGIN:VEVENT
DTSTART;TZID=Europe/Berlin:20260526T150000
DTEND;TZID=Europe/Berlin:20260526T170000
DTSTAMP:20260422T125256
CREATED:20231021T164345Z
LAST-MODIFIED:20231031T120204Z
UID:10003745-1779807600-1779814800@s130056251.online.de
SUMMARY:Kochen
DESCRIPTION:Kochen mit Basti – Eure Vorschläge sind gefragt 🙂
URL:http://s130056251.online.de/event/kochen-2/2026-05-26/
LOCATION:Eastend-Berlin\, Tangermünder Str. 127\, Berlin\, 12627
END:VEVENT
BEGIN:VEVENT
DTSTART;TZID=Europe/Berlin:20260602T150000
DTEND;TZID=Europe/Berlin:20260602T170000
DTSTAMP:20260422T125256
CREATED:20231021T164345Z
LAST-MODIFIED:20231031T120204Z
UID:10003746-1780412400-1780419600@s130056251.online.de
SUMMARY:Kochen
DESCRIPTION:Kochen mit Basti – Eure Vorschläge sind gefragt 🙂
URL:http://s130056251.online.de/event/kochen-2/2026-06-02/
LOCATION:Eastend-Berlin\, Tangermünder Str. 127\, Berlin\, 12627
END:VEVENT
BEGIN:VEVENT
DTSTART;TZID=Europe/Berlin:20260609T150000
DTEND;TZID=Europe/Berlin:20260609T170000
DTSTAMP:20260422T125256
CREATED:20231021T164345Z
LAST-MODIFIED:20231031T120204Z
UID:10003747-1781017200-1781024400@s130056251.online.de
SUMMARY:Kochen
DESCRIPTION:Kochen mit Basti – Eure Vorschläge sind gefragt 🙂
URL:http://s130056251.online.de/event/kochen-2/2026-06-09/
LOCATION:Eastend-Berlin\, Tangermünder Str. 127\, Berlin\, 12627
END:VEVENT
BEGIN:VEVENT
DTSTART;TZID=Europe/Berlin:20260616T150000
DTEND;TZID=Europe/Berlin:20260616T170000
DTSTAMP:20260422T125256
CREATED:20231021T164345Z
LAST-MODIFIED:20231031T120204Z
UID:10003748-1781622000-1781629200@s130056251.online.de
SUMMARY:Kochen
DESCRIPTION:Kochen mit Basti – Eure Vorschläge sind gefragt 🙂
URL:http://s130056251.online.de/event/kochen-2/2026-06-16/
LOCATION:Eastend-Berlin\, Tangermünder Str. 127\, Berlin\, 12627
END:VEVENT
BEGIN:VEVENT
DTSTART;TZID=Europe/Berlin:20260623T150000
DTEND;TZID=Europe/Berlin:20260623T170000
DTSTAMP:20260422T125256
CREATED:20231021T164345Z
LAST-MODIFIED:20231031T120204Z
UID:10003749-1782226800-1782234000@s130056251.online.de
SUMMARY:Kochen
DESCRIPTION:Kochen mit Basti – Eure Vorschläge sind gefragt 🙂
URL:http://s130056251.online.de/event/kochen-2/2026-06-23/
LOCATION:Eastend-Berlin\, Tangermünder Str. 127\, Berlin\, 12627
END:VEVENT
BEGIN:VEVENT
DTSTART;TZID=Europe/Berlin:20260630T150000
DTEND;TZID=Europe/Berlin:20260630T170000
DTSTAMP:20260422T125256
CREATED:20231021T164345Z
LAST-MODIFIED:20231031T120204Z
UID:10003750-1782831600-1782838800@s130056251.online.de
SUMMARY:Kochen
DESCRIPTION:Kochen mit Basti – Eure Vorschläge sind gefragt 🙂
URL:http://s130056251.online.de/event/kochen-2/2026-06-30/
LOCATION:Eastend-Berlin\, Tangermünder Str. 127\, Berlin\, 12627
END:VEVENT
BEGIN:VEVENT
DTSTART;TZID=Europe/Berlin:20260707T150000
DTEND;TZID=Europe/Berlin:20260707T170000
DTSTAMP:20260422T125256
CREATED:20231021T164345Z
LAST-MODIFIED:20231031T120204Z
UID:10003751-1783436400-1783443600@s130056251.online.de
SUMMARY:Kochen
DESCRIPTION:Kochen mit Basti – Eure Vorschläge sind gefragt 🙂
URL:http://s130056251.online.de/event/kochen-2/2026-07-07/
LOCATION:Eastend-Berlin\, Tangermünder Str. 127\, Berlin\, 12627
END:VEVENT
BEGIN:VEVENT
DTSTART;TZID=Europe/Berlin:20260714T150000
DTEND;TZID=Europe/Berlin:20260714T170000
DTSTAMP:20260422T125256
CREATED:20231021T164345Z
LAST-MODIFIED:20231031T120204Z
UID:10003752-1784041200-1784048400@s130056251.online.de
SUMMARY:Kochen
DESCRIPTION:Kochen mit Basti – Eure Vorschläge sind gefragt 🙂
URL:http://s130056251.online.de/event/kochen-2/2026-07-14/
LOCATION:Eastend-Berlin\, Tangermünder Str. 127\, Berlin\, 12627
END:VEVENT
BEGIN:VEVENT
DTSTART;TZID=Europe/Berlin:20260721T150000
DTEND;TZID=Europe/Berlin:20260721T170000
DTSTAMP:20260422T125256
CREATED:20231021T164345Z
LAST-MODIFIED:20231031T120204Z
UID:10003753-1784646000-1784653200@s130056251.online.de
SUMMARY:Kochen
DESCRIPTION:Kochen mit Basti – Eure Vorschläge sind gefragt 🙂
URL:http://s130056251.online.de/event/kochen-2/2026-07-21/
LOCATION:Eastend-Berlin\, Tangermünder Str. 127\, Berlin\, 12627
END:VEVENT
BEGIN:VEVENT
DTSTART;TZID=Europe/Berlin:20260728T150000
DTEND;TZID=Europe/Berlin:20260728T170000
DTSTAMP:20260422T125256
CREATED:20231021T164345Z
LAST-MODIFIED:20231031T120204Z
UID:10003754-1785250800-1785258000@s130056251.online.de
SUMMARY:Kochen
DESCRIPTION:Kochen mit Basti – Eure Vorschläge sind gefragt 🙂
URL:http://s130056251.online.de/event/kochen-2/2026-07-28/
LOCATION:Eastend-Berlin\, Tangermünder Str. 127\, Berlin\, 12627
END:VEVENT
BEGIN:VEVENT
DTSTART;TZID=Europe/Berlin:20260804T150000
DTEND;TZID=Europe/Berlin:20260804T170000
DTSTAMP:20260422T125256
CREATED:20231021T164345Z
LAST-MODIFIED:20231031T120204Z
UID:10003755-1785855600-1785862800@s130056251.online.de
SUMMARY:Kochen
DESCRIPTION:Kochen mit Basti – Eure Vorschläge sind gefragt 🙂
URL:http://s130056251.online.de/event/kochen-2/2026-08-04/
LOCATION:Eastend-Berlin\, Tangermünder Str. 127\, Berlin\, 12627
END:VEVENT
BEGIN:VEVENT
DTSTART;TZID=Europe/Berlin:20260811T150000
DTEND;TZID=Europe/Berlin:20260811T170000
DTSTAMP:20260422T125256
CREATED:20231021T164345Z
LAST-MODIFIED:20231031T120204Z
UID:10003756-1786460400-1786467600@s130056251.online.de
SUMMARY:Kochen
DESCRIPTION:Kochen mit Basti – Eure Vorschläge sind gefragt 🙂
URL:http://s130056251.online.de/event/kochen-2/2026-08-11/
LOCATION:Eastend-Berlin\, Tangermünder Str. 127\, Berlin\, 12627
END:VEVENT
BEGIN:VEVENT
DTSTART;TZID=Europe/Berlin:20260818T150000
DTEND;TZID=Europe/Berlin:20260818T170000
DTSTAMP:20260422T125256
CREATED:20231021T164345Z
LAST-MODIFIED:20231031T120204Z
UID:10003757-1787065200-1787072400@s130056251.online.de
SUMMARY:Kochen
DESCRIPTION:Kochen mit Basti – Eure Vorschläge sind gefragt 🙂
URL:http://s130056251.online.de/event/kochen-2/2026-08-18/
LOCATION:Eastend-Berlin\, Tangermünder Str. 127\, Berlin\, 12627
END:VEVENT
BEGIN:VEVENT
DTSTART;TZID=Europe/Berlin:20260825T150000
DTEND;TZID=Europe/Berlin:20260825T170000
DTSTAMP:20260422T125256
CREATED:20231021T164345Z
LAST-MODIFIED:20231031T120204Z
UID:10003758-1787670000-1787677200@s130056251.online.de
SUMMARY:Kochen
DESCRIPTION:Kochen mit Basti – Eure Vorschläge sind gefragt 🙂
URL:http://s130056251.online.de/event/kochen-2/2026-08-25/
LOCATION:Eastend-Berlin\, Tangermünder Str. 127\, Berlin\, 12627
END:VEVENT
BEGIN:VEVENT
DTSTART;TZID=Europe/Berlin:20260901T150000
DTEND;TZID=Europe/Berlin:20260901T170000
DTSTAMP:20260422T125256
CREATED:20231021T164345Z
LAST-MODIFIED:20231031T120204Z
UID:10003759-1788274800-1788282000@s130056251.online.de
SUMMARY:Kochen
DESCRIPTION:Kochen mit Basti – Eure Vorschläge sind gefragt 🙂
URL:http://s130056251.online.de/event/kochen-2/2026-09-01/
LOCATION:Eastend-Berlin\, Tangermünder Str. 127\, Berlin\, 12627
END:VEVENT
BEGIN:VEVENT
DTSTART;TZID=Europe/Berlin:20260908T150000
DTEND;TZID=Europe/Berlin:20260908T170000
DTSTAMP:20260422T125256
CREATED:20231021T164345Z
LAST-MODIFIED:20231031T120204Z
UID:10003760-1788879600-1788886800@s130056251.online.de
SUMMARY:Kochen
DESCRIPTION:Kochen mit Basti – Eure Vorschläge sind gefragt 🙂
URL:http://s130056251.online.de/event/kochen-2/2026-09-08/
LOCATION:Eastend-Berlin\, Tangermünder Str. 127\, Berlin\, 12627
END:VEVENT
BEGIN:VEVENT
DTSTART;TZID=Europe/Berlin:20260915T150000
DTEND;TZID=Europe/Berlin:20260915T170000
DTSTAMP:20260422T125256
CREATED:20231021T164345Z
LAST-MODIFIED:20231031T120204Z
UID:10003761-1789484400-1789491600@s130056251.online.de
SUMMARY:Kochen
DESCRIPTION:Kochen mit Basti – Eure Vorschläge sind gefragt 🙂
URL:http://s130056251.online.de/event/kochen-2/2026-09-15/
LOCATION:Eastend-Berlin\, Tangermünder Str. 127\, Berlin\, 12627
END:VEVENT
BEGIN:VEVENT
DTSTART;TZID=Europe/Berlin:20260922T150000
DTEND;TZID=Europe/Berlin:20260922T170000
DTSTAMP:20260422T125256
CREATED:20231021T164345Z
LAST-MODIFIED:20231031T120204Z
UID:10003762-1790089200-1790096400@s130056251.online.de
SUMMARY:Kochen
DESCRIPTION:Kochen mit Basti – Eure Vorschläge sind gefragt 🙂
URL:http://s130056251.online.de/event/kochen-2/2026-09-22/
LOCATION:Eastend-Berlin\, Tangermünder Str. 127\, Berlin\, 12627
END:VEVENT
BEGIN:VEVENT
DTSTART;TZID=Europe/Berlin:20260929T150000
DTEND;TZID=Europe/Berlin:20260929T170000
DTSTAMP:20260422T125256
CREATED:20231021T164345Z
LAST-MODIFIED:20231031T120204Z
UID:10003763-1790694000-1790701200@s130056251.online.de
SUMMARY:Kochen
DESCRIPTION:Kochen mit Basti – Eure Vorschläge sind gefragt 🙂
URL:http://s130056251.online.de/event/kochen-2/2026-09-29/
LOCATION:Eastend-Berlin\, Tangermünder Str. 127\, Berlin\, 12627
END:VEVENT
BEGIN:VEVENT
DTSTART;TZID=Europe/Berlin:20261006T150000
DTEND;TZID=Europe/Berlin:20261006T170000
DTSTAMP:20260422T125256
CREATED:20231021T164345Z
LAST-MODIFIED:20231031T120204Z
UID:10003764-1791298800-1791306000@s130056251.online.de
SUMMARY:Kochen
DESCRIPTION:Kochen mit Basti – Eure Vorschläge sind gefragt 🙂
URL:http://s130056251.online.de/event/kochen-2/2026-10-06/
LOCATION:Eastend-Berlin\, Tangermünder Str. 127\, Berlin\, 12627
END:VEVENT
BEGIN:VEVENT
DTSTART;TZID=Europe/Berlin:20261013T150000
DTEND;TZID=Europe/Berlin:20261013T170000
DTSTAMP:20260422T125256
CREATED:20231021T164345Z
LAST-MODIFIED:20231031T120204Z
UID:10003765-1791903600-1791910800@s130056251.online.de
SUMMARY:Kochen
DESCRIPTION:Kochen mit Basti – Eure Vorschläge sind gefragt 🙂
URL:http://s130056251.online.de/event/kochen-2/2026-10-13/
LOCATION:Eastend-Berlin\, Tangermünder Str. 127\, Berlin\, 12627
END:VEVENT
BEGIN:VEVENT
DTSTART;TZID=Europe/Berlin:20261020T150000
DTEND;TZID=Europe/Berlin:20261020T170000
DTSTAMP:20260422T125256
CREATED:20231021T164345Z
LAST-MODIFIED:20231031T120204Z
UID:10003766-1792508400-1792515600@s130056251.online.de
SUMMARY:Kochen
DESCRIPTION:Kochen mit Basti – Eure Vorschläge sind gefragt 🙂
URL:http://s130056251.online.de/event/kochen-2/2026-10-20/
LOCATION:Eastend-Berlin\, Tangermünder Str. 127\, Berlin\, 12627
END:VEVENT
BEGIN:VEVENT
DTSTART;TZID=Europe/Berlin:20261027T150000
DTEND;TZID=Europe/Berlin:20261027T170000
DTSTAMP:20260422T125256
CREATED:20231021T164345Z
LAST-MODIFIED:20231031T120204Z
UID:10003767-1793113200-1793120400@s130056251.online.de
SUMMARY:Kochen
DESCRIPTION:Kochen mit Basti – Eure Vorschläge sind gefragt 🙂
URL:http://s130056251.online.de/event/kochen-2/2026-10-27/
LOCATION:Eastend-Berlin\, Tangermünder Str. 127\, Berlin\, 12627
END:VEVENT
BEGIN:VEVENT
DTSTART;TZID=Europe/Berlin:20261103T150000
DTEND;TZID=Europe/Berlin:20261103T170000
DTSTAMP:20260422T125256
CREATED:20231021T164345Z
LAST-MODIFIED:20231031T120204Z
UID:10003768-1793718000-1793725200@s130056251.online.de
SUMMARY:Kochen
DESCRIPTION:Kochen mit Basti – Eure Vorschläge sind gefragt 🙂
URL:http://s130056251.online.de/event/kochen-2/2026-11-03/
LOCATION:Eastend-Berlin\, Tangermünder Str. 127\, Berlin\, 12627
END:VEVENT
BEGIN:VEVENT
DTSTART;TZID=Europe/Berlin:20261110T150000
DTEND;TZID=Europe/Berlin:20261110T170000
DTSTAMP:20260422T125256
CREATED:20231021T164345Z
LAST-MODIFIED:20231031T120204Z
UID:10003769-1794322800-1794330000@s130056251.online.de
SUMMARY:Kochen
DESCRIPTION:Kochen mit Basti – Eure Vorschläge sind gefragt 🙂
URL:http://s130056251.online.de/event/kochen-2/2026-11-10/
LOCATION:Eastend-Berlin\, Tangermünder Str. 127\, Berlin\, 12627
END:VEVENT
BEGIN:VEVENT
DTSTART;TZID=Europe/Berlin:20261117T150000
DTEND;TZID=Europe/Berlin:20261117T170000
DTSTAMP:20260422T125256
CREATED:20231021T164345Z
LAST-MODIFIED:20231031T120204Z
UID:10003770-1794927600-1794934800@s130056251.online.de
SUMMARY:Kochen
DESCRIPTION:Kochen mit Basti – Eure Vorschläge sind gefragt 🙂
URL:http://s130056251.online.de/event/kochen-2/2026-11-17/
LOCATION:Eastend-Berlin\, Tangermünder Str. 127\, Berlin\, 12627
END:VEVENT
END:VCALENDAR