BEGIN:VCALENDAR
VERSION:2.0
PRODID:-//Was geht in Hellersdorf - ECPv6.1.2.2//NONSGML v1.0//EN
CALSCALE:GREGORIAN
METHOD:PUBLISH
X-WR-CALNAME:Was geht in Hellersdorf
X-ORIGINAL-URL:http://s130056251.online.de
X-WR-CALDESC:Veranstaltungen für Was geht in Hellersdorf
REFRESH-INTERVAL;VALUE=DURATION:PT1H
X-Robots-Tag:noindex
X-PUBLISHED-TTL:PT1H
BEGIN:VTIMEZONE
TZID:Europe/Berlin
BEGIN:DAYLIGHT
TZOFFSETFROM:+0100
TZOFFSETTO:+0200
TZNAME:CEST
DTSTART:20260329T010000
END:DAYLIGHT
BEGIN:STANDARD
TZOFFSETFROM:+0200
TZOFFSETTO:+0100
TZNAME:CET
DTSTART:20261025T010000
END:STANDARD
BEGIN:DAYLIGHT
TZOFFSETFROM:+0100
TZOFFSETTO:+0200
TZNAME:CEST
DTSTART:20270328T010000
END:DAYLIGHT
BEGIN:STANDARD
TZOFFSETFROM:+0200
TZOFFSETTO:+0100
TZNAME:CET
DTSTART:20271031T010000
END:STANDARD
END:VTIMEZONE
BEGIN:VEVENT
DTSTART;TZID=Europe/Berlin:20260716T160000
DTEND;TZID=Europe/Berlin:20260716T180000
DTSTAMP:20260422T175711
CREATED:20230622T105848Z
LAST-MODIFIED:20230622T110612Z
UID:10002102-1784217600-1784224800@s130056251.online.de
SUMMARY:Graffiti AG
DESCRIPTION:Hier könnt ihr euch mit Sprühdosen an der hauseigenen Graffitiwand ausprobieren.
URL:http://s130056251.online.de/event/graffiti-ag/2026-07-16/
LOCATION:Senfte 10\, Senftenberger Straße 10\, Berlin\, Berlin\, 12627
END:VEVENT
BEGIN:VEVENT
DTSTART;TZID=Europe/Berlin:20260723T160000
DTEND;TZID=Europe/Berlin:20260723T180000
DTSTAMP:20260422T175711
CREATED:20230622T105848Z
LAST-MODIFIED:20230622T110612Z
UID:10002103-1784822400-1784829600@s130056251.online.de
SUMMARY:Graffiti AG
DESCRIPTION:Hier könnt ihr euch mit Sprühdosen an der hauseigenen Graffitiwand ausprobieren.
URL:http://s130056251.online.de/event/graffiti-ag/2026-07-23/
LOCATION:Senfte 10\, Senftenberger Straße 10\, Berlin\, Berlin\, 12627
END:VEVENT
BEGIN:VEVENT
DTSTART;TZID=Europe/Berlin:20260730T160000
DTEND;TZID=Europe/Berlin:20260730T180000
DTSTAMP:20260422T175711
CREATED:20230622T105848Z
LAST-MODIFIED:20230622T110612Z
UID:10002104-1785427200-1785434400@s130056251.online.de
SUMMARY:Graffiti AG
DESCRIPTION:Hier könnt ihr euch mit Sprühdosen an der hauseigenen Graffitiwand ausprobieren.
URL:http://s130056251.online.de/event/graffiti-ag/2026-07-30/
LOCATION:Senfte 10\, Senftenberger Straße 10\, Berlin\, Berlin\, 12627
END:VEVENT
BEGIN:VEVENT
DTSTART;TZID=Europe/Berlin:20260806T160000
DTEND;TZID=Europe/Berlin:20260806T180000
DTSTAMP:20260422T175711
CREATED:20230622T105848Z
LAST-MODIFIED:20230622T110612Z
UID:10002105-1786032000-1786039200@s130056251.online.de
SUMMARY:Graffiti AG
DESCRIPTION:Hier könnt ihr euch mit Sprühdosen an der hauseigenen Graffitiwand ausprobieren.
URL:http://s130056251.online.de/event/graffiti-ag/2026-08-06/
LOCATION:Senfte 10\, Senftenberger Straße 10\, Berlin\, Berlin\, 12627
END:VEVENT
BEGIN:VEVENT
DTSTART;TZID=Europe/Berlin:20260813T160000
DTEND;TZID=Europe/Berlin:20260813T180000
DTSTAMP:20260422T175711
CREATED:20230622T105848Z
LAST-MODIFIED:20230622T110612Z
UID:10002106-1786636800-1786644000@s130056251.online.de
SUMMARY:Graffiti AG
DESCRIPTION:Hier könnt ihr euch mit Sprühdosen an der hauseigenen Graffitiwand ausprobieren.
URL:http://s130056251.online.de/event/graffiti-ag/2026-08-13/
LOCATION:Senfte 10\, Senftenberger Straße 10\, Berlin\, Berlin\, 12627
END:VEVENT
BEGIN:VEVENT
DTSTART;TZID=Europe/Berlin:20260820T160000
DTEND;TZID=Europe/Berlin:20260820T180000
DTSTAMP:20260422T175711
CREATED:20230622T105848Z
LAST-MODIFIED:20230622T110612Z
UID:10002107-1787241600-1787248800@s130056251.online.de
SUMMARY:Graffiti AG
DESCRIPTION:Hier könnt ihr euch mit Sprühdosen an der hauseigenen Graffitiwand ausprobieren.
URL:http://s130056251.online.de/event/graffiti-ag/2026-08-20/
LOCATION:Senfte 10\, Senftenberger Straße 10\, Berlin\, Berlin\, 12627
END:VEVENT
BEGIN:VEVENT
DTSTART;TZID=Europe/Berlin:20260827T160000
DTEND;TZID=Europe/Berlin:20260827T180000
DTSTAMP:20260422T175711
CREATED:20230622T105848Z
LAST-MODIFIED:20230622T110612Z
UID:10002108-1787846400-1787853600@s130056251.online.de
SUMMARY:Graffiti AG
DESCRIPTION:Hier könnt ihr euch mit Sprühdosen an der hauseigenen Graffitiwand ausprobieren.
URL:http://s130056251.online.de/event/graffiti-ag/2026-08-27/
LOCATION:Senfte 10\, Senftenberger Straße 10\, Berlin\, Berlin\, 12627
END:VEVENT
BEGIN:VEVENT
DTSTART;TZID=Europe/Berlin:20260903T160000
DTEND;TZID=Europe/Berlin:20260903T180000
DTSTAMP:20260422T175711
CREATED:20230622T105848Z
LAST-MODIFIED:20230622T110612Z
UID:10002109-1788451200-1788458400@s130056251.online.de
SUMMARY:Graffiti AG
DESCRIPTION:Hier könnt ihr euch mit Sprühdosen an der hauseigenen Graffitiwand ausprobieren.
URL:http://s130056251.online.de/event/graffiti-ag/2026-09-03/
LOCATION:Senfte 10\, Senftenberger Straße 10\, Berlin\, Berlin\, 12627
END:VEVENT
BEGIN:VEVENT
DTSTART;TZID=Europe/Berlin:20260910T160000
DTEND;TZID=Europe/Berlin:20260910T180000
DTSTAMP:20260422T175711
CREATED:20230622T105848Z
LAST-MODIFIED:20230622T110612Z
UID:10002110-1789056000-1789063200@s130056251.online.de
SUMMARY:Graffiti AG
DESCRIPTION:Hier könnt ihr euch mit Sprühdosen an der hauseigenen Graffitiwand ausprobieren.
URL:http://s130056251.online.de/event/graffiti-ag/2026-09-10/
LOCATION:Senfte 10\, Senftenberger Straße 10\, Berlin\, Berlin\, 12627
END:VEVENT
BEGIN:VEVENT
DTSTART;TZID=Europe/Berlin:20260917T160000
DTEND;TZID=Europe/Berlin:20260917T180000
DTSTAMP:20260422T175711
CREATED:20230622T105848Z
LAST-MODIFIED:20230622T110612Z
UID:10002111-1789660800-1789668000@s130056251.online.de
SUMMARY:Graffiti AG
DESCRIPTION:Hier könnt ihr euch mit Sprühdosen an der hauseigenen Graffitiwand ausprobieren.
URL:http://s130056251.online.de/event/graffiti-ag/2026-09-17/
LOCATION:Senfte 10\, Senftenberger Straße 10\, Berlin\, Berlin\, 12627
END:VEVENT
BEGIN:VEVENT
DTSTART;TZID=Europe/Berlin:20260924T160000
DTEND;TZID=Europe/Berlin:20260924T180000
DTSTAMP:20260422T175711
CREATED:20230622T105848Z
LAST-MODIFIED:20230622T110612Z
UID:10002112-1790265600-1790272800@s130056251.online.de
SUMMARY:Graffiti AG
DESCRIPTION:Hier könnt ihr euch mit Sprühdosen an der hauseigenen Graffitiwand ausprobieren.
URL:http://s130056251.online.de/event/graffiti-ag/2026-09-24/
LOCATION:Senfte 10\, Senftenberger Straße 10\, Berlin\, Berlin\, 12627
END:VEVENT
BEGIN:VEVENT
DTSTART;TZID=Europe/Berlin:20261001T160000
DTEND;TZID=Europe/Berlin:20261001T180000
DTSTAMP:20260422T175711
CREATED:20230622T105848Z
LAST-MODIFIED:20230622T110612Z
UID:10002113-1790870400-1790877600@s130056251.online.de
SUMMARY:Graffiti AG
DESCRIPTION:Hier könnt ihr euch mit Sprühdosen an der hauseigenen Graffitiwand ausprobieren.
URL:http://s130056251.online.de/event/graffiti-ag/2026-10-01/
LOCATION:Senfte 10\, Senftenberger Straße 10\, Berlin\, Berlin\, 12627
END:VEVENT
BEGIN:VEVENT
DTSTART;TZID=Europe/Berlin:20261008T160000
DTEND;TZID=Europe/Berlin:20261008T180000
DTSTAMP:20260422T175711
CREATED:20230622T105848Z
LAST-MODIFIED:20230622T110612Z
UID:10002114-1791475200-1791482400@s130056251.online.de
SUMMARY:Graffiti AG
DESCRIPTION:Hier könnt ihr euch mit Sprühdosen an der hauseigenen Graffitiwand ausprobieren.
URL:http://s130056251.online.de/event/graffiti-ag/2026-10-08/
LOCATION:Senfte 10\, Senftenberger Straße 10\, Berlin\, Berlin\, 12627
END:VEVENT
BEGIN:VEVENT
DTSTART;TZID=Europe/Berlin:20261015T160000
DTEND;TZID=Europe/Berlin:20261015T180000
DTSTAMP:20260422T175711
CREATED:20230622T105848Z
LAST-MODIFIED:20230622T110612Z
UID:10002115-1792080000-1792087200@s130056251.online.de
SUMMARY:Graffiti AG
DESCRIPTION:Hier könnt ihr euch mit Sprühdosen an der hauseigenen Graffitiwand ausprobieren.
URL:http://s130056251.online.de/event/graffiti-ag/2026-10-15/
LOCATION:Senfte 10\, Senftenberger Straße 10\, Berlin\, Berlin\, 12627
END:VEVENT
BEGIN:VEVENT
DTSTART;TZID=Europe/Berlin:20261022T160000
DTEND;TZID=Europe/Berlin:20261022T180000
DTSTAMP:20260422T175711
CREATED:20230622T105848Z
LAST-MODIFIED:20230622T110612Z
UID:10002116-1792684800-1792692000@s130056251.online.de
SUMMARY:Graffiti AG
DESCRIPTION:Hier könnt ihr euch mit Sprühdosen an der hauseigenen Graffitiwand ausprobieren.
URL:http://s130056251.online.de/event/graffiti-ag/2026-10-22/
LOCATION:Senfte 10\, Senftenberger Straße 10\, Berlin\, Berlin\, 12627
END:VEVENT
BEGIN:VEVENT
DTSTART;TZID=Europe/Berlin:20261029T160000
DTEND;TZID=Europe/Berlin:20261029T180000
DTSTAMP:20260422T175711
CREATED:20230622T105848Z
LAST-MODIFIED:20230622T110612Z
UID:10002117-1793289600-1793296800@s130056251.online.de
SUMMARY:Graffiti AG
DESCRIPTION:Hier könnt ihr euch mit Sprühdosen an der hauseigenen Graffitiwand ausprobieren.
URL:http://s130056251.online.de/event/graffiti-ag/2026-10-29/
LOCATION:Senfte 10\, Senftenberger Straße 10\, Berlin\, Berlin\, 12627
END:VEVENT
BEGIN:VEVENT
DTSTART;TZID=Europe/Berlin:20261105T160000
DTEND;TZID=Europe/Berlin:20261105T180000
DTSTAMP:20260422T175711
CREATED:20230622T105848Z
LAST-MODIFIED:20230622T110612Z
UID:10002118-1793894400-1793901600@s130056251.online.de
SUMMARY:Graffiti AG
DESCRIPTION:Hier könnt ihr euch mit Sprühdosen an der hauseigenen Graffitiwand ausprobieren.
URL:http://s130056251.online.de/event/graffiti-ag/2026-11-05/
LOCATION:Senfte 10\, Senftenberger Straße 10\, Berlin\, Berlin\, 12627
END:VEVENT
BEGIN:VEVENT
DTSTART;TZID=Europe/Berlin:20261112T160000
DTEND;TZID=Europe/Berlin:20261112T180000
DTSTAMP:20260422T175711
CREATED:20230622T105848Z
LAST-MODIFIED:20230622T110612Z
UID:10002119-1794499200-1794506400@s130056251.online.de
SUMMARY:Graffiti AG
DESCRIPTION:Hier könnt ihr euch mit Sprühdosen an der hauseigenen Graffitiwand ausprobieren.
URL:http://s130056251.online.de/event/graffiti-ag/2026-11-12/
LOCATION:Senfte 10\, Senftenberger Straße 10\, Berlin\, Berlin\, 12627
END:VEVENT
BEGIN:VEVENT
DTSTART;TZID=Europe/Berlin:20261119T160000
DTEND;TZID=Europe/Berlin:20261119T180000
DTSTAMP:20260422T175711
CREATED:20230622T105848Z
LAST-MODIFIED:20230622T110612Z
UID:10002120-1795104000-1795111200@s130056251.online.de
SUMMARY:Graffiti AG
DESCRIPTION:Hier könnt ihr euch mit Sprühdosen an der hauseigenen Graffitiwand ausprobieren.
URL:http://s130056251.online.de/event/graffiti-ag/2026-11-19/
LOCATION:Senfte 10\, Senftenberger Straße 10\, Berlin\, Berlin\, 12627
END:VEVENT
BEGIN:VEVENT
DTSTART;TZID=Europe/Berlin:20261126T160000
DTEND;TZID=Europe/Berlin:20261126T180000
DTSTAMP:20260422T175711
CREATED:20230622T105848Z
LAST-MODIFIED:20230622T110612Z
UID:10002121-1795708800-1795716000@s130056251.online.de
SUMMARY:Graffiti AG
DESCRIPTION:Hier könnt ihr euch mit Sprühdosen an der hauseigenen Graffitiwand ausprobieren.
URL:http://s130056251.online.de/event/graffiti-ag/2026-11-26/
LOCATION:Senfte 10\, Senftenberger Straße 10\, Berlin\, Berlin\, 12627
END:VEVENT
BEGIN:VEVENT
DTSTART;TZID=Europe/Berlin:20261203T160000
DTEND;TZID=Europe/Berlin:20261203T180000
DTSTAMP:20260422T175711
CREATED:20230622T105848Z
LAST-MODIFIED:20230622T110612Z
UID:10002122-1796313600-1796320800@s130056251.online.de
SUMMARY:Graffiti AG
DESCRIPTION:Hier könnt ihr euch mit Sprühdosen an der hauseigenen Graffitiwand ausprobieren.
URL:http://s130056251.online.de/event/graffiti-ag/2026-12-03/
LOCATION:Senfte 10\, Senftenberger Straße 10\, Berlin\, Berlin\, 12627
END:VEVENT
BEGIN:VEVENT
DTSTART;TZID=Europe/Berlin:20261210T160000
DTEND;TZID=Europe/Berlin:20261210T180000
DTSTAMP:20260422T175711
CREATED:20230622T105848Z
LAST-MODIFIED:20230622T110612Z
UID:10002123-1796918400-1796925600@s130056251.online.de
SUMMARY:Graffiti AG
DESCRIPTION:Hier könnt ihr euch mit Sprühdosen an der hauseigenen Graffitiwand ausprobieren.
URL:http://s130056251.online.de/event/graffiti-ag/2026-12-10/
LOCATION:Senfte 10\, Senftenberger Straße 10\, Berlin\, Berlin\, 12627
END:VEVENT
BEGIN:VEVENT
DTSTART;TZID=Europe/Berlin:20261217T160000
DTEND;TZID=Europe/Berlin:20261217T180000
DTSTAMP:20260422T175711
CREATED:20230622T105848Z
LAST-MODIFIED:20230622T110612Z
UID:10002124-1797523200-1797530400@s130056251.online.de
SUMMARY:Graffiti AG
DESCRIPTION:Hier könnt ihr euch mit Sprühdosen an der hauseigenen Graffitiwand ausprobieren.
URL:http://s130056251.online.de/event/graffiti-ag/2026-12-17/
LOCATION:Senfte 10\, Senftenberger Straße 10\, Berlin\, Berlin\, 12627
END:VEVENT
BEGIN:VEVENT
DTSTART;TZID=Europe/Berlin:20261224T160000
DTEND;TZID=Europe/Berlin:20261224T180000
DTSTAMP:20260422T175711
CREATED:20230622T105848Z
LAST-MODIFIED:20230622T110612Z
UID:10002125-1798128000-1798135200@s130056251.online.de
SUMMARY:Graffiti AG
DESCRIPTION:Hier könnt ihr euch mit Sprühdosen an der hauseigenen Graffitiwand ausprobieren.
URL:http://s130056251.online.de/event/graffiti-ag/2026-12-24/
LOCATION:Senfte 10\, Senftenberger Straße 10\, Berlin\, Berlin\, 12627
END:VEVENT
BEGIN:VEVENT
DTSTART;TZID=Europe/Berlin:20261231T160000
DTEND;TZID=Europe/Berlin:20261231T180000
DTSTAMP:20260422T175711
CREATED:20230622T105848Z
LAST-MODIFIED:20230622T110612Z
UID:10002126-1798732800-1798740000@s130056251.online.de
SUMMARY:Graffiti AG
DESCRIPTION:Hier könnt ihr euch mit Sprühdosen an der hauseigenen Graffitiwand ausprobieren.
URL:http://s130056251.online.de/event/graffiti-ag/2026-12-31/
LOCATION:Senfte 10\, Senftenberger Straße 10\, Berlin\, Berlin\, 12627
END:VEVENT
BEGIN:VEVENT
DTSTART;TZID=Europe/Berlin:20270107T160000
DTEND;TZID=Europe/Berlin:20270107T180000
DTSTAMP:20260422T175711
CREATED:20230622T105848Z
LAST-MODIFIED:20230622T110612Z
UID:10002127-1799337600-1799344800@s130056251.online.de
SUMMARY:Graffiti AG
DESCRIPTION:Hier könnt ihr euch mit Sprühdosen an der hauseigenen Graffitiwand ausprobieren.
URL:http://s130056251.online.de/event/graffiti-ag/2027-01-07/
LOCATION:Senfte 10\, Senftenberger Straße 10\, Berlin\, Berlin\, 12627
END:VEVENT
BEGIN:VEVENT
DTSTART;TZID=Europe/Berlin:20270114T160000
DTEND;TZID=Europe/Berlin:20270114T180000
DTSTAMP:20260422T175711
CREATED:20230622T105848Z
LAST-MODIFIED:20230622T110612Z
UID:10002128-1799942400-1799949600@s130056251.online.de
SUMMARY:Graffiti AG
DESCRIPTION:Hier könnt ihr euch mit Sprühdosen an der hauseigenen Graffitiwand ausprobieren.
URL:http://s130056251.online.de/event/graffiti-ag/2027-01-14/
LOCATION:Senfte 10\, Senftenberger Straße 10\, Berlin\, Berlin\, 12627
END:VEVENT
BEGIN:VEVENT
DTSTART;TZID=Europe/Berlin:20270121T160000
DTEND;TZID=Europe/Berlin:20270121T180000
DTSTAMP:20260422T175711
CREATED:20230622T105848Z
LAST-MODIFIED:20230622T110612Z
UID:10002129-1800547200-1800554400@s130056251.online.de
SUMMARY:Graffiti AG
DESCRIPTION:Hier könnt ihr euch mit Sprühdosen an der hauseigenen Graffitiwand ausprobieren.
URL:http://s130056251.online.de/event/graffiti-ag/2027-01-21/
LOCATION:Senfte 10\, Senftenberger Straße 10\, Berlin\, Berlin\, 12627
END:VEVENT
BEGIN:VEVENT
DTSTART;TZID=Europe/Berlin:20270128T160000
DTEND;TZID=Europe/Berlin:20270128T180000
DTSTAMP:20260422T175711
CREATED:20230622T105848Z
LAST-MODIFIED:20230622T110612Z
UID:10002130-1801152000-1801159200@s130056251.online.de
SUMMARY:Graffiti AG
DESCRIPTION:Hier könnt ihr euch mit Sprühdosen an der hauseigenen Graffitiwand ausprobieren.
URL:http://s130056251.online.de/event/graffiti-ag/2027-01-28/
LOCATION:Senfte 10\, Senftenberger Straße 10\, Berlin\, Berlin\, 12627
END:VEVENT
BEGIN:VEVENT
DTSTART;TZID=Europe/Berlin:20270204T160000
DTEND;TZID=Europe/Berlin:20270204T180000
DTSTAMP:20260422T175711
CREATED:20230622T105848Z
LAST-MODIFIED:20230622T110612Z
UID:10002131-1801756800-1801764000@s130056251.online.de
SUMMARY:Graffiti AG
DESCRIPTION:Hier könnt ihr euch mit Sprühdosen an der hauseigenen Graffitiwand ausprobieren.
URL:http://s130056251.online.de/event/graffiti-ag/2027-02-04/
LOCATION:Senfte 10\, Senftenberger Straße 10\, Berlin\, Berlin\, 12627
END:VEVENT
END:VCALENDAR