BEGIN:VCALENDAR
VERSION:2.0
PRODID:-//Was geht in Hellersdorf - ECPv6.1.2.2//NONSGML v1.0//EN
CALSCALE:GREGORIAN
METHOD:PUBLISH
X-WR-CALNAME:Was geht in Hellersdorf
X-ORIGINAL-URL:http://s130056251.online.de
X-WR-CALDESC:Veranstaltungen für Was geht in Hellersdorf
REFRESH-INTERVAL;VALUE=DURATION:PT1H
X-Robots-Tag:noindex
X-PUBLISHED-TTL:PT1H
BEGIN:VTIMEZONE
TZID:Europe/Berlin
BEGIN:DAYLIGHT
TZOFFSETFROM:+0100
TZOFFSETTO:+0200
TZNAME:CEST
DTSTART:20260329T010000
END:DAYLIGHT
BEGIN:STANDARD
TZOFFSETFROM:+0200
TZOFFSETTO:+0100
TZNAME:CET
DTSTART:20261025T010000
END:STANDARD
BEGIN:DAYLIGHT
TZOFFSETFROM:+0100
TZOFFSETTO:+0200
TZNAME:CEST
DTSTART:20270328T010000
END:DAYLIGHT
BEGIN:STANDARD
TZOFFSETFROM:+0200
TZOFFSETTO:+0100
TZNAME:CET
DTSTART:20271031T010000
END:STANDARD
END:VTIMEZONE
BEGIN:VEVENT
DTSTART;TZID=Europe/Berlin:20260721T150000
DTEND;TZID=Europe/Berlin:20260721T170000
DTSTAMP:20260422T175711
CREATED:20240702T134327Z
LAST-MODIFIED:20240702T134327Z
UID:10006846-1784646000-1784653200@s130056251.online.de
SUMMARY:gemeinsames Kochen im Eastend
DESCRIPTION:Wir entscheiden gemeinsam was wir kochen.
URL:http://s130056251.online.de/event/gemeinsames-kochen-im-eastend/2026-07-21/
LOCATION:Eastend-Berlin\, Tangermünder Str. 127\, Berlin\, 12627
ATTACH;FMTTYPE=image/png:http://s130056251.online.de/wp-content/uploads/2024/07/Unbenannt.png
END:VEVENT
BEGIN:VEVENT
DTSTART;TZID=Europe/Berlin:20260728T150000
DTEND;TZID=Europe/Berlin:20260728T170000
DTSTAMP:20260422T175711
CREATED:20240702T134327Z
LAST-MODIFIED:20240702T134327Z
UID:10006847-1785250800-1785258000@s130056251.online.de
SUMMARY:gemeinsames Kochen im Eastend
DESCRIPTION:Wir entscheiden gemeinsam was wir kochen.
URL:http://s130056251.online.de/event/gemeinsames-kochen-im-eastend/2026-07-28/
LOCATION:Eastend-Berlin\, Tangermünder Str. 127\, Berlin\, 12627
ATTACH;FMTTYPE=image/png:http://s130056251.online.de/wp-content/uploads/2024/07/Unbenannt.png
END:VEVENT
BEGIN:VEVENT
DTSTART;TZID=Europe/Berlin:20260804T150000
DTEND;TZID=Europe/Berlin:20260804T170000
DTSTAMP:20260422T175711
CREATED:20240702T134327Z
LAST-MODIFIED:20240702T134327Z
UID:10006848-1785855600-1785862800@s130056251.online.de
SUMMARY:gemeinsames Kochen im Eastend
DESCRIPTION:Wir entscheiden gemeinsam was wir kochen.
URL:http://s130056251.online.de/event/gemeinsames-kochen-im-eastend/2026-08-04/
LOCATION:Eastend-Berlin\, Tangermünder Str. 127\, Berlin\, 12627
ATTACH;FMTTYPE=image/png:http://s130056251.online.de/wp-content/uploads/2024/07/Unbenannt.png
END:VEVENT
BEGIN:VEVENT
DTSTART;TZID=Europe/Berlin:20260811T150000
DTEND;TZID=Europe/Berlin:20260811T170000
DTSTAMP:20260422T175711
CREATED:20240702T134327Z
LAST-MODIFIED:20240702T134327Z
UID:10006849-1786460400-1786467600@s130056251.online.de
SUMMARY:gemeinsames Kochen im Eastend
DESCRIPTION:Wir entscheiden gemeinsam was wir kochen.
URL:http://s130056251.online.de/event/gemeinsames-kochen-im-eastend/2026-08-11/
LOCATION:Eastend-Berlin\, Tangermünder Str. 127\, Berlin\, 12627
ATTACH;FMTTYPE=image/png:http://s130056251.online.de/wp-content/uploads/2024/07/Unbenannt.png
END:VEVENT
BEGIN:VEVENT
DTSTART;TZID=Europe/Berlin:20260818T150000
DTEND;TZID=Europe/Berlin:20260818T170000
DTSTAMP:20260422T175711
CREATED:20240702T134327Z
LAST-MODIFIED:20240702T134327Z
UID:10006850-1787065200-1787072400@s130056251.online.de
SUMMARY:gemeinsames Kochen im Eastend
DESCRIPTION:Wir entscheiden gemeinsam was wir kochen.
URL:http://s130056251.online.de/event/gemeinsames-kochen-im-eastend/2026-08-18/
LOCATION:Eastend-Berlin\, Tangermünder Str. 127\, Berlin\, 12627
ATTACH;FMTTYPE=image/png:http://s130056251.online.de/wp-content/uploads/2024/07/Unbenannt.png
END:VEVENT
BEGIN:VEVENT
DTSTART;TZID=Europe/Berlin:20260825T150000
DTEND;TZID=Europe/Berlin:20260825T170000
DTSTAMP:20260422T175711
CREATED:20240702T134327Z
LAST-MODIFIED:20240702T134327Z
UID:10006851-1787670000-1787677200@s130056251.online.de
SUMMARY:gemeinsames Kochen im Eastend
DESCRIPTION:Wir entscheiden gemeinsam was wir kochen.
URL:http://s130056251.online.de/event/gemeinsames-kochen-im-eastend/2026-08-25/
LOCATION:Eastend-Berlin\, Tangermünder Str. 127\, Berlin\, 12627
ATTACH;FMTTYPE=image/png:http://s130056251.online.de/wp-content/uploads/2024/07/Unbenannt.png
END:VEVENT
BEGIN:VEVENT
DTSTART;TZID=Europe/Berlin:20260901T150000
DTEND;TZID=Europe/Berlin:20260901T170000
DTSTAMP:20260422T175711
CREATED:20240702T134327Z
LAST-MODIFIED:20240702T134327Z
UID:10006852-1788274800-1788282000@s130056251.online.de
SUMMARY:gemeinsames Kochen im Eastend
DESCRIPTION:Wir entscheiden gemeinsam was wir kochen.
URL:http://s130056251.online.de/event/gemeinsames-kochen-im-eastend/2026-09-01/
LOCATION:Eastend-Berlin\, Tangermünder Str. 127\, Berlin\, 12627
ATTACH;FMTTYPE=image/png:http://s130056251.online.de/wp-content/uploads/2024/07/Unbenannt.png
END:VEVENT
BEGIN:VEVENT
DTSTART;TZID=Europe/Berlin:20260908T150000
DTEND;TZID=Europe/Berlin:20260908T170000
DTSTAMP:20260422T175711
CREATED:20240702T134327Z
LAST-MODIFIED:20240702T134327Z
UID:10006853-1788879600-1788886800@s130056251.online.de
SUMMARY:gemeinsames Kochen im Eastend
DESCRIPTION:Wir entscheiden gemeinsam was wir kochen.
URL:http://s130056251.online.de/event/gemeinsames-kochen-im-eastend/2026-09-08/
LOCATION:Eastend-Berlin\, Tangermünder Str. 127\, Berlin\, 12627
ATTACH;FMTTYPE=image/png:http://s130056251.online.de/wp-content/uploads/2024/07/Unbenannt.png
END:VEVENT
BEGIN:VEVENT
DTSTART;TZID=Europe/Berlin:20260915T150000
DTEND;TZID=Europe/Berlin:20260915T170000
DTSTAMP:20260422T175711
CREATED:20240702T134327Z
LAST-MODIFIED:20240702T134327Z
UID:10006854-1789484400-1789491600@s130056251.online.de
SUMMARY:gemeinsames Kochen im Eastend
DESCRIPTION:Wir entscheiden gemeinsam was wir kochen.
URL:http://s130056251.online.de/event/gemeinsames-kochen-im-eastend/2026-09-15/
LOCATION:Eastend-Berlin\, Tangermünder Str. 127\, Berlin\, 12627
ATTACH;FMTTYPE=image/png:http://s130056251.online.de/wp-content/uploads/2024/07/Unbenannt.png
END:VEVENT
BEGIN:VEVENT
DTSTART;TZID=Europe/Berlin:20260922T150000
DTEND;TZID=Europe/Berlin:20260922T170000
DTSTAMP:20260422T175711
CREATED:20240702T134327Z
LAST-MODIFIED:20240702T134327Z
UID:10006855-1790089200-1790096400@s130056251.online.de
SUMMARY:gemeinsames Kochen im Eastend
DESCRIPTION:Wir entscheiden gemeinsam was wir kochen.
URL:http://s130056251.online.de/event/gemeinsames-kochen-im-eastend/2026-09-22/
LOCATION:Eastend-Berlin\, Tangermünder Str. 127\, Berlin\, 12627
ATTACH;FMTTYPE=image/png:http://s130056251.online.de/wp-content/uploads/2024/07/Unbenannt.png
END:VEVENT
BEGIN:VEVENT
DTSTART;TZID=Europe/Berlin:20260929T150000
DTEND;TZID=Europe/Berlin:20260929T170000
DTSTAMP:20260422T175711
CREATED:20240702T134327Z
LAST-MODIFIED:20240702T134327Z
UID:10006856-1790694000-1790701200@s130056251.online.de
SUMMARY:gemeinsames Kochen im Eastend
DESCRIPTION:Wir entscheiden gemeinsam was wir kochen.
URL:http://s130056251.online.de/event/gemeinsames-kochen-im-eastend/2026-09-29/
LOCATION:Eastend-Berlin\, Tangermünder Str. 127\, Berlin\, 12627
ATTACH;FMTTYPE=image/png:http://s130056251.online.de/wp-content/uploads/2024/07/Unbenannt.png
END:VEVENT
BEGIN:VEVENT
DTSTART;TZID=Europe/Berlin:20261006T150000
DTEND;TZID=Europe/Berlin:20261006T170000
DTSTAMP:20260422T175711
CREATED:20240702T134327Z
LAST-MODIFIED:20240702T134327Z
UID:10006857-1791298800-1791306000@s130056251.online.de
SUMMARY:gemeinsames Kochen im Eastend
DESCRIPTION:Wir entscheiden gemeinsam was wir kochen.
URL:http://s130056251.online.de/event/gemeinsames-kochen-im-eastend/2026-10-06/
LOCATION:Eastend-Berlin\, Tangermünder Str. 127\, Berlin\, 12627
ATTACH;FMTTYPE=image/png:http://s130056251.online.de/wp-content/uploads/2024/07/Unbenannt.png
END:VEVENT
BEGIN:VEVENT
DTSTART;TZID=Europe/Berlin:20261013T150000
DTEND;TZID=Europe/Berlin:20261013T170000
DTSTAMP:20260422T175711
CREATED:20240702T134327Z
LAST-MODIFIED:20240702T134327Z
UID:10006858-1791903600-1791910800@s130056251.online.de
SUMMARY:gemeinsames Kochen im Eastend
DESCRIPTION:Wir entscheiden gemeinsam was wir kochen.
URL:http://s130056251.online.de/event/gemeinsames-kochen-im-eastend/2026-10-13/
LOCATION:Eastend-Berlin\, Tangermünder Str. 127\, Berlin\, 12627
ATTACH;FMTTYPE=image/png:http://s130056251.online.de/wp-content/uploads/2024/07/Unbenannt.png
END:VEVENT
BEGIN:VEVENT
DTSTART;TZID=Europe/Berlin:20261020T150000
DTEND;TZID=Europe/Berlin:20261020T170000
DTSTAMP:20260422T175711
CREATED:20240702T134327Z
LAST-MODIFIED:20240702T134327Z
UID:10006859-1792508400-1792515600@s130056251.online.de
SUMMARY:gemeinsames Kochen im Eastend
DESCRIPTION:Wir entscheiden gemeinsam was wir kochen.
URL:http://s130056251.online.de/event/gemeinsames-kochen-im-eastend/2026-10-20/
LOCATION:Eastend-Berlin\, Tangermünder Str. 127\, Berlin\, 12627
ATTACH;FMTTYPE=image/png:http://s130056251.online.de/wp-content/uploads/2024/07/Unbenannt.png
END:VEVENT
BEGIN:VEVENT
DTSTART;TZID=Europe/Berlin:20261027T150000
DTEND;TZID=Europe/Berlin:20261027T170000
DTSTAMP:20260422T175711
CREATED:20240702T134327Z
LAST-MODIFIED:20240702T134327Z
UID:10006860-1793113200-1793120400@s130056251.online.de
SUMMARY:gemeinsames Kochen im Eastend
DESCRIPTION:Wir entscheiden gemeinsam was wir kochen.
URL:http://s130056251.online.de/event/gemeinsames-kochen-im-eastend/2026-10-27/
LOCATION:Eastend-Berlin\, Tangermünder Str. 127\, Berlin\, 12627
ATTACH;FMTTYPE=image/png:http://s130056251.online.de/wp-content/uploads/2024/07/Unbenannt.png
END:VEVENT
BEGIN:VEVENT
DTSTART;TZID=Europe/Berlin:20261103T150000
DTEND;TZID=Europe/Berlin:20261103T170000
DTSTAMP:20260422T175711
CREATED:20240702T134327Z
LAST-MODIFIED:20240702T134327Z
UID:10006861-1793718000-1793725200@s130056251.online.de
SUMMARY:gemeinsames Kochen im Eastend
DESCRIPTION:Wir entscheiden gemeinsam was wir kochen.
URL:http://s130056251.online.de/event/gemeinsames-kochen-im-eastend/2026-11-03/
LOCATION:Eastend-Berlin\, Tangermünder Str. 127\, Berlin\, 12627
ATTACH;FMTTYPE=image/png:http://s130056251.online.de/wp-content/uploads/2024/07/Unbenannt.png
END:VEVENT
BEGIN:VEVENT
DTSTART;TZID=Europe/Berlin:20261110T150000
DTEND;TZID=Europe/Berlin:20261110T170000
DTSTAMP:20260422T175711
CREATED:20240702T134327Z
LAST-MODIFIED:20240702T134327Z
UID:10006862-1794322800-1794330000@s130056251.online.de
SUMMARY:gemeinsames Kochen im Eastend
DESCRIPTION:Wir entscheiden gemeinsam was wir kochen.
URL:http://s130056251.online.de/event/gemeinsames-kochen-im-eastend/2026-11-10/
LOCATION:Eastend-Berlin\, Tangermünder Str. 127\, Berlin\, 12627
ATTACH;FMTTYPE=image/png:http://s130056251.online.de/wp-content/uploads/2024/07/Unbenannt.png
END:VEVENT
BEGIN:VEVENT
DTSTART;TZID=Europe/Berlin:20261117T150000
DTEND;TZID=Europe/Berlin:20261117T170000
DTSTAMP:20260422T175711
CREATED:20240702T134327Z
LAST-MODIFIED:20240702T134327Z
UID:10006863-1794927600-1794934800@s130056251.online.de
SUMMARY:gemeinsames Kochen im Eastend
DESCRIPTION:Wir entscheiden gemeinsam was wir kochen.
URL:http://s130056251.online.de/event/gemeinsames-kochen-im-eastend/2026-11-17/
LOCATION:Eastend-Berlin\, Tangermünder Str. 127\, Berlin\, 12627
ATTACH;FMTTYPE=image/png:http://s130056251.online.de/wp-content/uploads/2024/07/Unbenannt.png
END:VEVENT
BEGIN:VEVENT
DTSTART;TZID=Europe/Berlin:20261124T150000
DTEND;TZID=Europe/Berlin:20261124T170000
DTSTAMP:20260422T175711
CREATED:20240702T134327Z
LAST-MODIFIED:20240702T134327Z
UID:10006864-1795532400-1795539600@s130056251.online.de
SUMMARY:gemeinsames Kochen im Eastend
DESCRIPTION:Wir entscheiden gemeinsam was wir kochen.
URL:http://s130056251.online.de/event/gemeinsames-kochen-im-eastend/2026-11-24/
LOCATION:Eastend-Berlin\, Tangermünder Str. 127\, Berlin\, 12627
ATTACH;FMTTYPE=image/png:http://s130056251.online.de/wp-content/uploads/2024/07/Unbenannt.png
END:VEVENT
BEGIN:VEVENT
DTSTART;TZID=Europe/Berlin:20261201T150000
DTEND;TZID=Europe/Berlin:20261201T170000
DTSTAMP:20260422T175711
CREATED:20240702T134327Z
LAST-MODIFIED:20240702T134327Z
UID:10006865-1796137200-1796144400@s130056251.online.de
SUMMARY:gemeinsames Kochen im Eastend
DESCRIPTION:Wir entscheiden gemeinsam was wir kochen.
URL:http://s130056251.online.de/event/gemeinsames-kochen-im-eastend/2026-12-01/
LOCATION:Eastend-Berlin\, Tangermünder Str. 127\, Berlin\, 12627
ATTACH;FMTTYPE=image/png:http://s130056251.online.de/wp-content/uploads/2024/07/Unbenannt.png
END:VEVENT
BEGIN:VEVENT
DTSTART;TZID=Europe/Berlin:20261208T150000
DTEND;TZID=Europe/Berlin:20261208T170000
DTSTAMP:20260422T175711
CREATED:20240702T134327Z
LAST-MODIFIED:20240702T134327Z
UID:10006866-1796742000-1796749200@s130056251.online.de
SUMMARY:gemeinsames Kochen im Eastend
DESCRIPTION:Wir entscheiden gemeinsam was wir kochen.
URL:http://s130056251.online.de/event/gemeinsames-kochen-im-eastend/2026-12-08/
LOCATION:Eastend-Berlin\, Tangermünder Str. 127\, Berlin\, 12627
ATTACH;FMTTYPE=image/png:http://s130056251.online.de/wp-content/uploads/2024/07/Unbenannt.png
END:VEVENT
BEGIN:VEVENT
DTSTART;TZID=Europe/Berlin:20261215T150000
DTEND;TZID=Europe/Berlin:20261215T170000
DTSTAMP:20260422T175711
CREATED:20240702T134327Z
LAST-MODIFIED:20240702T134327Z
UID:10006867-1797346800-1797354000@s130056251.online.de
SUMMARY:gemeinsames Kochen im Eastend
DESCRIPTION:Wir entscheiden gemeinsam was wir kochen.
URL:http://s130056251.online.de/event/gemeinsames-kochen-im-eastend/2026-12-15/
LOCATION:Eastend-Berlin\, Tangermünder Str. 127\, Berlin\, 12627
ATTACH;FMTTYPE=image/png:http://s130056251.online.de/wp-content/uploads/2024/07/Unbenannt.png
END:VEVENT
BEGIN:VEVENT
DTSTART;TZID=Europe/Berlin:20261222T150000
DTEND;TZID=Europe/Berlin:20261222T170000
DTSTAMP:20260422T175711
CREATED:20240702T134327Z
LAST-MODIFIED:20240702T134327Z
UID:10006868-1797951600-1797958800@s130056251.online.de
SUMMARY:gemeinsames Kochen im Eastend
DESCRIPTION:Wir entscheiden gemeinsam was wir kochen.
URL:http://s130056251.online.de/event/gemeinsames-kochen-im-eastend/2026-12-22/
LOCATION:Eastend-Berlin\, Tangermünder Str. 127\, Berlin\, 12627
ATTACH;FMTTYPE=image/png:http://s130056251.online.de/wp-content/uploads/2024/07/Unbenannt.png
END:VEVENT
BEGIN:VEVENT
DTSTART;TZID=Europe/Berlin:20261229T150000
DTEND;TZID=Europe/Berlin:20261229T170000
DTSTAMP:20260422T175711
CREATED:20240702T134327Z
LAST-MODIFIED:20240702T134327Z
UID:10006869-1798556400-1798563600@s130056251.online.de
SUMMARY:gemeinsames Kochen im Eastend
DESCRIPTION:Wir entscheiden gemeinsam was wir kochen.
URL:http://s130056251.online.de/event/gemeinsames-kochen-im-eastend/2026-12-29/
LOCATION:Eastend-Berlin\, Tangermünder Str. 127\, Berlin\, 12627
ATTACH;FMTTYPE=image/png:http://s130056251.online.de/wp-content/uploads/2024/07/Unbenannt.png
END:VEVENT
BEGIN:VEVENT
DTSTART;TZID=Europe/Berlin:20270105T150000
DTEND;TZID=Europe/Berlin:20270105T170000
DTSTAMP:20260422T175711
CREATED:20240702T134327Z
LAST-MODIFIED:20240702T134327Z
UID:10006870-1799161200-1799168400@s130056251.online.de
SUMMARY:gemeinsames Kochen im Eastend
DESCRIPTION:Wir entscheiden gemeinsam was wir kochen.
URL:http://s130056251.online.de/event/gemeinsames-kochen-im-eastend/2027-01-05/
LOCATION:Eastend-Berlin\, Tangermünder Str. 127\, Berlin\, 12627
ATTACH;FMTTYPE=image/png:http://s130056251.online.de/wp-content/uploads/2024/07/Unbenannt.png
END:VEVENT
BEGIN:VEVENT
DTSTART;TZID=Europe/Berlin:20270112T150000
DTEND;TZID=Europe/Berlin:20270112T170000
DTSTAMP:20260422T175711
CREATED:20240702T134327Z
LAST-MODIFIED:20240702T134327Z
UID:10006871-1799766000-1799773200@s130056251.online.de
SUMMARY:gemeinsames Kochen im Eastend
DESCRIPTION:Wir entscheiden gemeinsam was wir kochen.
URL:http://s130056251.online.de/event/gemeinsames-kochen-im-eastend/2027-01-12/
LOCATION:Eastend-Berlin\, Tangermünder Str. 127\, Berlin\, 12627
ATTACH;FMTTYPE=image/png:http://s130056251.online.de/wp-content/uploads/2024/07/Unbenannt.png
END:VEVENT
BEGIN:VEVENT
DTSTART;TZID=Europe/Berlin:20270119T150000
DTEND;TZID=Europe/Berlin:20270119T170000
DTSTAMP:20260422T175711
CREATED:20240702T134327Z
LAST-MODIFIED:20240702T134327Z
UID:10006872-1800370800-1800378000@s130056251.online.de
SUMMARY:gemeinsames Kochen im Eastend
DESCRIPTION:Wir entscheiden gemeinsam was wir kochen.
URL:http://s130056251.online.de/event/gemeinsames-kochen-im-eastend/2027-01-19/
LOCATION:Eastend-Berlin\, Tangermünder Str. 127\, Berlin\, 12627
ATTACH;FMTTYPE=image/png:http://s130056251.online.de/wp-content/uploads/2024/07/Unbenannt.png
END:VEVENT
BEGIN:VEVENT
DTSTART;TZID=Europe/Berlin:20270126T150000
DTEND;TZID=Europe/Berlin:20270126T170000
DTSTAMP:20260422T175711
CREATED:20240702T134327Z
LAST-MODIFIED:20240702T134327Z
UID:10006873-1800975600-1800982800@s130056251.online.de
SUMMARY:gemeinsames Kochen im Eastend
DESCRIPTION:Wir entscheiden gemeinsam was wir kochen.
URL:http://s130056251.online.de/event/gemeinsames-kochen-im-eastend/2027-01-26/
LOCATION:Eastend-Berlin\, Tangermünder Str. 127\, Berlin\, 12627
ATTACH;FMTTYPE=image/png:http://s130056251.online.de/wp-content/uploads/2024/07/Unbenannt.png
END:VEVENT
BEGIN:VEVENT
DTSTART;TZID=Europe/Berlin:20270202T150000
DTEND;TZID=Europe/Berlin:20270202T170000
DTSTAMP:20260422T175711
CREATED:20240702T134327Z
LAST-MODIFIED:20240702T134327Z
UID:10006874-1801580400-1801587600@s130056251.online.de
SUMMARY:gemeinsames Kochen im Eastend
DESCRIPTION:Wir entscheiden gemeinsam was wir kochen.
URL:http://s130056251.online.de/event/gemeinsames-kochen-im-eastend/2027-02-02/
LOCATION:Eastend-Berlin\, Tangermünder Str. 127\, Berlin\, 12627
ATTACH;FMTTYPE=image/png:http://s130056251.online.de/wp-content/uploads/2024/07/Unbenannt.png
END:VEVENT
BEGIN:VEVENT
DTSTART;TZID=Europe/Berlin:20270209T150000
DTEND;TZID=Europe/Berlin:20270209T170000
DTSTAMP:20260422T175711
CREATED:20240702T134327Z
LAST-MODIFIED:20240702T134327Z
UID:10006875-1802185200-1802192400@s130056251.online.de
SUMMARY:gemeinsames Kochen im Eastend
DESCRIPTION:Wir entscheiden gemeinsam was wir kochen.
URL:http://s130056251.online.de/event/gemeinsames-kochen-im-eastend/2027-02-09/
LOCATION:Eastend-Berlin\, Tangermünder Str. 127\, Berlin\, 12627
ATTACH;FMTTYPE=image/png:http://s130056251.online.de/wp-content/uploads/2024/07/Unbenannt.png
END:VEVENT
END:VCALENDAR