BEGIN:VCALENDAR
VERSION:2.0
PRODID:-//Was geht in Hellersdorf - ECPv6.1.2.2//NONSGML v1.0//EN
CALSCALE:GREGORIAN
METHOD:PUBLISH
X-ORIGINAL-URL:http://s130056251.online.de
X-WR-CALDESC:Veranstaltungen für Was geht in Hellersdorf
REFRESH-INTERVAL;VALUE=DURATION:PT1H
X-Robots-Tag:noindex
X-PUBLISHED-TTL:PT1H
BEGIN:VTIMEZONE
TZID:Europe/Berlin
BEGIN:DAYLIGHT
TZOFFSETFROM:+0100
TZOFFSETTO:+0200
TZNAME:CEST
DTSTART:20260329T010000
END:DAYLIGHT
BEGIN:STANDARD
TZOFFSETFROM:+0200
TZOFFSETTO:+0100
TZNAME:CET
DTSTART:20261025T010000
END:STANDARD
BEGIN:DAYLIGHT
TZOFFSETFROM:+0100
TZOFFSETTO:+0200
TZNAME:CEST
DTSTART:20270328T010000
END:DAYLIGHT
BEGIN:STANDARD
TZOFFSETFROM:+0200
TZOFFSETTO:+0100
TZNAME:CET
DTSTART:20271031T010000
END:STANDARD
END:VTIMEZONE
BEGIN:VEVENT
DTSTART;TZID=Europe/Berlin:20261012T143000
DTEND;TZID=Europe/Berlin:20261012T170000
DTSTAMP:20260424T114902
CREATED:20230621T133703Z
LAST-MODIFIED:20230621T135955Z
UID:10003413-1791815400-1791824400@s130056251.online.de
SUMMARY:Spielenachmittag im CDF Schülerklub
DESCRIPTION:Ihr habt Lust auf Dart\, Billard\, Kicker oder verschiedene Spiele? Dann seit ihr hier genau richtig! An unserem Spielenachmittag laden wir euch herzlich ein mit uns zu spielen. Start ist um 14:30 Uhr. Kommt gerne mit euren Freunden vorbei und verbringt einen schönen Nachmittag im Schülerklub der CDF.
URL:http://s130056251.online.de/event/spielenachmittag-im-cdf-schuelerklub/2026-10-12/
LOCATION:CDF Schülerklub\, Alte Hellersdorfer Straße 7\, Hellersdorf Nord\, 12629
END:VEVENT
BEGIN:VEVENT
DTSTART;TZID=Europe/Berlin:20261019T143000
DTEND;TZID=Europe/Berlin:20261019T170000
DTSTAMP:20260424T114902
CREATED:20230621T133703Z
LAST-MODIFIED:20230621T135955Z
UID:10003414-1792420200-1792429200@s130056251.online.de
SUMMARY:Spielenachmittag im CDF Schülerklub
DESCRIPTION:Ihr habt Lust auf Dart\, Billard\, Kicker oder verschiedene Spiele? Dann seit ihr hier genau richtig! An unserem Spielenachmittag laden wir euch herzlich ein mit uns zu spielen. Start ist um 14:30 Uhr. Kommt gerne mit euren Freunden vorbei und verbringt einen schönen Nachmittag im Schülerklub der CDF.
URL:http://s130056251.online.de/event/spielenachmittag-im-cdf-schuelerklub/2026-10-19/
LOCATION:CDF Schülerklub\, Alte Hellersdorfer Straße 7\, Hellersdorf Nord\, 12629
END:VEVENT
BEGIN:VEVENT
DTSTART;TZID=Europe/Berlin:20261026T143000
DTEND;TZID=Europe/Berlin:20261026T170000
DTSTAMP:20260424T114902
CREATED:20230621T133703Z
LAST-MODIFIED:20230621T135955Z
UID:10003415-1793025000-1793034000@s130056251.online.de
SUMMARY:Spielenachmittag im CDF Schülerklub
DESCRIPTION:Ihr habt Lust auf Dart\, Billard\, Kicker oder verschiedene Spiele? Dann seit ihr hier genau richtig! An unserem Spielenachmittag laden wir euch herzlich ein mit uns zu spielen. Start ist um 14:30 Uhr. Kommt gerne mit euren Freunden vorbei und verbringt einen schönen Nachmittag im Schülerklub der CDF.
URL:http://s130056251.online.de/event/spielenachmittag-im-cdf-schuelerklub/2026-10-26/
LOCATION:CDF Schülerklub\, Alte Hellersdorfer Straße 7\, Hellersdorf Nord\, 12629
END:VEVENT
BEGIN:VEVENT
DTSTART;TZID=Europe/Berlin:20261102T143000
DTEND;TZID=Europe/Berlin:20261102T170000
DTSTAMP:20260424T114902
CREATED:20230621T133703Z
LAST-MODIFIED:20230621T135955Z
UID:10003416-1793629800-1793638800@s130056251.online.de
SUMMARY:Spielenachmittag im CDF Schülerklub
DESCRIPTION:Ihr habt Lust auf Dart\, Billard\, Kicker oder verschiedene Spiele? Dann seit ihr hier genau richtig! An unserem Spielenachmittag laden wir euch herzlich ein mit uns zu spielen. Start ist um 14:30 Uhr. Kommt gerne mit euren Freunden vorbei und verbringt einen schönen Nachmittag im Schülerklub der CDF.
URL:http://s130056251.online.de/event/spielenachmittag-im-cdf-schuelerklub/2026-11-02/
LOCATION:CDF Schülerklub\, Alte Hellersdorfer Straße 7\, Hellersdorf Nord\, 12629
END:VEVENT
BEGIN:VEVENT
DTSTART;TZID=Europe/Berlin:20261109T143000
DTEND;TZID=Europe/Berlin:20261109T170000
DTSTAMP:20260424T114902
CREATED:20230621T133703Z
LAST-MODIFIED:20230621T135955Z
UID:10003417-1794234600-1794243600@s130056251.online.de
SUMMARY:Spielenachmittag im CDF Schülerklub
DESCRIPTION:Ihr habt Lust auf Dart\, Billard\, Kicker oder verschiedene Spiele? Dann seit ihr hier genau richtig! An unserem Spielenachmittag laden wir euch herzlich ein mit uns zu spielen. Start ist um 14:30 Uhr. Kommt gerne mit euren Freunden vorbei und verbringt einen schönen Nachmittag im Schülerklub der CDF.
URL:http://s130056251.online.de/event/spielenachmittag-im-cdf-schuelerklub/2026-11-09/
LOCATION:CDF Schülerklub\, Alte Hellersdorfer Straße 7\, Hellersdorf Nord\, 12629
END:VEVENT
BEGIN:VEVENT
DTSTART;TZID=Europe/Berlin:20261116T143000
DTEND;TZID=Europe/Berlin:20261116T170000
DTSTAMP:20260424T114902
CREATED:20230621T133703Z
LAST-MODIFIED:20230621T135955Z
UID:10003418-1794839400-1794848400@s130056251.online.de
SUMMARY:Spielenachmittag im CDF Schülerklub
DESCRIPTION:Ihr habt Lust auf Dart\, Billard\, Kicker oder verschiedene Spiele? Dann seit ihr hier genau richtig! An unserem Spielenachmittag laden wir euch herzlich ein mit uns zu spielen. Start ist um 14:30 Uhr. Kommt gerne mit euren Freunden vorbei und verbringt einen schönen Nachmittag im Schülerklub der CDF.
URL:http://s130056251.online.de/event/spielenachmittag-im-cdf-schuelerklub/2026-11-16/
LOCATION:CDF Schülerklub\, Alte Hellersdorfer Straße 7\, Hellersdorf Nord\, 12629
END:VEVENT
BEGIN:VEVENT
DTSTART;TZID=Europe/Berlin:20261123T143000
DTEND;TZID=Europe/Berlin:20261123T170000
DTSTAMP:20260424T114902
CREATED:20230621T133703Z
LAST-MODIFIED:20230621T135955Z
UID:10003419-1795444200-1795453200@s130056251.online.de
SUMMARY:Spielenachmittag im CDF Schülerklub
DESCRIPTION:Ihr habt Lust auf Dart\, Billard\, Kicker oder verschiedene Spiele? Dann seit ihr hier genau richtig! An unserem Spielenachmittag laden wir euch herzlich ein mit uns zu spielen. Start ist um 14:30 Uhr. Kommt gerne mit euren Freunden vorbei und verbringt einen schönen Nachmittag im Schülerklub der CDF.
URL:http://s130056251.online.de/event/spielenachmittag-im-cdf-schuelerklub/2026-11-23/
LOCATION:CDF Schülerklub\, Alte Hellersdorfer Straße 7\, Hellersdorf Nord\, 12629
END:VEVENT
BEGIN:VEVENT
DTSTART;TZID=Europe/Berlin:20261130T143000
DTEND;TZID=Europe/Berlin:20261130T170000
DTSTAMP:20260424T114902
CREATED:20230621T133703Z
LAST-MODIFIED:20230621T135955Z
UID:10003420-1796049000-1796058000@s130056251.online.de
SUMMARY:Spielenachmittag im CDF Schülerklub
DESCRIPTION:Ihr habt Lust auf Dart\, Billard\, Kicker oder verschiedene Spiele? Dann seit ihr hier genau richtig! An unserem Spielenachmittag laden wir euch herzlich ein mit uns zu spielen. Start ist um 14:30 Uhr. Kommt gerne mit euren Freunden vorbei und verbringt einen schönen Nachmittag im Schülerklub der CDF.
URL:http://s130056251.online.de/event/spielenachmittag-im-cdf-schuelerklub/2026-11-30/
LOCATION:CDF Schülerklub\, Alte Hellersdorfer Straße 7\, Hellersdorf Nord\, 12629
END:VEVENT
BEGIN:VEVENT
DTSTART;TZID=Europe/Berlin:20261207T143000
DTEND;TZID=Europe/Berlin:20261207T170000
DTSTAMP:20260424T114902
CREATED:20230621T133703Z
LAST-MODIFIED:20230621T135955Z
UID:10003421-1796653800-1796662800@s130056251.online.de
SUMMARY:Spielenachmittag im CDF Schülerklub
DESCRIPTION:Ihr habt Lust auf Dart\, Billard\, Kicker oder verschiedene Spiele? Dann seit ihr hier genau richtig! An unserem Spielenachmittag laden wir euch herzlich ein mit uns zu spielen. Start ist um 14:30 Uhr. Kommt gerne mit euren Freunden vorbei und verbringt einen schönen Nachmittag im Schülerklub der CDF.
URL:http://s130056251.online.de/event/spielenachmittag-im-cdf-schuelerklub/2026-12-07/
LOCATION:CDF Schülerklub\, Alte Hellersdorfer Straße 7\, Hellersdorf Nord\, 12629
END:VEVENT
BEGIN:VEVENT
DTSTART;TZID=Europe/Berlin:20261214T143000
DTEND;TZID=Europe/Berlin:20261214T170000
DTSTAMP:20260424T114902
CREATED:20230621T133703Z
LAST-MODIFIED:20230621T135955Z
UID:10003422-1797258600-1797267600@s130056251.online.de
SUMMARY:Spielenachmittag im CDF Schülerklub
DESCRIPTION:Ihr habt Lust auf Dart\, Billard\, Kicker oder verschiedene Spiele? Dann seit ihr hier genau richtig! An unserem Spielenachmittag laden wir euch herzlich ein mit uns zu spielen. Start ist um 14:30 Uhr. Kommt gerne mit euren Freunden vorbei und verbringt einen schönen Nachmittag im Schülerklub der CDF.
URL:http://s130056251.online.de/event/spielenachmittag-im-cdf-schuelerklub/2026-12-14/
LOCATION:CDF Schülerklub\, Alte Hellersdorfer Straße 7\, Hellersdorf Nord\, 12629
END:VEVENT
BEGIN:VEVENT
DTSTART;TZID=Europe/Berlin:20261221T143000
DTEND;TZID=Europe/Berlin:20261221T170000
DTSTAMP:20260424T114902
CREATED:20230621T133703Z
LAST-MODIFIED:20230621T135955Z
UID:10003423-1797863400-1797872400@s130056251.online.de
SUMMARY:Spielenachmittag im CDF Schülerklub
DESCRIPTION:Ihr habt Lust auf Dart\, Billard\, Kicker oder verschiedene Spiele? Dann seit ihr hier genau richtig! An unserem Spielenachmittag laden wir euch herzlich ein mit uns zu spielen. Start ist um 14:30 Uhr. Kommt gerne mit euren Freunden vorbei und verbringt einen schönen Nachmittag im Schülerklub der CDF.
URL:http://s130056251.online.de/event/spielenachmittag-im-cdf-schuelerklub/2026-12-21/
LOCATION:CDF Schülerklub\, Alte Hellersdorfer Straße 7\, Hellersdorf Nord\, 12629
END:VEVENT
BEGIN:VEVENT
DTSTART;TZID=Europe/Berlin:20261228T143000
DTEND;TZID=Europe/Berlin:20261228T170000
DTSTAMP:20260424T114902
CREATED:20230621T133703Z
LAST-MODIFIED:20230621T135955Z
UID:10003424-1798468200-1798477200@s130056251.online.de
SUMMARY:Spielenachmittag im CDF Schülerklub
DESCRIPTION:Ihr habt Lust auf Dart\, Billard\, Kicker oder verschiedene Spiele? Dann seit ihr hier genau richtig! An unserem Spielenachmittag laden wir euch herzlich ein mit uns zu spielen. Start ist um 14:30 Uhr. Kommt gerne mit euren Freunden vorbei und verbringt einen schönen Nachmittag im Schülerklub der CDF.
URL:http://s130056251.online.de/event/spielenachmittag-im-cdf-schuelerklub/2026-12-28/
LOCATION:CDF Schülerklub\, Alte Hellersdorfer Straße 7\, Hellersdorf Nord\, 12629
END:VEVENT
BEGIN:VEVENT
DTSTART;TZID=Europe/Berlin:20270104T143000
DTEND;TZID=Europe/Berlin:20270104T170000
DTSTAMP:20260424T114902
CREATED:20230621T133703Z
LAST-MODIFIED:20230621T135955Z
UID:10003425-1799073000-1799082000@s130056251.online.de
SUMMARY:Spielenachmittag im CDF Schülerklub
DESCRIPTION:Ihr habt Lust auf Dart\, Billard\, Kicker oder verschiedene Spiele? Dann seit ihr hier genau richtig! An unserem Spielenachmittag laden wir euch herzlich ein mit uns zu spielen. Start ist um 14:30 Uhr. Kommt gerne mit euren Freunden vorbei und verbringt einen schönen Nachmittag im Schülerklub der CDF.
URL:http://s130056251.online.de/event/spielenachmittag-im-cdf-schuelerklub/2027-01-04/
LOCATION:CDF Schülerklub\, Alte Hellersdorfer Straße 7\, Hellersdorf Nord\, 12629
END:VEVENT
BEGIN:VEVENT
DTSTART;TZID=Europe/Berlin:20270111T143000
DTEND;TZID=Europe/Berlin:20270111T170000
DTSTAMP:20260424T114902
CREATED:20230621T133703Z
LAST-MODIFIED:20230621T135955Z
UID:10003426-1799677800-1799686800@s130056251.online.de
SUMMARY:Spielenachmittag im CDF Schülerklub
DESCRIPTION:Ihr habt Lust auf Dart\, Billard\, Kicker oder verschiedene Spiele? Dann seit ihr hier genau richtig! An unserem Spielenachmittag laden wir euch herzlich ein mit uns zu spielen. Start ist um 14:30 Uhr. Kommt gerne mit euren Freunden vorbei und verbringt einen schönen Nachmittag im Schülerklub der CDF.
URL:http://s130056251.online.de/event/spielenachmittag-im-cdf-schuelerklub/2027-01-11/
LOCATION:CDF Schülerklub\, Alte Hellersdorfer Straße 7\, Hellersdorf Nord\, 12629
END:VEVENT
BEGIN:VEVENT
DTSTART;TZID=Europe/Berlin:20270118T143000
DTEND;TZID=Europe/Berlin:20270118T170000
DTSTAMP:20260424T114902
CREATED:20230621T133703Z
LAST-MODIFIED:20230621T135955Z
UID:10003427-1800282600-1800291600@s130056251.online.de
SUMMARY:Spielenachmittag im CDF Schülerklub
DESCRIPTION:Ihr habt Lust auf Dart\, Billard\, Kicker oder verschiedene Spiele? Dann seit ihr hier genau richtig! An unserem Spielenachmittag laden wir euch herzlich ein mit uns zu spielen. Start ist um 14:30 Uhr. Kommt gerne mit euren Freunden vorbei und verbringt einen schönen Nachmittag im Schülerklub der CDF.
URL:http://s130056251.online.de/event/spielenachmittag-im-cdf-schuelerklub/2027-01-18/
LOCATION:CDF Schülerklub\, Alte Hellersdorfer Straße 7\, Hellersdorf Nord\, 12629
END:VEVENT
BEGIN:VEVENT
DTSTART;TZID=Europe/Berlin:20270125T143000
DTEND;TZID=Europe/Berlin:20270125T170000
DTSTAMP:20260424T114902
CREATED:20230621T133703Z
LAST-MODIFIED:20230621T135955Z
UID:10003428-1800887400-1800896400@s130056251.online.de
SUMMARY:Spielenachmittag im CDF Schülerklub
DESCRIPTION:Ihr habt Lust auf Dart\, Billard\, Kicker oder verschiedene Spiele? Dann seit ihr hier genau richtig! An unserem Spielenachmittag laden wir euch herzlich ein mit uns zu spielen. Start ist um 14:30 Uhr. Kommt gerne mit euren Freunden vorbei und verbringt einen schönen Nachmittag im Schülerklub der CDF.
URL:http://s130056251.online.de/event/spielenachmittag-im-cdf-schuelerklub/2027-01-25/
LOCATION:CDF Schülerklub\, Alte Hellersdorfer Straße 7\, Hellersdorf Nord\, 12629
END:VEVENT
BEGIN:VEVENT
DTSTART;TZID=Europe/Berlin:20270201T143000
DTEND;TZID=Europe/Berlin:20270201T170000
DTSTAMP:20260424T114902
CREATED:20230621T133703Z
LAST-MODIFIED:20230621T135955Z
UID:10003429-1801492200-1801501200@s130056251.online.de
SUMMARY:Spielenachmittag im CDF Schülerklub
DESCRIPTION:Ihr habt Lust auf Dart\, Billard\, Kicker oder verschiedene Spiele? Dann seit ihr hier genau richtig! An unserem Spielenachmittag laden wir euch herzlich ein mit uns zu spielen. Start ist um 14:30 Uhr. Kommt gerne mit euren Freunden vorbei und verbringt einen schönen Nachmittag im Schülerklub der CDF.
URL:http://s130056251.online.de/event/spielenachmittag-im-cdf-schuelerklub/2027-02-01/
LOCATION:CDF Schülerklub\, Alte Hellersdorfer Straße 7\, Hellersdorf Nord\, 12629
END:VEVENT
BEGIN:VEVENT
DTSTART;TZID=Europe/Berlin:20270208T143000
DTEND;TZID=Europe/Berlin:20270208T170000
DTSTAMP:20260424T114902
CREATED:20230621T133703Z
LAST-MODIFIED:20230621T135955Z
UID:10003430-1802097000-1802106000@s130056251.online.de
SUMMARY:Spielenachmittag im CDF Schülerklub
DESCRIPTION:Ihr habt Lust auf Dart\, Billard\, Kicker oder verschiedene Spiele? Dann seit ihr hier genau richtig! An unserem Spielenachmittag laden wir euch herzlich ein mit uns zu spielen. Start ist um 14:30 Uhr. Kommt gerne mit euren Freunden vorbei und verbringt einen schönen Nachmittag im Schülerklub der CDF.
URL:http://s130056251.online.de/event/spielenachmittag-im-cdf-schuelerklub/2027-02-08/
LOCATION:CDF Schülerklub\, Alte Hellersdorfer Straße 7\, Hellersdorf Nord\, 12629
END:VEVENT
BEGIN:VEVENT
DTSTART;TZID=Europe/Berlin:20270215T143000
DTEND;TZID=Europe/Berlin:20270215T170000
DTSTAMP:20260424T114902
CREATED:20230621T133703Z
LAST-MODIFIED:20230621T135955Z
UID:10003431-1802701800-1802710800@s130056251.online.de
SUMMARY:Spielenachmittag im CDF Schülerklub
DESCRIPTION:Ihr habt Lust auf Dart\, Billard\, Kicker oder verschiedene Spiele? Dann seit ihr hier genau richtig! An unserem Spielenachmittag laden wir euch herzlich ein mit uns zu spielen. Start ist um 14:30 Uhr. Kommt gerne mit euren Freunden vorbei und verbringt einen schönen Nachmittag im Schülerklub der CDF.
URL:http://s130056251.online.de/event/spielenachmittag-im-cdf-schuelerklub/2027-02-15/
LOCATION:CDF Schülerklub\, Alte Hellersdorfer Straße 7\, Hellersdorf Nord\, 12629
END:VEVENT
BEGIN:VEVENT
DTSTART;TZID=Europe/Berlin:20270222T143000
DTEND;TZID=Europe/Berlin:20270222T170000
DTSTAMP:20260424T114902
CREATED:20230621T133703Z
LAST-MODIFIED:20230621T135955Z
UID:10003432-1803306600-1803315600@s130056251.online.de
SUMMARY:Spielenachmittag im CDF Schülerklub
DESCRIPTION:Ihr habt Lust auf Dart\, Billard\, Kicker oder verschiedene Spiele? Dann seit ihr hier genau richtig! An unserem Spielenachmittag laden wir euch herzlich ein mit uns zu spielen. Start ist um 14:30 Uhr. Kommt gerne mit euren Freunden vorbei und verbringt einen schönen Nachmittag im Schülerklub der CDF.
URL:http://s130056251.online.de/event/spielenachmittag-im-cdf-schuelerklub/2027-02-22/
LOCATION:CDF Schülerklub\, Alte Hellersdorfer Straße 7\, Hellersdorf Nord\, 12629
END:VEVENT
BEGIN:VEVENT
DTSTART;TZID=Europe/Berlin:20270301T143000
DTEND;TZID=Europe/Berlin:20270301T170000
DTSTAMP:20260424T114902
CREATED:20230621T133703Z
LAST-MODIFIED:20230621T135955Z
UID:10003433-1803911400-1803920400@s130056251.online.de
SUMMARY:Spielenachmittag im CDF Schülerklub
DESCRIPTION:Ihr habt Lust auf Dart\, Billard\, Kicker oder verschiedene Spiele? Dann seit ihr hier genau richtig! An unserem Spielenachmittag laden wir euch herzlich ein mit uns zu spielen. Start ist um 14:30 Uhr. Kommt gerne mit euren Freunden vorbei und verbringt einen schönen Nachmittag im Schülerklub der CDF.
URL:http://s130056251.online.de/event/spielenachmittag-im-cdf-schuelerklub/2027-03-01/
LOCATION:CDF Schülerklub\, Alte Hellersdorfer Straße 7\, Hellersdorf Nord\, 12629
END:VEVENT
BEGIN:VEVENT
DTSTART;TZID=Europe/Berlin:20270308T143000
DTEND;TZID=Europe/Berlin:20270308T170000
DTSTAMP:20260424T114902
CREATED:20230621T133703Z
LAST-MODIFIED:20230621T135955Z
UID:10003434-1804516200-1804525200@s130056251.online.de
SUMMARY:Spielenachmittag im CDF Schülerklub
DESCRIPTION:Ihr habt Lust auf Dart\, Billard\, Kicker oder verschiedene Spiele? Dann seit ihr hier genau richtig! An unserem Spielenachmittag laden wir euch herzlich ein mit uns zu spielen. Start ist um 14:30 Uhr. Kommt gerne mit euren Freunden vorbei und verbringt einen schönen Nachmittag im Schülerklub der CDF.
URL:http://s130056251.online.de/event/spielenachmittag-im-cdf-schuelerklub/2027-03-08/
LOCATION:CDF Schülerklub\, Alte Hellersdorfer Straße 7\, Hellersdorf Nord\, 12629
END:VEVENT
BEGIN:VEVENT
DTSTART;TZID=Europe/Berlin:20270315T143000
DTEND;TZID=Europe/Berlin:20270315T170000
DTSTAMP:20260424T114902
CREATED:20230621T133703Z
LAST-MODIFIED:20230621T135955Z
UID:10003435-1805121000-1805130000@s130056251.online.de
SUMMARY:Spielenachmittag im CDF Schülerklub
DESCRIPTION:Ihr habt Lust auf Dart\, Billard\, Kicker oder verschiedene Spiele? Dann seit ihr hier genau richtig! An unserem Spielenachmittag laden wir euch herzlich ein mit uns zu spielen. Start ist um 14:30 Uhr. Kommt gerne mit euren Freunden vorbei und verbringt einen schönen Nachmittag im Schülerklub der CDF.
URL:http://s130056251.online.de/event/spielenachmittag-im-cdf-schuelerklub/2027-03-15/
LOCATION:CDF Schülerklub\, Alte Hellersdorfer Straße 7\, Hellersdorf Nord\, 12629
END:VEVENT
BEGIN:VEVENT
DTSTART;TZID=Europe/Berlin:20270322T143000
DTEND;TZID=Europe/Berlin:20270322T170000
DTSTAMP:20260424T114902
CREATED:20230621T133703Z
LAST-MODIFIED:20230621T135955Z
UID:10003436-1805725800-1805734800@s130056251.online.de
SUMMARY:Spielenachmittag im CDF Schülerklub
DESCRIPTION:Ihr habt Lust auf Dart\, Billard\, Kicker oder verschiedene Spiele? Dann seit ihr hier genau richtig! An unserem Spielenachmittag laden wir euch herzlich ein mit uns zu spielen. Start ist um 14:30 Uhr. Kommt gerne mit euren Freunden vorbei und verbringt einen schönen Nachmittag im Schülerklub der CDF.
URL:http://s130056251.online.de/event/spielenachmittag-im-cdf-schuelerklub/2027-03-22/
LOCATION:CDF Schülerklub\, Alte Hellersdorfer Straße 7\, Hellersdorf Nord\, 12629
END:VEVENT
BEGIN:VEVENT
DTSTART;TZID=Europe/Berlin:20270329T143000
DTEND;TZID=Europe/Berlin:20270329T170000
DTSTAMP:20260424T114902
CREATED:20230621T133703Z
LAST-MODIFIED:20230621T135955Z
UID:10003437-1806330600-1806339600@s130056251.online.de
SUMMARY:Spielenachmittag im CDF Schülerklub
DESCRIPTION:Ihr habt Lust auf Dart\, Billard\, Kicker oder verschiedene Spiele? Dann seit ihr hier genau richtig! An unserem Spielenachmittag laden wir euch herzlich ein mit uns zu spielen. Start ist um 14:30 Uhr. Kommt gerne mit euren Freunden vorbei und verbringt einen schönen Nachmittag im Schülerklub der CDF.
URL:http://s130056251.online.de/event/spielenachmittag-im-cdf-schuelerklub/2027-03-29/
LOCATION:CDF Schülerklub\, Alte Hellersdorfer Straße 7\, Hellersdorf Nord\, 12629
END:VEVENT
BEGIN:VEVENT
DTSTART;TZID=Europe/Berlin:20270405T143000
DTEND;TZID=Europe/Berlin:20270405T170000
DTSTAMP:20260424T114902
CREATED:20230621T133703Z
LAST-MODIFIED:20230621T135955Z
UID:10003438-1806935400-1806944400@s130056251.online.de
SUMMARY:Spielenachmittag im CDF Schülerklub
DESCRIPTION:Ihr habt Lust auf Dart\, Billard\, Kicker oder verschiedene Spiele? Dann seit ihr hier genau richtig! An unserem Spielenachmittag laden wir euch herzlich ein mit uns zu spielen. Start ist um 14:30 Uhr. Kommt gerne mit euren Freunden vorbei und verbringt einen schönen Nachmittag im Schülerklub der CDF.
URL:http://s130056251.online.de/event/spielenachmittag-im-cdf-schuelerklub/2027-04-05/
LOCATION:CDF Schülerklub\, Alte Hellersdorfer Straße 7\, Hellersdorf Nord\, 12629
END:VEVENT
BEGIN:VEVENT
DTSTART;TZID=Europe/Berlin:20270412T143000
DTEND;TZID=Europe/Berlin:20270412T170000
DTSTAMP:20260424T114902
CREATED:20230621T133703Z
LAST-MODIFIED:20230621T135955Z
UID:10003439-1807540200-1807549200@s130056251.online.de
SUMMARY:Spielenachmittag im CDF Schülerklub
DESCRIPTION:Ihr habt Lust auf Dart\, Billard\, Kicker oder verschiedene Spiele? Dann seit ihr hier genau richtig! An unserem Spielenachmittag laden wir euch herzlich ein mit uns zu spielen. Start ist um 14:30 Uhr. Kommt gerne mit euren Freunden vorbei und verbringt einen schönen Nachmittag im Schülerklub der CDF.
URL:http://s130056251.online.de/event/spielenachmittag-im-cdf-schuelerklub/2027-04-12/
LOCATION:CDF Schülerklub\, Alte Hellersdorfer Straße 7\, Hellersdorf Nord\, 12629
END:VEVENT
BEGIN:VEVENT
DTSTART;TZID=Europe/Berlin:20270419T143000
DTEND;TZID=Europe/Berlin:20270419T170000
DTSTAMP:20260424T114902
CREATED:20230621T133703Z
LAST-MODIFIED:20230621T135955Z
UID:10003440-1808145000-1808154000@s130056251.online.de
SUMMARY:Spielenachmittag im CDF Schülerklub
DESCRIPTION:Ihr habt Lust auf Dart\, Billard\, Kicker oder verschiedene Spiele? Dann seit ihr hier genau richtig! An unserem Spielenachmittag laden wir euch herzlich ein mit uns zu spielen. Start ist um 14:30 Uhr. Kommt gerne mit euren Freunden vorbei und verbringt einen schönen Nachmittag im Schülerklub der CDF.
URL:http://s130056251.online.de/event/spielenachmittag-im-cdf-schuelerklub/2027-04-19/
LOCATION:CDF Schülerklub\, Alte Hellersdorfer Straße 7\, Hellersdorf Nord\, 12629
END:VEVENT
BEGIN:VEVENT
DTSTART;TZID=Europe/Berlin:20270426T143000
DTEND;TZID=Europe/Berlin:20270426T170000
DTSTAMP:20260424T114902
CREATED:20230621T133703Z
LAST-MODIFIED:20230621T135955Z
UID:10003441-1808749800-1808758800@s130056251.online.de
SUMMARY:Spielenachmittag im CDF Schülerklub
DESCRIPTION:Ihr habt Lust auf Dart\, Billard\, Kicker oder verschiedene Spiele? Dann seit ihr hier genau richtig! An unserem Spielenachmittag laden wir euch herzlich ein mit uns zu spielen. Start ist um 14:30 Uhr. Kommt gerne mit euren Freunden vorbei und verbringt einen schönen Nachmittag im Schülerklub der CDF.
URL:http://s130056251.online.de/event/spielenachmittag-im-cdf-schuelerklub/2027-04-26/
LOCATION:CDF Schülerklub\, Alte Hellersdorfer Straße 7\, Hellersdorf Nord\, 12629
END:VEVENT
BEGIN:VEVENT
DTSTART;TZID=Europe/Berlin:20270503T143000
DTEND;TZID=Europe/Berlin:20270503T170000
DTSTAMP:20260424T114902
CREATED:20230621T133703Z
LAST-MODIFIED:20230621T135955Z
UID:10003442-1809354600-1809363600@s130056251.online.de
SUMMARY:Spielenachmittag im CDF Schülerklub
DESCRIPTION:Ihr habt Lust auf Dart\, Billard\, Kicker oder verschiedene Spiele? Dann seit ihr hier genau richtig! An unserem Spielenachmittag laden wir euch herzlich ein mit uns zu spielen. Start ist um 14:30 Uhr. Kommt gerne mit euren Freunden vorbei und verbringt einen schönen Nachmittag im Schülerklub der CDF.
URL:http://s130056251.online.de/event/spielenachmittag-im-cdf-schuelerklub/2027-05-03/
LOCATION:CDF Schülerklub\, Alte Hellersdorfer Straße 7\, Hellersdorf Nord\, 12629
END:VEVENT
END:VCALENDAR