BEGIN:VCALENDAR
VERSION:2.0
PRODID:-//Was geht in Hellersdorf - ECPv6.1.2.2//NONSGML v1.0//EN
CALSCALE:GREGORIAN
METHOD:PUBLISH
X-ORIGINAL-URL:http://s130056251.online.de
X-WR-CALDESC:Veranstaltungen für Was geht in Hellersdorf
REFRESH-INTERVAL;VALUE=DURATION:PT1H
X-Robots-Tag:noindex
X-PUBLISHED-TTL:PT1H
BEGIN:VTIMEZONE
TZID:Europe/Berlin
BEGIN:DAYLIGHT
TZOFFSETFROM:+0100
TZOFFSETTO:+0200
TZNAME:CEST
DTSTART:20260329T010000
END:DAYLIGHT
BEGIN:STANDARD
TZOFFSETFROM:+0200
TZOFFSETTO:+0100
TZNAME:CET
DTSTART:20261025T010000
END:STANDARD
BEGIN:DAYLIGHT
TZOFFSETFROM:+0100
TZOFFSETTO:+0200
TZNAME:CEST
DTSTART:20270328T010000
END:DAYLIGHT
BEGIN:STANDARD
TZOFFSETFROM:+0200
TZOFFSETTO:+0100
TZNAME:CET
DTSTART:20271031T010000
END:STANDARD
END:VTIMEZONE
BEGIN:VEVENT
DTSTART;TZID=Europe/Berlin:20261007T143000
DTEND;TZID=Europe/Berlin:20261007T170000
DTSTAMP:20260422T162321
CREATED:20230621T134742Z
LAST-MODIFIED:20230621T135835Z
UID:10003152-1791383400-1791392400@s130056251.online.de
SUMMARY:Filmnachmittag im CDF Schülerklub
DESCRIPTION:Lust gemeinsam Filme zu schauen? Dann komm doch einfach mal vorbei! Einmal die Woche veranstaltet der CDF Schülerklub einen Filmnachmittag\, hier können gemeinsam Filme geschaut werden und auch darüber geredet werden! Die Filme wechseln jede Woche und du kannst auch eigene Filmideen vorschlagen! Interessiert? Dann freuen wir uns dich und deine Freunde im CDF Schülerklub zum Filmnachmittag begrüßen zu dürfen!
URL:http://s130056251.online.de/event/filmnachmittag-im-cdf-schuelerklub/2026-10-07/
LOCATION:CDF Schülerklub\, Alte Hellersdorfer Straße 7\, Hellersdorf Nord\, 12629
END:VEVENT
BEGIN:VEVENT
DTSTART;TZID=Europe/Berlin:20261014T143000
DTEND;TZID=Europe/Berlin:20261014T170000
DTSTAMP:20260422T162321
CREATED:20230621T134742Z
LAST-MODIFIED:20230621T135835Z
UID:10003153-1791988200-1791997200@s130056251.online.de
SUMMARY:Filmnachmittag im CDF Schülerklub
DESCRIPTION:Lust gemeinsam Filme zu schauen? Dann komm doch einfach mal vorbei! Einmal die Woche veranstaltet der CDF Schülerklub einen Filmnachmittag\, hier können gemeinsam Filme geschaut werden und auch darüber geredet werden! Die Filme wechseln jede Woche und du kannst auch eigene Filmideen vorschlagen! Interessiert? Dann freuen wir uns dich und deine Freunde im CDF Schülerklub zum Filmnachmittag begrüßen zu dürfen!
URL:http://s130056251.online.de/event/filmnachmittag-im-cdf-schuelerklub/2026-10-14/
LOCATION:CDF Schülerklub\, Alte Hellersdorfer Straße 7\, Hellersdorf Nord\, 12629
END:VEVENT
BEGIN:VEVENT
DTSTART;TZID=Europe/Berlin:20261021T143000
DTEND;TZID=Europe/Berlin:20261021T170000
DTSTAMP:20260422T162321
CREATED:20230621T134742Z
LAST-MODIFIED:20230621T135835Z
UID:10003154-1792593000-1792602000@s130056251.online.de
SUMMARY:Filmnachmittag im CDF Schülerklub
DESCRIPTION:Lust gemeinsam Filme zu schauen? Dann komm doch einfach mal vorbei! Einmal die Woche veranstaltet der CDF Schülerklub einen Filmnachmittag\, hier können gemeinsam Filme geschaut werden und auch darüber geredet werden! Die Filme wechseln jede Woche und du kannst auch eigene Filmideen vorschlagen! Interessiert? Dann freuen wir uns dich und deine Freunde im CDF Schülerklub zum Filmnachmittag begrüßen zu dürfen!
URL:http://s130056251.online.de/event/filmnachmittag-im-cdf-schuelerklub/2026-10-21/
LOCATION:CDF Schülerklub\, Alte Hellersdorfer Straße 7\, Hellersdorf Nord\, 12629
END:VEVENT
BEGIN:VEVENT
DTSTART;TZID=Europe/Berlin:20261028T143000
DTEND;TZID=Europe/Berlin:20261028T170000
DTSTAMP:20260422T162321
CREATED:20230621T134742Z
LAST-MODIFIED:20230621T135835Z
UID:10003155-1793197800-1793206800@s130056251.online.de
SUMMARY:Filmnachmittag im CDF Schülerklub
DESCRIPTION:Lust gemeinsam Filme zu schauen? Dann komm doch einfach mal vorbei! Einmal die Woche veranstaltet der CDF Schülerklub einen Filmnachmittag\, hier können gemeinsam Filme geschaut werden und auch darüber geredet werden! Die Filme wechseln jede Woche und du kannst auch eigene Filmideen vorschlagen! Interessiert? Dann freuen wir uns dich und deine Freunde im CDF Schülerklub zum Filmnachmittag begrüßen zu dürfen!
URL:http://s130056251.online.de/event/filmnachmittag-im-cdf-schuelerklub/2026-10-28/
LOCATION:CDF Schülerklub\, Alte Hellersdorfer Straße 7\, Hellersdorf Nord\, 12629
END:VEVENT
BEGIN:VEVENT
DTSTART;TZID=Europe/Berlin:20261104T143000
DTEND;TZID=Europe/Berlin:20261104T170000
DTSTAMP:20260422T162321
CREATED:20230621T134742Z
LAST-MODIFIED:20230621T135835Z
UID:10003156-1793802600-1793811600@s130056251.online.de
SUMMARY:Filmnachmittag im CDF Schülerklub
DESCRIPTION:Lust gemeinsam Filme zu schauen? Dann komm doch einfach mal vorbei! Einmal die Woche veranstaltet der CDF Schülerklub einen Filmnachmittag\, hier können gemeinsam Filme geschaut werden und auch darüber geredet werden! Die Filme wechseln jede Woche und du kannst auch eigene Filmideen vorschlagen! Interessiert? Dann freuen wir uns dich und deine Freunde im CDF Schülerklub zum Filmnachmittag begrüßen zu dürfen!
URL:http://s130056251.online.de/event/filmnachmittag-im-cdf-schuelerklub/2026-11-04/
LOCATION:CDF Schülerklub\, Alte Hellersdorfer Straße 7\, Hellersdorf Nord\, 12629
END:VEVENT
BEGIN:VEVENT
DTSTART;TZID=Europe/Berlin:20261111T143000
DTEND;TZID=Europe/Berlin:20261111T170000
DTSTAMP:20260422T162321
CREATED:20230621T134742Z
LAST-MODIFIED:20230621T135835Z
UID:10003157-1794407400-1794416400@s130056251.online.de
SUMMARY:Filmnachmittag im CDF Schülerklub
DESCRIPTION:Lust gemeinsam Filme zu schauen? Dann komm doch einfach mal vorbei! Einmal die Woche veranstaltet der CDF Schülerklub einen Filmnachmittag\, hier können gemeinsam Filme geschaut werden und auch darüber geredet werden! Die Filme wechseln jede Woche und du kannst auch eigene Filmideen vorschlagen! Interessiert? Dann freuen wir uns dich und deine Freunde im CDF Schülerklub zum Filmnachmittag begrüßen zu dürfen!
URL:http://s130056251.online.de/event/filmnachmittag-im-cdf-schuelerklub/2026-11-11/
LOCATION:CDF Schülerklub\, Alte Hellersdorfer Straße 7\, Hellersdorf Nord\, 12629
END:VEVENT
BEGIN:VEVENT
DTSTART;TZID=Europe/Berlin:20261118T143000
DTEND;TZID=Europe/Berlin:20261118T170000
DTSTAMP:20260422T162321
CREATED:20230621T134742Z
LAST-MODIFIED:20230621T135835Z
UID:10003158-1795012200-1795021200@s130056251.online.de
SUMMARY:Filmnachmittag im CDF Schülerklub
DESCRIPTION:Lust gemeinsam Filme zu schauen? Dann komm doch einfach mal vorbei! Einmal die Woche veranstaltet der CDF Schülerklub einen Filmnachmittag\, hier können gemeinsam Filme geschaut werden und auch darüber geredet werden! Die Filme wechseln jede Woche und du kannst auch eigene Filmideen vorschlagen! Interessiert? Dann freuen wir uns dich und deine Freunde im CDF Schülerklub zum Filmnachmittag begrüßen zu dürfen!
URL:http://s130056251.online.de/event/filmnachmittag-im-cdf-schuelerklub/2026-11-18/
LOCATION:CDF Schülerklub\, Alte Hellersdorfer Straße 7\, Hellersdorf Nord\, 12629
END:VEVENT
BEGIN:VEVENT
DTSTART;TZID=Europe/Berlin:20261125T143000
DTEND;TZID=Europe/Berlin:20261125T170000
DTSTAMP:20260422T162321
CREATED:20230621T134742Z
LAST-MODIFIED:20230621T135835Z
UID:10003159-1795617000-1795626000@s130056251.online.de
SUMMARY:Filmnachmittag im CDF Schülerklub
DESCRIPTION:Lust gemeinsam Filme zu schauen? Dann komm doch einfach mal vorbei! Einmal die Woche veranstaltet der CDF Schülerklub einen Filmnachmittag\, hier können gemeinsam Filme geschaut werden und auch darüber geredet werden! Die Filme wechseln jede Woche und du kannst auch eigene Filmideen vorschlagen! Interessiert? Dann freuen wir uns dich und deine Freunde im CDF Schülerklub zum Filmnachmittag begrüßen zu dürfen!
URL:http://s130056251.online.de/event/filmnachmittag-im-cdf-schuelerklub/2026-11-25/
LOCATION:CDF Schülerklub\, Alte Hellersdorfer Straße 7\, Hellersdorf Nord\, 12629
END:VEVENT
BEGIN:VEVENT
DTSTART;TZID=Europe/Berlin:20261202T143000
DTEND;TZID=Europe/Berlin:20261202T170000
DTSTAMP:20260422T162321
CREATED:20230621T134742Z
LAST-MODIFIED:20230621T135835Z
UID:10003160-1796221800-1796230800@s130056251.online.de
SUMMARY:Filmnachmittag im CDF Schülerklub
DESCRIPTION:Lust gemeinsam Filme zu schauen? Dann komm doch einfach mal vorbei! Einmal die Woche veranstaltet der CDF Schülerklub einen Filmnachmittag\, hier können gemeinsam Filme geschaut werden und auch darüber geredet werden! Die Filme wechseln jede Woche und du kannst auch eigene Filmideen vorschlagen! Interessiert? Dann freuen wir uns dich und deine Freunde im CDF Schülerklub zum Filmnachmittag begrüßen zu dürfen!
URL:http://s130056251.online.de/event/filmnachmittag-im-cdf-schuelerklub/2026-12-02/
LOCATION:CDF Schülerklub\, Alte Hellersdorfer Straße 7\, Hellersdorf Nord\, 12629
END:VEVENT
BEGIN:VEVENT
DTSTART;TZID=Europe/Berlin:20261209T143000
DTEND;TZID=Europe/Berlin:20261209T170000
DTSTAMP:20260422T162321
CREATED:20230621T134742Z
LAST-MODIFIED:20230621T135835Z
UID:10003161-1796826600-1796835600@s130056251.online.de
SUMMARY:Filmnachmittag im CDF Schülerklub
DESCRIPTION:Lust gemeinsam Filme zu schauen? Dann komm doch einfach mal vorbei! Einmal die Woche veranstaltet der CDF Schülerklub einen Filmnachmittag\, hier können gemeinsam Filme geschaut werden und auch darüber geredet werden! Die Filme wechseln jede Woche und du kannst auch eigene Filmideen vorschlagen! Interessiert? Dann freuen wir uns dich und deine Freunde im CDF Schülerklub zum Filmnachmittag begrüßen zu dürfen!
URL:http://s130056251.online.de/event/filmnachmittag-im-cdf-schuelerklub/2026-12-09/
LOCATION:CDF Schülerklub\, Alte Hellersdorfer Straße 7\, Hellersdorf Nord\, 12629
END:VEVENT
BEGIN:VEVENT
DTSTART;TZID=Europe/Berlin:20261216T143000
DTEND;TZID=Europe/Berlin:20261216T170000
DTSTAMP:20260422T162322
CREATED:20230621T134742Z
LAST-MODIFIED:20230621T135835Z
UID:10003162-1797431400-1797440400@s130056251.online.de
SUMMARY:Filmnachmittag im CDF Schülerklub
DESCRIPTION:Lust gemeinsam Filme zu schauen? Dann komm doch einfach mal vorbei! Einmal die Woche veranstaltet der CDF Schülerklub einen Filmnachmittag\, hier können gemeinsam Filme geschaut werden und auch darüber geredet werden! Die Filme wechseln jede Woche und du kannst auch eigene Filmideen vorschlagen! Interessiert? Dann freuen wir uns dich und deine Freunde im CDF Schülerklub zum Filmnachmittag begrüßen zu dürfen!
URL:http://s130056251.online.de/event/filmnachmittag-im-cdf-schuelerklub/2026-12-16/
LOCATION:CDF Schülerklub\, Alte Hellersdorfer Straße 7\, Hellersdorf Nord\, 12629
END:VEVENT
BEGIN:VEVENT
DTSTART;TZID=Europe/Berlin:20261223T143000
DTEND;TZID=Europe/Berlin:20261223T170000
DTSTAMP:20260422T162322
CREATED:20230621T134742Z
LAST-MODIFIED:20230621T135835Z
UID:10003163-1798036200-1798045200@s130056251.online.de
SUMMARY:Filmnachmittag im CDF Schülerklub
DESCRIPTION:Lust gemeinsam Filme zu schauen? Dann komm doch einfach mal vorbei! Einmal die Woche veranstaltet der CDF Schülerklub einen Filmnachmittag\, hier können gemeinsam Filme geschaut werden und auch darüber geredet werden! Die Filme wechseln jede Woche und du kannst auch eigene Filmideen vorschlagen! Interessiert? Dann freuen wir uns dich und deine Freunde im CDF Schülerklub zum Filmnachmittag begrüßen zu dürfen!
URL:http://s130056251.online.de/event/filmnachmittag-im-cdf-schuelerklub/2026-12-23/
LOCATION:CDF Schülerklub\, Alte Hellersdorfer Straße 7\, Hellersdorf Nord\, 12629
END:VEVENT
BEGIN:VEVENT
DTSTART;TZID=Europe/Berlin:20261230T143000
DTEND;TZID=Europe/Berlin:20261230T170000
DTSTAMP:20260422T162322
CREATED:20230621T134742Z
LAST-MODIFIED:20230621T135835Z
UID:10003164-1798641000-1798650000@s130056251.online.de
SUMMARY:Filmnachmittag im CDF Schülerklub
DESCRIPTION:Lust gemeinsam Filme zu schauen? Dann komm doch einfach mal vorbei! Einmal die Woche veranstaltet der CDF Schülerklub einen Filmnachmittag\, hier können gemeinsam Filme geschaut werden und auch darüber geredet werden! Die Filme wechseln jede Woche und du kannst auch eigene Filmideen vorschlagen! Interessiert? Dann freuen wir uns dich und deine Freunde im CDF Schülerklub zum Filmnachmittag begrüßen zu dürfen!
URL:http://s130056251.online.de/event/filmnachmittag-im-cdf-schuelerklub/2026-12-30/
LOCATION:CDF Schülerklub\, Alte Hellersdorfer Straße 7\, Hellersdorf Nord\, 12629
END:VEVENT
BEGIN:VEVENT
DTSTART;TZID=Europe/Berlin:20270106T143000
DTEND;TZID=Europe/Berlin:20270106T170000
DTSTAMP:20260422T162322
CREATED:20230621T134742Z
LAST-MODIFIED:20230621T135835Z
UID:10003165-1799245800-1799254800@s130056251.online.de
SUMMARY:Filmnachmittag im CDF Schülerklub
DESCRIPTION:Lust gemeinsam Filme zu schauen? Dann komm doch einfach mal vorbei! Einmal die Woche veranstaltet der CDF Schülerklub einen Filmnachmittag\, hier können gemeinsam Filme geschaut werden und auch darüber geredet werden! Die Filme wechseln jede Woche und du kannst auch eigene Filmideen vorschlagen! Interessiert? Dann freuen wir uns dich und deine Freunde im CDF Schülerklub zum Filmnachmittag begrüßen zu dürfen!
URL:http://s130056251.online.de/event/filmnachmittag-im-cdf-schuelerklub/2027-01-06/
LOCATION:CDF Schülerklub\, Alte Hellersdorfer Straße 7\, Hellersdorf Nord\, 12629
END:VEVENT
BEGIN:VEVENT
DTSTART;TZID=Europe/Berlin:20270113T143000
DTEND;TZID=Europe/Berlin:20270113T170000
DTSTAMP:20260422T162322
CREATED:20230621T134742Z
LAST-MODIFIED:20230621T135835Z
UID:10003166-1799850600-1799859600@s130056251.online.de
SUMMARY:Filmnachmittag im CDF Schülerklub
DESCRIPTION:Lust gemeinsam Filme zu schauen? Dann komm doch einfach mal vorbei! Einmal die Woche veranstaltet der CDF Schülerklub einen Filmnachmittag\, hier können gemeinsam Filme geschaut werden und auch darüber geredet werden! Die Filme wechseln jede Woche und du kannst auch eigene Filmideen vorschlagen! Interessiert? Dann freuen wir uns dich und deine Freunde im CDF Schülerklub zum Filmnachmittag begrüßen zu dürfen!
URL:http://s130056251.online.de/event/filmnachmittag-im-cdf-schuelerklub/2027-01-13/
LOCATION:CDF Schülerklub\, Alte Hellersdorfer Straße 7\, Hellersdorf Nord\, 12629
END:VEVENT
BEGIN:VEVENT
DTSTART;TZID=Europe/Berlin:20270120T143000
DTEND;TZID=Europe/Berlin:20270120T170000
DTSTAMP:20260422T162322
CREATED:20230621T134742Z
LAST-MODIFIED:20230621T135835Z
UID:10003167-1800455400-1800464400@s130056251.online.de
SUMMARY:Filmnachmittag im CDF Schülerklub
DESCRIPTION:Lust gemeinsam Filme zu schauen? Dann komm doch einfach mal vorbei! Einmal die Woche veranstaltet der CDF Schülerklub einen Filmnachmittag\, hier können gemeinsam Filme geschaut werden und auch darüber geredet werden! Die Filme wechseln jede Woche und du kannst auch eigene Filmideen vorschlagen! Interessiert? Dann freuen wir uns dich und deine Freunde im CDF Schülerklub zum Filmnachmittag begrüßen zu dürfen!
URL:http://s130056251.online.de/event/filmnachmittag-im-cdf-schuelerklub/2027-01-20/
LOCATION:CDF Schülerklub\, Alte Hellersdorfer Straße 7\, Hellersdorf Nord\, 12629
END:VEVENT
BEGIN:VEVENT
DTSTART;TZID=Europe/Berlin:20270127T143000
DTEND;TZID=Europe/Berlin:20270127T170000
DTSTAMP:20260422T162322
CREATED:20230621T134742Z
LAST-MODIFIED:20230621T135835Z
UID:10003168-1801060200-1801069200@s130056251.online.de
SUMMARY:Filmnachmittag im CDF Schülerklub
DESCRIPTION:Lust gemeinsam Filme zu schauen? Dann komm doch einfach mal vorbei! Einmal die Woche veranstaltet der CDF Schülerklub einen Filmnachmittag\, hier können gemeinsam Filme geschaut werden und auch darüber geredet werden! Die Filme wechseln jede Woche und du kannst auch eigene Filmideen vorschlagen! Interessiert? Dann freuen wir uns dich und deine Freunde im CDF Schülerklub zum Filmnachmittag begrüßen zu dürfen!
URL:http://s130056251.online.de/event/filmnachmittag-im-cdf-schuelerklub/2027-01-27/
LOCATION:CDF Schülerklub\, Alte Hellersdorfer Straße 7\, Hellersdorf Nord\, 12629
END:VEVENT
BEGIN:VEVENT
DTSTART;TZID=Europe/Berlin:20270203T143000
DTEND;TZID=Europe/Berlin:20270203T170000
DTSTAMP:20260422T162322
CREATED:20230621T134742Z
LAST-MODIFIED:20230621T135835Z
UID:10003169-1801665000-1801674000@s130056251.online.de
SUMMARY:Filmnachmittag im CDF Schülerklub
DESCRIPTION:Lust gemeinsam Filme zu schauen? Dann komm doch einfach mal vorbei! Einmal die Woche veranstaltet der CDF Schülerklub einen Filmnachmittag\, hier können gemeinsam Filme geschaut werden und auch darüber geredet werden! Die Filme wechseln jede Woche und du kannst auch eigene Filmideen vorschlagen! Interessiert? Dann freuen wir uns dich und deine Freunde im CDF Schülerklub zum Filmnachmittag begrüßen zu dürfen!
URL:http://s130056251.online.de/event/filmnachmittag-im-cdf-schuelerklub/2027-02-03/
LOCATION:CDF Schülerklub\, Alte Hellersdorfer Straße 7\, Hellersdorf Nord\, 12629
END:VEVENT
BEGIN:VEVENT
DTSTART;TZID=Europe/Berlin:20270210T143000
DTEND;TZID=Europe/Berlin:20270210T170000
DTSTAMP:20260422T162322
CREATED:20230621T134742Z
LAST-MODIFIED:20230621T135835Z
UID:10003170-1802269800-1802278800@s130056251.online.de
SUMMARY:Filmnachmittag im CDF Schülerklub
DESCRIPTION:Lust gemeinsam Filme zu schauen? Dann komm doch einfach mal vorbei! Einmal die Woche veranstaltet der CDF Schülerklub einen Filmnachmittag\, hier können gemeinsam Filme geschaut werden und auch darüber geredet werden! Die Filme wechseln jede Woche und du kannst auch eigene Filmideen vorschlagen! Interessiert? Dann freuen wir uns dich und deine Freunde im CDF Schülerklub zum Filmnachmittag begrüßen zu dürfen!
URL:http://s130056251.online.de/event/filmnachmittag-im-cdf-schuelerklub/2027-02-10/
LOCATION:CDF Schülerklub\, Alte Hellersdorfer Straße 7\, Hellersdorf Nord\, 12629
END:VEVENT
BEGIN:VEVENT
DTSTART;TZID=Europe/Berlin:20270217T143000
DTEND;TZID=Europe/Berlin:20270217T170000
DTSTAMP:20260422T162322
CREATED:20230621T134742Z
LAST-MODIFIED:20230621T135835Z
UID:10003171-1802874600-1802883600@s130056251.online.de
SUMMARY:Filmnachmittag im CDF Schülerklub
DESCRIPTION:Lust gemeinsam Filme zu schauen? Dann komm doch einfach mal vorbei! Einmal die Woche veranstaltet der CDF Schülerklub einen Filmnachmittag\, hier können gemeinsam Filme geschaut werden und auch darüber geredet werden! Die Filme wechseln jede Woche und du kannst auch eigene Filmideen vorschlagen! Interessiert? Dann freuen wir uns dich und deine Freunde im CDF Schülerklub zum Filmnachmittag begrüßen zu dürfen!
URL:http://s130056251.online.de/event/filmnachmittag-im-cdf-schuelerklub/2027-02-17/
LOCATION:CDF Schülerklub\, Alte Hellersdorfer Straße 7\, Hellersdorf Nord\, 12629
END:VEVENT
BEGIN:VEVENT
DTSTART;TZID=Europe/Berlin:20270224T143000
DTEND;TZID=Europe/Berlin:20270224T170000
DTSTAMP:20260422T162322
CREATED:20230621T134742Z
LAST-MODIFIED:20230621T135835Z
UID:10003172-1803479400-1803488400@s130056251.online.de
SUMMARY:Filmnachmittag im CDF Schülerklub
DESCRIPTION:Lust gemeinsam Filme zu schauen? Dann komm doch einfach mal vorbei! Einmal die Woche veranstaltet der CDF Schülerklub einen Filmnachmittag\, hier können gemeinsam Filme geschaut werden und auch darüber geredet werden! Die Filme wechseln jede Woche und du kannst auch eigene Filmideen vorschlagen! Interessiert? Dann freuen wir uns dich und deine Freunde im CDF Schülerklub zum Filmnachmittag begrüßen zu dürfen!
URL:http://s130056251.online.de/event/filmnachmittag-im-cdf-schuelerklub/2027-02-24/
LOCATION:CDF Schülerklub\, Alte Hellersdorfer Straße 7\, Hellersdorf Nord\, 12629
END:VEVENT
BEGIN:VEVENT
DTSTART;TZID=Europe/Berlin:20270303T143000
DTEND;TZID=Europe/Berlin:20270303T170000
DTSTAMP:20260422T162322
CREATED:20230621T134742Z
LAST-MODIFIED:20230621T135835Z
UID:10003173-1804084200-1804093200@s130056251.online.de
SUMMARY:Filmnachmittag im CDF Schülerklub
DESCRIPTION:Lust gemeinsam Filme zu schauen? Dann komm doch einfach mal vorbei! Einmal die Woche veranstaltet der CDF Schülerklub einen Filmnachmittag\, hier können gemeinsam Filme geschaut werden und auch darüber geredet werden! Die Filme wechseln jede Woche und du kannst auch eigene Filmideen vorschlagen! Interessiert? Dann freuen wir uns dich und deine Freunde im CDF Schülerklub zum Filmnachmittag begrüßen zu dürfen!
URL:http://s130056251.online.de/event/filmnachmittag-im-cdf-schuelerklub/2027-03-03/
LOCATION:CDF Schülerklub\, Alte Hellersdorfer Straße 7\, Hellersdorf Nord\, 12629
END:VEVENT
BEGIN:VEVENT
DTSTART;TZID=Europe/Berlin:20270310T143000
DTEND;TZID=Europe/Berlin:20270310T170000
DTSTAMP:20260422T162322
CREATED:20230621T134742Z
LAST-MODIFIED:20230621T135835Z
UID:10003174-1804689000-1804698000@s130056251.online.de
SUMMARY:Filmnachmittag im CDF Schülerklub
DESCRIPTION:Lust gemeinsam Filme zu schauen? Dann komm doch einfach mal vorbei! Einmal die Woche veranstaltet der CDF Schülerklub einen Filmnachmittag\, hier können gemeinsam Filme geschaut werden und auch darüber geredet werden! Die Filme wechseln jede Woche und du kannst auch eigene Filmideen vorschlagen! Interessiert? Dann freuen wir uns dich und deine Freunde im CDF Schülerklub zum Filmnachmittag begrüßen zu dürfen!
URL:http://s130056251.online.de/event/filmnachmittag-im-cdf-schuelerklub/2027-03-10/
LOCATION:CDF Schülerklub\, Alte Hellersdorfer Straße 7\, Hellersdorf Nord\, 12629
END:VEVENT
BEGIN:VEVENT
DTSTART;TZID=Europe/Berlin:20270317T143000
DTEND;TZID=Europe/Berlin:20270317T170000
DTSTAMP:20260422T162322
CREATED:20230621T134742Z
LAST-MODIFIED:20230621T135835Z
UID:10003175-1805293800-1805302800@s130056251.online.de
SUMMARY:Filmnachmittag im CDF Schülerklub
DESCRIPTION:Lust gemeinsam Filme zu schauen? Dann komm doch einfach mal vorbei! Einmal die Woche veranstaltet der CDF Schülerklub einen Filmnachmittag\, hier können gemeinsam Filme geschaut werden und auch darüber geredet werden! Die Filme wechseln jede Woche und du kannst auch eigene Filmideen vorschlagen! Interessiert? Dann freuen wir uns dich und deine Freunde im CDF Schülerklub zum Filmnachmittag begrüßen zu dürfen!
URL:http://s130056251.online.de/event/filmnachmittag-im-cdf-schuelerklub/2027-03-17/
LOCATION:CDF Schülerklub\, Alte Hellersdorfer Straße 7\, Hellersdorf Nord\, 12629
END:VEVENT
BEGIN:VEVENT
DTSTART;TZID=Europe/Berlin:20270324T143000
DTEND;TZID=Europe/Berlin:20270324T170000
DTSTAMP:20260422T162322
CREATED:20230621T134742Z
LAST-MODIFIED:20230621T135835Z
UID:10003176-1805898600-1805907600@s130056251.online.de
SUMMARY:Filmnachmittag im CDF Schülerklub
DESCRIPTION:Lust gemeinsam Filme zu schauen? Dann komm doch einfach mal vorbei! Einmal die Woche veranstaltet der CDF Schülerklub einen Filmnachmittag\, hier können gemeinsam Filme geschaut werden und auch darüber geredet werden! Die Filme wechseln jede Woche und du kannst auch eigene Filmideen vorschlagen! Interessiert? Dann freuen wir uns dich und deine Freunde im CDF Schülerklub zum Filmnachmittag begrüßen zu dürfen!
URL:http://s130056251.online.de/event/filmnachmittag-im-cdf-schuelerklub/2027-03-24/
LOCATION:CDF Schülerklub\, Alte Hellersdorfer Straße 7\, Hellersdorf Nord\, 12629
END:VEVENT
BEGIN:VEVENT
DTSTART;TZID=Europe/Berlin:20270331T143000
DTEND;TZID=Europe/Berlin:20270331T170000
DTSTAMP:20260422T162322
CREATED:20230621T134742Z
LAST-MODIFIED:20230621T135835Z
UID:10003177-1806503400-1806512400@s130056251.online.de
SUMMARY:Filmnachmittag im CDF Schülerklub
DESCRIPTION:Lust gemeinsam Filme zu schauen? Dann komm doch einfach mal vorbei! Einmal die Woche veranstaltet der CDF Schülerklub einen Filmnachmittag\, hier können gemeinsam Filme geschaut werden und auch darüber geredet werden! Die Filme wechseln jede Woche und du kannst auch eigene Filmideen vorschlagen! Interessiert? Dann freuen wir uns dich und deine Freunde im CDF Schülerklub zum Filmnachmittag begrüßen zu dürfen!
URL:http://s130056251.online.de/event/filmnachmittag-im-cdf-schuelerklub/2027-03-31/
LOCATION:CDF Schülerklub\, Alte Hellersdorfer Straße 7\, Hellersdorf Nord\, 12629
END:VEVENT
BEGIN:VEVENT
DTSTART;TZID=Europe/Berlin:20270407T143000
DTEND;TZID=Europe/Berlin:20270407T170000
DTSTAMP:20260422T162322
CREATED:20230621T134742Z
LAST-MODIFIED:20230621T135835Z
UID:10003178-1807108200-1807117200@s130056251.online.de
SUMMARY:Filmnachmittag im CDF Schülerklub
DESCRIPTION:Lust gemeinsam Filme zu schauen? Dann komm doch einfach mal vorbei! Einmal die Woche veranstaltet der CDF Schülerklub einen Filmnachmittag\, hier können gemeinsam Filme geschaut werden und auch darüber geredet werden! Die Filme wechseln jede Woche und du kannst auch eigene Filmideen vorschlagen! Interessiert? Dann freuen wir uns dich und deine Freunde im CDF Schülerklub zum Filmnachmittag begrüßen zu dürfen!
URL:http://s130056251.online.de/event/filmnachmittag-im-cdf-schuelerklub/2027-04-07/
LOCATION:CDF Schülerklub\, Alte Hellersdorfer Straße 7\, Hellersdorf Nord\, 12629
END:VEVENT
BEGIN:VEVENT
DTSTART;TZID=Europe/Berlin:20270414T143000
DTEND;TZID=Europe/Berlin:20270414T170000
DTSTAMP:20260422T162322
CREATED:20230621T134742Z
LAST-MODIFIED:20230621T135835Z
UID:10003179-1807713000-1807722000@s130056251.online.de
SUMMARY:Filmnachmittag im CDF Schülerklub
DESCRIPTION:Lust gemeinsam Filme zu schauen? Dann komm doch einfach mal vorbei! Einmal die Woche veranstaltet der CDF Schülerklub einen Filmnachmittag\, hier können gemeinsam Filme geschaut werden und auch darüber geredet werden! Die Filme wechseln jede Woche und du kannst auch eigene Filmideen vorschlagen! Interessiert? Dann freuen wir uns dich und deine Freunde im CDF Schülerklub zum Filmnachmittag begrüßen zu dürfen!
URL:http://s130056251.online.de/event/filmnachmittag-im-cdf-schuelerklub/2027-04-14/
LOCATION:CDF Schülerklub\, Alte Hellersdorfer Straße 7\, Hellersdorf Nord\, 12629
END:VEVENT
BEGIN:VEVENT
DTSTART;TZID=Europe/Berlin:20270421T143000
DTEND;TZID=Europe/Berlin:20270421T170000
DTSTAMP:20260422T162322
CREATED:20230621T134742Z
LAST-MODIFIED:20230621T135835Z
UID:10003180-1808317800-1808326800@s130056251.online.de
SUMMARY:Filmnachmittag im CDF Schülerklub
DESCRIPTION:Lust gemeinsam Filme zu schauen? Dann komm doch einfach mal vorbei! Einmal die Woche veranstaltet der CDF Schülerklub einen Filmnachmittag\, hier können gemeinsam Filme geschaut werden und auch darüber geredet werden! Die Filme wechseln jede Woche und du kannst auch eigene Filmideen vorschlagen! Interessiert? Dann freuen wir uns dich und deine Freunde im CDF Schülerklub zum Filmnachmittag begrüßen zu dürfen!
URL:http://s130056251.online.de/event/filmnachmittag-im-cdf-schuelerklub/2027-04-21/
LOCATION:CDF Schülerklub\, Alte Hellersdorfer Straße 7\, Hellersdorf Nord\, 12629
END:VEVENT
BEGIN:VEVENT
DTSTART;TZID=Europe/Berlin:20270428T143000
DTEND;TZID=Europe/Berlin:20270428T170000
DTSTAMP:20260422T162322
CREATED:20230621T134742Z
LAST-MODIFIED:20230621T135835Z
UID:10003181-1808922600-1808931600@s130056251.online.de
SUMMARY:Filmnachmittag im CDF Schülerklub
DESCRIPTION:Lust gemeinsam Filme zu schauen? Dann komm doch einfach mal vorbei! Einmal die Woche veranstaltet der CDF Schülerklub einen Filmnachmittag\, hier können gemeinsam Filme geschaut werden und auch darüber geredet werden! Die Filme wechseln jede Woche und du kannst auch eigene Filmideen vorschlagen! Interessiert? Dann freuen wir uns dich und deine Freunde im CDF Schülerklub zum Filmnachmittag begrüßen zu dürfen!
URL:http://s130056251.online.de/event/filmnachmittag-im-cdf-schuelerklub/2027-04-28/
LOCATION:CDF Schülerklub\, Alte Hellersdorfer Straße 7\, Hellersdorf Nord\, 12629
END:VEVENT
END:VCALENDAR