BEGIN:VCALENDAR
VERSION:2.0
PRODID:-//Was geht in Hellersdorf - ECPv6.1.2.2//NONSGML v1.0//EN
CALSCALE:GREGORIAN
METHOD:PUBLISH
X-WR-CALNAME:Was geht in Hellersdorf
X-ORIGINAL-URL:http://s130056251.online.de
X-WR-CALDESC:Veranstaltungen für Was geht in Hellersdorf
REFRESH-INTERVAL;VALUE=DURATION:PT1H
X-Robots-Tag:noindex
X-PUBLISHED-TTL:PT1H
BEGIN:VTIMEZONE
TZID:Europe/Berlin
BEGIN:DAYLIGHT
TZOFFSETFROM:+0100
TZOFFSETTO:+0200
TZNAME:CEST
DTSTART:20270328T010000
END:DAYLIGHT
BEGIN:STANDARD
TZOFFSETFROM:+0200
TZOFFSETTO:+0100
TZNAME:CET
DTSTART:20271031T010000
END:STANDARD
BEGIN:DAYLIGHT
TZOFFSETFROM:+0100
TZOFFSETTO:+0200
TZNAME:CEST
DTSTART:20280326T010000
END:DAYLIGHT
BEGIN:STANDARD
TZOFFSETFROM:+0200
TZOFFSETTO:+0100
TZNAME:CET
DTSTART:20281029T010000
END:STANDARD
END:VTIMEZONE
BEGIN:VEVENT
DTSTART;TZID=Europe/Berlin:20270624T160000
DTEND;TZID=Europe/Berlin:20270624T180000
DTSTAMP:20260424T133846
CREATED:20230622T105848Z
LAST-MODIFIED:20230622T110612Z
UID:10002151-1813852800-1813860000@s130056251.online.de
SUMMARY:Graffiti AG
DESCRIPTION:Hier könnt ihr euch mit Sprühdosen an der hauseigenen Graffitiwand ausprobieren.
URL:http://s130056251.online.de/event/graffiti-ag/2027-06-24/
LOCATION:Senfte 10\, Senftenberger Straße 10\, Berlin\, Berlin\, 12627
END:VEVENT
BEGIN:VEVENT
DTSTART;TZID=Europe/Berlin:20270701T160000
DTEND;TZID=Europe/Berlin:20270701T180000
DTSTAMP:20260424T133846
CREATED:20230622T105848Z
LAST-MODIFIED:20230622T110612Z
UID:10002152-1814457600-1814464800@s130056251.online.de
SUMMARY:Graffiti AG
DESCRIPTION:Hier könnt ihr euch mit Sprühdosen an der hauseigenen Graffitiwand ausprobieren.
URL:http://s130056251.online.de/event/graffiti-ag/2027-07-01/
LOCATION:Senfte 10\, Senftenberger Straße 10\, Berlin\, Berlin\, 12627
END:VEVENT
BEGIN:VEVENT
DTSTART;TZID=Europe/Berlin:20270708T160000
DTEND;TZID=Europe/Berlin:20270708T180000
DTSTAMP:20260424T133846
CREATED:20230622T105848Z
LAST-MODIFIED:20230622T110612Z
UID:10002153-1815062400-1815069600@s130056251.online.de
SUMMARY:Graffiti AG
DESCRIPTION:Hier könnt ihr euch mit Sprühdosen an der hauseigenen Graffitiwand ausprobieren.
URL:http://s130056251.online.de/event/graffiti-ag/2027-07-08/
LOCATION:Senfte 10\, Senftenberger Straße 10\, Berlin\, Berlin\, 12627
END:VEVENT
BEGIN:VEVENT
DTSTART;TZID=Europe/Berlin:20270715T160000
DTEND;TZID=Europe/Berlin:20270715T180000
DTSTAMP:20260424T133846
CREATED:20230622T105848Z
LAST-MODIFIED:20230622T110612Z
UID:10002154-1815667200-1815674400@s130056251.online.de
SUMMARY:Graffiti AG
DESCRIPTION:Hier könnt ihr euch mit Sprühdosen an der hauseigenen Graffitiwand ausprobieren.
URL:http://s130056251.online.de/event/graffiti-ag/2027-07-15/
LOCATION:Senfte 10\, Senftenberger Straße 10\, Berlin\, Berlin\, 12627
END:VEVENT
BEGIN:VEVENT
DTSTART;TZID=Europe/Berlin:20270722T160000
DTEND;TZID=Europe/Berlin:20270722T180000
DTSTAMP:20260424T133846
CREATED:20230622T105848Z
LAST-MODIFIED:20230622T110612Z
UID:10002155-1816272000-1816279200@s130056251.online.de
SUMMARY:Graffiti AG
DESCRIPTION:Hier könnt ihr euch mit Sprühdosen an der hauseigenen Graffitiwand ausprobieren.
URL:http://s130056251.online.de/event/graffiti-ag/2027-07-22/
LOCATION:Senfte 10\, Senftenberger Straße 10\, Berlin\, Berlin\, 12627
END:VEVENT
BEGIN:VEVENT
DTSTART;TZID=Europe/Berlin:20270729T160000
DTEND;TZID=Europe/Berlin:20270729T180000
DTSTAMP:20260424T133846
CREATED:20230622T105848Z
LAST-MODIFIED:20230622T110612Z
UID:10002156-1816876800-1816884000@s130056251.online.de
SUMMARY:Graffiti AG
DESCRIPTION:Hier könnt ihr euch mit Sprühdosen an der hauseigenen Graffitiwand ausprobieren.
URL:http://s130056251.online.de/event/graffiti-ag/2027-07-29/
LOCATION:Senfte 10\, Senftenberger Straße 10\, Berlin\, Berlin\, 12627
END:VEVENT
BEGIN:VEVENT
DTSTART;TZID=Europe/Berlin:20270805T160000
DTEND;TZID=Europe/Berlin:20270805T180000
DTSTAMP:20260424T133846
CREATED:20230622T105848Z
LAST-MODIFIED:20230622T110612Z
UID:10002157-1817481600-1817488800@s130056251.online.de
SUMMARY:Graffiti AG
DESCRIPTION:Hier könnt ihr euch mit Sprühdosen an der hauseigenen Graffitiwand ausprobieren.
URL:http://s130056251.online.de/event/graffiti-ag/2027-08-05/
LOCATION:Senfte 10\, Senftenberger Straße 10\, Berlin\, Berlin\, 12627
END:VEVENT
BEGIN:VEVENT
DTSTART;TZID=Europe/Berlin:20270812T160000
DTEND;TZID=Europe/Berlin:20270812T180000
DTSTAMP:20260424T133846
CREATED:20230622T105848Z
LAST-MODIFIED:20230622T110612Z
UID:10002158-1818086400-1818093600@s130056251.online.de
SUMMARY:Graffiti AG
DESCRIPTION:Hier könnt ihr euch mit Sprühdosen an der hauseigenen Graffitiwand ausprobieren.
URL:http://s130056251.online.de/event/graffiti-ag/2027-08-12/
LOCATION:Senfte 10\, Senftenberger Straße 10\, Berlin\, Berlin\, 12627
END:VEVENT
BEGIN:VEVENT
DTSTART;TZID=Europe/Berlin:20270819T160000
DTEND;TZID=Europe/Berlin:20270819T180000
DTSTAMP:20260424T133846
CREATED:20230622T105848Z
LAST-MODIFIED:20230622T110612Z
UID:10002159-1818691200-1818698400@s130056251.online.de
SUMMARY:Graffiti AG
DESCRIPTION:Hier könnt ihr euch mit Sprühdosen an der hauseigenen Graffitiwand ausprobieren.
URL:http://s130056251.online.de/event/graffiti-ag/2027-08-19/
LOCATION:Senfte 10\, Senftenberger Straße 10\, Berlin\, Berlin\, 12627
END:VEVENT
BEGIN:VEVENT
DTSTART;TZID=Europe/Berlin:20270826T160000
DTEND;TZID=Europe/Berlin:20270826T180000
DTSTAMP:20260424T133846
CREATED:20230622T105848Z
LAST-MODIFIED:20230622T110612Z
UID:10002160-1819296000-1819303200@s130056251.online.de
SUMMARY:Graffiti AG
DESCRIPTION:Hier könnt ihr euch mit Sprühdosen an der hauseigenen Graffitiwand ausprobieren.
URL:http://s130056251.online.de/event/graffiti-ag/2027-08-26/
LOCATION:Senfte 10\, Senftenberger Straße 10\, Berlin\, Berlin\, 12627
END:VEVENT
BEGIN:VEVENT
DTSTART;TZID=Europe/Berlin:20270902T160000
DTEND;TZID=Europe/Berlin:20270902T180000
DTSTAMP:20260424T133846
CREATED:20230622T105848Z
LAST-MODIFIED:20230622T110612Z
UID:10002161-1819900800-1819908000@s130056251.online.de
SUMMARY:Graffiti AG
DESCRIPTION:Hier könnt ihr euch mit Sprühdosen an der hauseigenen Graffitiwand ausprobieren.
URL:http://s130056251.online.de/event/graffiti-ag/2027-09-02/
LOCATION:Senfte 10\, Senftenberger Straße 10\, Berlin\, Berlin\, 12627
END:VEVENT
BEGIN:VEVENT
DTSTART;TZID=Europe/Berlin:20270909T160000
DTEND;TZID=Europe/Berlin:20270909T180000
DTSTAMP:20260424T133846
CREATED:20230622T105848Z
LAST-MODIFIED:20230622T110612Z
UID:10002162-1820505600-1820512800@s130056251.online.de
SUMMARY:Graffiti AG
DESCRIPTION:Hier könnt ihr euch mit Sprühdosen an der hauseigenen Graffitiwand ausprobieren.
URL:http://s130056251.online.de/event/graffiti-ag/2027-09-09/
LOCATION:Senfte 10\, Senftenberger Straße 10\, Berlin\, Berlin\, 12627
END:VEVENT
BEGIN:VEVENT
DTSTART;TZID=Europe/Berlin:20270916T160000
DTEND;TZID=Europe/Berlin:20270916T180000
DTSTAMP:20260424T133846
CREATED:20230622T105848Z
LAST-MODIFIED:20230622T110612Z
UID:10002163-1821110400-1821117600@s130056251.online.de
SUMMARY:Graffiti AG
DESCRIPTION:Hier könnt ihr euch mit Sprühdosen an der hauseigenen Graffitiwand ausprobieren.
URL:http://s130056251.online.de/event/graffiti-ag/2027-09-16/
LOCATION:Senfte 10\, Senftenberger Straße 10\, Berlin\, Berlin\, 12627
END:VEVENT
BEGIN:VEVENT
DTSTART;TZID=Europe/Berlin:20270923T160000
DTEND;TZID=Europe/Berlin:20270923T180000
DTSTAMP:20260424T133846
CREATED:20230622T105848Z
LAST-MODIFIED:20230622T110612Z
UID:10002164-1821715200-1821722400@s130056251.online.de
SUMMARY:Graffiti AG
DESCRIPTION:Hier könnt ihr euch mit Sprühdosen an der hauseigenen Graffitiwand ausprobieren.
URL:http://s130056251.online.de/event/graffiti-ag/2027-09-23/
LOCATION:Senfte 10\, Senftenberger Straße 10\, Berlin\, Berlin\, 12627
END:VEVENT
BEGIN:VEVENT
DTSTART;TZID=Europe/Berlin:20270930T160000
DTEND;TZID=Europe/Berlin:20270930T180000
DTSTAMP:20260424T133846
CREATED:20230622T105848Z
LAST-MODIFIED:20230622T110612Z
UID:10002165-1822320000-1822327200@s130056251.online.de
SUMMARY:Graffiti AG
DESCRIPTION:Hier könnt ihr euch mit Sprühdosen an der hauseigenen Graffitiwand ausprobieren.
URL:http://s130056251.online.de/event/graffiti-ag/2027-09-30/
LOCATION:Senfte 10\, Senftenberger Straße 10\, Berlin\, Berlin\, 12627
END:VEVENT
BEGIN:VEVENT
DTSTART;TZID=Europe/Berlin:20271007T160000
DTEND;TZID=Europe/Berlin:20271007T180000
DTSTAMP:20260424T133846
CREATED:20230622T105848Z
LAST-MODIFIED:20230622T110612Z
UID:10002166-1822924800-1822932000@s130056251.online.de
SUMMARY:Graffiti AG
DESCRIPTION:Hier könnt ihr euch mit Sprühdosen an der hauseigenen Graffitiwand ausprobieren.
URL:http://s130056251.online.de/event/graffiti-ag/2027-10-07/
LOCATION:Senfte 10\, Senftenberger Straße 10\, Berlin\, Berlin\, 12627
END:VEVENT
BEGIN:VEVENT
DTSTART;TZID=Europe/Berlin:20271014T160000
DTEND;TZID=Europe/Berlin:20271014T180000
DTSTAMP:20260424T133846
CREATED:20230622T105848Z
LAST-MODIFIED:20230622T110612Z
UID:10002167-1823529600-1823536800@s130056251.online.de
SUMMARY:Graffiti AG
DESCRIPTION:Hier könnt ihr euch mit Sprühdosen an der hauseigenen Graffitiwand ausprobieren.
URL:http://s130056251.online.de/event/graffiti-ag/2027-10-14/
LOCATION:Senfte 10\, Senftenberger Straße 10\, Berlin\, Berlin\, 12627
END:VEVENT
BEGIN:VEVENT
DTSTART;TZID=Europe/Berlin:20271021T160000
DTEND;TZID=Europe/Berlin:20271021T180000
DTSTAMP:20260424T133846
CREATED:20230622T105848Z
LAST-MODIFIED:20230622T110612Z
UID:10002168-1824134400-1824141600@s130056251.online.de
SUMMARY:Graffiti AG
DESCRIPTION:Hier könnt ihr euch mit Sprühdosen an der hauseigenen Graffitiwand ausprobieren.
URL:http://s130056251.online.de/event/graffiti-ag/2027-10-21/
LOCATION:Senfte 10\, Senftenberger Straße 10\, Berlin\, Berlin\, 12627
END:VEVENT
BEGIN:VEVENT
DTSTART;TZID=Europe/Berlin:20271028T160000
DTEND;TZID=Europe/Berlin:20271028T180000
DTSTAMP:20260424T133846
CREATED:20230622T105848Z
LAST-MODIFIED:20230622T110612Z
UID:10002169-1824739200-1824746400@s130056251.online.de
SUMMARY:Graffiti AG
DESCRIPTION:Hier könnt ihr euch mit Sprühdosen an der hauseigenen Graffitiwand ausprobieren.
URL:http://s130056251.online.de/event/graffiti-ag/2027-10-28/
LOCATION:Senfte 10\, Senftenberger Straße 10\, Berlin\, Berlin\, 12627
END:VEVENT
BEGIN:VEVENT
DTSTART;TZID=Europe/Berlin:20271104T160000
DTEND;TZID=Europe/Berlin:20271104T180000
DTSTAMP:20260424T133846
CREATED:20230622T105848Z
LAST-MODIFIED:20230622T110612Z
UID:10002170-1825344000-1825351200@s130056251.online.de
SUMMARY:Graffiti AG
DESCRIPTION:Hier könnt ihr euch mit Sprühdosen an der hauseigenen Graffitiwand ausprobieren.
URL:http://s130056251.online.de/event/graffiti-ag/2027-11-04/
LOCATION:Senfte 10\, Senftenberger Straße 10\, Berlin\, Berlin\, 12627
END:VEVENT
BEGIN:VEVENT
DTSTART;TZID=Europe/Berlin:20271111T160000
DTEND;TZID=Europe/Berlin:20271111T180000
DTSTAMP:20260424T133846
CREATED:20230622T105848Z
LAST-MODIFIED:20230622T110612Z
UID:10002171-1825948800-1825956000@s130056251.online.de
SUMMARY:Graffiti AG
DESCRIPTION:Hier könnt ihr euch mit Sprühdosen an der hauseigenen Graffitiwand ausprobieren.
URL:http://s130056251.online.de/event/graffiti-ag/2027-11-11/
LOCATION:Senfte 10\, Senftenberger Straße 10\, Berlin\, Berlin\, 12627
END:VEVENT
BEGIN:VEVENT
DTSTART;TZID=Europe/Berlin:20271118T160000
DTEND;TZID=Europe/Berlin:20271118T180000
DTSTAMP:20260424T133846
CREATED:20230622T105848Z
LAST-MODIFIED:20230622T110612Z
UID:10002172-1826553600-1826560800@s130056251.online.de
SUMMARY:Graffiti AG
DESCRIPTION:Hier könnt ihr euch mit Sprühdosen an der hauseigenen Graffitiwand ausprobieren.
URL:http://s130056251.online.de/event/graffiti-ag/2027-11-18/
LOCATION:Senfte 10\, Senftenberger Straße 10\, Berlin\, Berlin\, 12627
END:VEVENT
BEGIN:VEVENT
DTSTART;TZID=Europe/Berlin:20271125T160000
DTEND;TZID=Europe/Berlin:20271125T180000
DTSTAMP:20260424T133846
CREATED:20230622T105848Z
LAST-MODIFIED:20230622T110612Z
UID:10002173-1827158400-1827165600@s130056251.online.de
SUMMARY:Graffiti AG
DESCRIPTION:Hier könnt ihr euch mit Sprühdosen an der hauseigenen Graffitiwand ausprobieren.
URL:http://s130056251.online.de/event/graffiti-ag/2027-11-25/
LOCATION:Senfte 10\, Senftenberger Straße 10\, Berlin\, Berlin\, 12627
END:VEVENT
BEGIN:VEVENT
DTSTART;TZID=Europe/Berlin:20271202T160000
DTEND;TZID=Europe/Berlin:20271202T180000
DTSTAMP:20260424T133846
CREATED:20230622T105848Z
LAST-MODIFIED:20230622T110612Z
UID:10002174-1827763200-1827770400@s130056251.online.de
SUMMARY:Graffiti AG
DESCRIPTION:Hier könnt ihr euch mit Sprühdosen an der hauseigenen Graffitiwand ausprobieren.
URL:http://s130056251.online.de/event/graffiti-ag/2027-12-02/
LOCATION:Senfte 10\, Senftenberger Straße 10\, Berlin\, Berlin\, 12627
END:VEVENT
BEGIN:VEVENT
DTSTART;TZID=Europe/Berlin:20271209T160000
DTEND;TZID=Europe/Berlin:20271209T180000
DTSTAMP:20260424T133846
CREATED:20230622T105848Z
LAST-MODIFIED:20230622T110612Z
UID:10002175-1828368000-1828375200@s130056251.online.de
SUMMARY:Graffiti AG
DESCRIPTION:Hier könnt ihr euch mit Sprühdosen an der hauseigenen Graffitiwand ausprobieren.
URL:http://s130056251.online.de/event/graffiti-ag/2027-12-09/
LOCATION:Senfte 10\, Senftenberger Straße 10\, Berlin\, Berlin\, 12627
END:VEVENT
BEGIN:VEVENT
DTSTART;TZID=Europe/Berlin:20271216T160000
DTEND;TZID=Europe/Berlin:20271216T180000
DTSTAMP:20260424T133846
CREATED:20230622T105848Z
LAST-MODIFIED:20230622T110612Z
UID:10002176-1828972800-1828980000@s130056251.online.de
SUMMARY:Graffiti AG
DESCRIPTION:Hier könnt ihr euch mit Sprühdosen an der hauseigenen Graffitiwand ausprobieren.
URL:http://s130056251.online.de/event/graffiti-ag/2027-12-16/
LOCATION:Senfte 10\, Senftenberger Straße 10\, Berlin\, Berlin\, 12627
END:VEVENT
BEGIN:VEVENT
DTSTART;TZID=Europe/Berlin:20271223T160000
DTEND;TZID=Europe/Berlin:20271223T180000
DTSTAMP:20260424T133846
CREATED:20230622T105848Z
LAST-MODIFIED:20230622T110612Z
UID:10002177-1829577600-1829584800@s130056251.online.de
SUMMARY:Graffiti AG
DESCRIPTION:Hier könnt ihr euch mit Sprühdosen an der hauseigenen Graffitiwand ausprobieren.
URL:http://s130056251.online.de/event/graffiti-ag/2027-12-23/
LOCATION:Senfte 10\, Senftenberger Straße 10\, Berlin\, Berlin\, 12627
END:VEVENT
BEGIN:VEVENT
DTSTART;TZID=Europe/Berlin:20271230T160000
DTEND;TZID=Europe/Berlin:20271230T180000
DTSTAMP:20260424T133846
CREATED:20230622T105848Z
LAST-MODIFIED:20230622T110612Z
UID:10002178-1830182400-1830189600@s130056251.online.de
SUMMARY:Graffiti AG
DESCRIPTION:Hier könnt ihr euch mit Sprühdosen an der hauseigenen Graffitiwand ausprobieren.
URL:http://s130056251.online.de/event/graffiti-ag/2027-12-30/
LOCATION:Senfte 10\, Senftenberger Straße 10\, Berlin\, Berlin\, 12627
END:VEVENT
BEGIN:VEVENT
DTSTART;TZID=Europe/Berlin:20280106T160000
DTEND;TZID=Europe/Berlin:20280106T180000
DTSTAMP:20260424T133846
CREATED:20230622T105848Z
LAST-MODIFIED:20230622T110612Z
UID:10002179-1830787200-1830794400@s130056251.online.de
SUMMARY:Graffiti AG
DESCRIPTION:Hier könnt ihr euch mit Sprühdosen an der hauseigenen Graffitiwand ausprobieren.
URL:http://s130056251.online.de/event/graffiti-ag/2028-01-06/
LOCATION:Senfte 10\, Senftenberger Straße 10\, Berlin\, Berlin\, 12627
END:VEVENT
BEGIN:VEVENT
DTSTART;TZID=Europe/Berlin:20280113T160000
DTEND;TZID=Europe/Berlin:20280113T180000
DTSTAMP:20260424T133846
CREATED:20230622T105848Z
LAST-MODIFIED:20230622T110612Z
UID:10002180-1831392000-1831399200@s130056251.online.de
SUMMARY:Graffiti AG
DESCRIPTION:Hier könnt ihr euch mit Sprühdosen an der hauseigenen Graffitiwand ausprobieren.
URL:http://s130056251.online.de/event/graffiti-ag/2028-01-13/
LOCATION:Senfte 10\, Senftenberger Straße 10\, Berlin\, Berlin\, 12627
END:VEVENT
END:VCALENDAR