BEGIN:VCALENDAR
VERSION:2.0
PRODID:-//Was geht in Hellersdorf - ECPv6.1.2.2//NONSGML v1.0//EN
CALSCALE:GREGORIAN
METHOD:PUBLISH
X-WR-CALNAME:Was geht in Hellersdorf
X-ORIGINAL-URL:http://s130056251.online.de
X-WR-CALDESC:Veranstaltungen für Was geht in Hellersdorf
REFRESH-INTERVAL;VALUE=DURATION:PT1H
X-Robots-Tag:noindex
X-PUBLISHED-TTL:PT1H
BEGIN:VTIMEZONE
TZID:Europe/Berlin
BEGIN:DAYLIGHT
TZOFFSETFROM:+0100
TZOFFSETTO:+0200
TZNAME:CEST
DTSTART:20270328T010000
END:DAYLIGHT
BEGIN:STANDARD
TZOFFSETFROM:+0200
TZOFFSETTO:+0100
TZNAME:CET
DTSTART:20271031T010000
END:STANDARD
BEGIN:DAYLIGHT
TZOFFSETFROM:+0100
TZOFFSETTO:+0200
TZNAME:CEST
DTSTART:20280326T010000
END:DAYLIGHT
BEGIN:STANDARD
TZOFFSETFROM:+0200
TZOFFSETTO:+0100
TZNAME:CET
DTSTART:20281029T010000
END:STANDARD
END:VTIMEZONE
BEGIN:VEVENT
DTSTART;TZID=Europe/Berlin:20270910T143000
DTEND;TZID=Europe/Berlin:20270910T170000
DTSTAMP:20260422T223051
CREATED:20230621T135642Z
LAST-MODIFIED:20230621T140644Z
UID:10002941-1820586600-1820595600@s130056251.online.de
SUMMARY:Gemeinsames Kochen im CDF Schülerklub
DESCRIPTION:Das Wochenende kann kommen und wir wollen es gemeinsam mit dir Begrüßen! Um das Wochenende einzuleiten\, wollen wir gemeinsam mit dir und deinen Freunden kochen und Essen. Wenn du jetzt also Hungrig geworden bist und Lust bekommen hast zu kochen dann komm doch einfach mal Freitags bei uns vorbei. Wenn du ausgefallene Ideen für Gerichte hast\, dann lass es uns gerne wissen. Also wir freuen uns darauf ich bei uns begrüßen zu dürfen!
URL:http://s130056251.online.de/event/gemeinsames-kochen-im-cdf-schuelerklub/2027-09-10/
LOCATION:CDF Schülerklub\, Alte Hellersdorfer Straße 7\, Hellersdorf Nord\, 12629
END:VEVENT
BEGIN:VEVENT
DTSTART;TZID=Europe/Berlin:20270917T143000
DTEND;TZID=Europe/Berlin:20270917T170000
DTSTAMP:20260422T223051
CREATED:20230621T135642Z
LAST-MODIFIED:20230621T140644Z
UID:10002942-1821191400-1821200400@s130056251.online.de
SUMMARY:Gemeinsames Kochen im CDF Schülerklub
DESCRIPTION:Das Wochenende kann kommen und wir wollen es gemeinsam mit dir Begrüßen! Um das Wochenende einzuleiten\, wollen wir gemeinsam mit dir und deinen Freunden kochen und Essen. Wenn du jetzt also Hungrig geworden bist und Lust bekommen hast zu kochen dann komm doch einfach mal Freitags bei uns vorbei. Wenn du ausgefallene Ideen für Gerichte hast\, dann lass es uns gerne wissen. Also wir freuen uns darauf ich bei uns begrüßen zu dürfen!
URL:http://s130056251.online.de/event/gemeinsames-kochen-im-cdf-schuelerklub/2027-09-17/
LOCATION:CDF Schülerklub\, Alte Hellersdorfer Straße 7\, Hellersdorf Nord\, 12629
END:VEVENT
BEGIN:VEVENT
DTSTART;TZID=Europe/Berlin:20270924T143000
DTEND;TZID=Europe/Berlin:20270924T170000
DTSTAMP:20260422T223051
CREATED:20230621T135642Z
LAST-MODIFIED:20230621T140644Z
UID:10002943-1821796200-1821805200@s130056251.online.de
SUMMARY:Gemeinsames Kochen im CDF Schülerklub
DESCRIPTION:Das Wochenende kann kommen und wir wollen es gemeinsam mit dir Begrüßen! Um das Wochenende einzuleiten\, wollen wir gemeinsam mit dir und deinen Freunden kochen und Essen. Wenn du jetzt also Hungrig geworden bist und Lust bekommen hast zu kochen dann komm doch einfach mal Freitags bei uns vorbei. Wenn du ausgefallene Ideen für Gerichte hast\, dann lass es uns gerne wissen. Also wir freuen uns darauf ich bei uns begrüßen zu dürfen!
URL:http://s130056251.online.de/event/gemeinsames-kochen-im-cdf-schuelerklub/2027-09-24/
LOCATION:CDF Schülerklub\, Alte Hellersdorfer Straße 7\, Hellersdorf Nord\, 12629
END:VEVENT
BEGIN:VEVENT
DTSTART;TZID=Europe/Berlin:20271001T143000
DTEND;TZID=Europe/Berlin:20271001T170000
DTSTAMP:20260422T223051
CREATED:20230621T135642Z
LAST-MODIFIED:20230621T140644Z
UID:10002944-1822401000-1822410000@s130056251.online.de
SUMMARY:Gemeinsames Kochen im CDF Schülerklub
DESCRIPTION:Das Wochenende kann kommen und wir wollen es gemeinsam mit dir Begrüßen! Um das Wochenende einzuleiten\, wollen wir gemeinsam mit dir und deinen Freunden kochen und Essen. Wenn du jetzt also Hungrig geworden bist und Lust bekommen hast zu kochen dann komm doch einfach mal Freitags bei uns vorbei. Wenn du ausgefallene Ideen für Gerichte hast\, dann lass es uns gerne wissen. Also wir freuen uns darauf ich bei uns begrüßen zu dürfen!
URL:http://s130056251.online.de/event/gemeinsames-kochen-im-cdf-schuelerklub/2027-10-01/
LOCATION:CDF Schülerklub\, Alte Hellersdorfer Straße 7\, Hellersdorf Nord\, 12629
END:VEVENT
BEGIN:VEVENT
DTSTART;TZID=Europe/Berlin:20271008T143000
DTEND;TZID=Europe/Berlin:20271008T170000
DTSTAMP:20260422T223051
CREATED:20230621T135642Z
LAST-MODIFIED:20230621T140644Z
UID:10002945-1823005800-1823014800@s130056251.online.de
SUMMARY:Gemeinsames Kochen im CDF Schülerklub
DESCRIPTION:Das Wochenende kann kommen und wir wollen es gemeinsam mit dir Begrüßen! Um das Wochenende einzuleiten\, wollen wir gemeinsam mit dir und deinen Freunden kochen und Essen. Wenn du jetzt also Hungrig geworden bist und Lust bekommen hast zu kochen dann komm doch einfach mal Freitags bei uns vorbei. Wenn du ausgefallene Ideen für Gerichte hast\, dann lass es uns gerne wissen. Also wir freuen uns darauf ich bei uns begrüßen zu dürfen!
URL:http://s130056251.online.de/event/gemeinsames-kochen-im-cdf-schuelerklub/2027-10-08/
LOCATION:CDF Schülerklub\, Alte Hellersdorfer Straße 7\, Hellersdorf Nord\, 12629
END:VEVENT
BEGIN:VEVENT
DTSTART;TZID=Europe/Berlin:20271015T143000
DTEND;TZID=Europe/Berlin:20271015T170000
DTSTAMP:20260422T223051
CREATED:20230621T135642Z
LAST-MODIFIED:20230621T140644Z
UID:10002946-1823610600-1823619600@s130056251.online.de
SUMMARY:Gemeinsames Kochen im CDF Schülerklub
DESCRIPTION:Das Wochenende kann kommen und wir wollen es gemeinsam mit dir Begrüßen! Um das Wochenende einzuleiten\, wollen wir gemeinsam mit dir und deinen Freunden kochen und Essen. Wenn du jetzt also Hungrig geworden bist und Lust bekommen hast zu kochen dann komm doch einfach mal Freitags bei uns vorbei. Wenn du ausgefallene Ideen für Gerichte hast\, dann lass es uns gerne wissen. Also wir freuen uns darauf ich bei uns begrüßen zu dürfen!
URL:http://s130056251.online.de/event/gemeinsames-kochen-im-cdf-schuelerklub/2027-10-15/
LOCATION:CDF Schülerklub\, Alte Hellersdorfer Straße 7\, Hellersdorf Nord\, 12629
END:VEVENT
BEGIN:VEVENT
DTSTART;TZID=Europe/Berlin:20271022T143000
DTEND;TZID=Europe/Berlin:20271022T170000
DTSTAMP:20260422T223051
CREATED:20230621T135642Z
LAST-MODIFIED:20230621T140644Z
UID:10002947-1824215400-1824224400@s130056251.online.de
SUMMARY:Gemeinsames Kochen im CDF Schülerklub
DESCRIPTION:Das Wochenende kann kommen und wir wollen es gemeinsam mit dir Begrüßen! Um das Wochenende einzuleiten\, wollen wir gemeinsam mit dir und deinen Freunden kochen und Essen. Wenn du jetzt also Hungrig geworden bist und Lust bekommen hast zu kochen dann komm doch einfach mal Freitags bei uns vorbei. Wenn du ausgefallene Ideen für Gerichte hast\, dann lass es uns gerne wissen. Also wir freuen uns darauf ich bei uns begrüßen zu dürfen!
URL:http://s130056251.online.de/event/gemeinsames-kochen-im-cdf-schuelerklub/2027-10-22/
LOCATION:CDF Schülerklub\, Alte Hellersdorfer Straße 7\, Hellersdorf Nord\, 12629
END:VEVENT
BEGIN:VEVENT
DTSTART;TZID=Europe/Berlin:20271029T143000
DTEND;TZID=Europe/Berlin:20271029T170000
DTSTAMP:20260422T223051
CREATED:20230621T135642Z
LAST-MODIFIED:20230621T140644Z
UID:10002948-1824820200-1824829200@s130056251.online.de
SUMMARY:Gemeinsames Kochen im CDF Schülerklub
DESCRIPTION:Das Wochenende kann kommen und wir wollen es gemeinsam mit dir Begrüßen! Um das Wochenende einzuleiten\, wollen wir gemeinsam mit dir und deinen Freunden kochen und Essen. Wenn du jetzt also Hungrig geworden bist und Lust bekommen hast zu kochen dann komm doch einfach mal Freitags bei uns vorbei. Wenn du ausgefallene Ideen für Gerichte hast\, dann lass es uns gerne wissen. Also wir freuen uns darauf ich bei uns begrüßen zu dürfen!
URL:http://s130056251.online.de/event/gemeinsames-kochen-im-cdf-schuelerklub/2027-10-29/
LOCATION:CDF Schülerklub\, Alte Hellersdorfer Straße 7\, Hellersdorf Nord\, 12629
END:VEVENT
BEGIN:VEVENT
DTSTART;TZID=Europe/Berlin:20271105T143000
DTEND;TZID=Europe/Berlin:20271105T170000
DTSTAMP:20260422T223051
CREATED:20230621T135642Z
LAST-MODIFIED:20230621T140644Z
UID:10002949-1825425000-1825434000@s130056251.online.de
SUMMARY:Gemeinsames Kochen im CDF Schülerklub
DESCRIPTION:Das Wochenende kann kommen und wir wollen es gemeinsam mit dir Begrüßen! Um das Wochenende einzuleiten\, wollen wir gemeinsam mit dir und deinen Freunden kochen und Essen. Wenn du jetzt also Hungrig geworden bist und Lust bekommen hast zu kochen dann komm doch einfach mal Freitags bei uns vorbei. Wenn du ausgefallene Ideen für Gerichte hast\, dann lass es uns gerne wissen. Also wir freuen uns darauf ich bei uns begrüßen zu dürfen!
URL:http://s130056251.online.de/event/gemeinsames-kochen-im-cdf-schuelerklub/2027-11-05/
LOCATION:CDF Schülerklub\, Alte Hellersdorfer Straße 7\, Hellersdorf Nord\, 12629
END:VEVENT
BEGIN:VEVENT
DTSTART;TZID=Europe/Berlin:20271112T143000
DTEND;TZID=Europe/Berlin:20271112T170000
DTSTAMP:20260422T223051
CREATED:20230621T135642Z
LAST-MODIFIED:20230621T140644Z
UID:10002950-1826029800-1826038800@s130056251.online.de
SUMMARY:Gemeinsames Kochen im CDF Schülerklub
DESCRIPTION:Das Wochenende kann kommen und wir wollen es gemeinsam mit dir Begrüßen! Um das Wochenende einzuleiten\, wollen wir gemeinsam mit dir und deinen Freunden kochen und Essen. Wenn du jetzt also Hungrig geworden bist und Lust bekommen hast zu kochen dann komm doch einfach mal Freitags bei uns vorbei. Wenn du ausgefallene Ideen für Gerichte hast\, dann lass es uns gerne wissen. Also wir freuen uns darauf ich bei uns begrüßen zu dürfen!
URL:http://s130056251.online.de/event/gemeinsames-kochen-im-cdf-schuelerklub/2027-11-12/
LOCATION:CDF Schülerklub\, Alte Hellersdorfer Straße 7\, Hellersdorf Nord\, 12629
END:VEVENT
BEGIN:VEVENT
DTSTART;TZID=Europe/Berlin:20271119T143000
DTEND;TZID=Europe/Berlin:20271119T170000
DTSTAMP:20260422T223051
CREATED:20230621T135642Z
LAST-MODIFIED:20230621T140644Z
UID:10002951-1826634600-1826643600@s130056251.online.de
SUMMARY:Gemeinsames Kochen im CDF Schülerklub
DESCRIPTION:Das Wochenende kann kommen und wir wollen es gemeinsam mit dir Begrüßen! Um das Wochenende einzuleiten\, wollen wir gemeinsam mit dir und deinen Freunden kochen und Essen. Wenn du jetzt also Hungrig geworden bist und Lust bekommen hast zu kochen dann komm doch einfach mal Freitags bei uns vorbei. Wenn du ausgefallene Ideen für Gerichte hast\, dann lass es uns gerne wissen. Also wir freuen uns darauf ich bei uns begrüßen zu dürfen!
URL:http://s130056251.online.de/event/gemeinsames-kochen-im-cdf-schuelerklub/2027-11-19/
LOCATION:CDF Schülerklub\, Alte Hellersdorfer Straße 7\, Hellersdorf Nord\, 12629
END:VEVENT
BEGIN:VEVENT
DTSTART;TZID=Europe/Berlin:20271126T143000
DTEND;TZID=Europe/Berlin:20271126T170000
DTSTAMP:20260422T223051
CREATED:20230621T135642Z
LAST-MODIFIED:20230621T140644Z
UID:10002952-1827239400-1827248400@s130056251.online.de
SUMMARY:Gemeinsames Kochen im CDF Schülerklub
DESCRIPTION:Das Wochenende kann kommen und wir wollen es gemeinsam mit dir Begrüßen! Um das Wochenende einzuleiten\, wollen wir gemeinsam mit dir und deinen Freunden kochen und Essen. Wenn du jetzt also Hungrig geworden bist und Lust bekommen hast zu kochen dann komm doch einfach mal Freitags bei uns vorbei. Wenn du ausgefallene Ideen für Gerichte hast\, dann lass es uns gerne wissen. Also wir freuen uns darauf ich bei uns begrüßen zu dürfen!
URL:http://s130056251.online.de/event/gemeinsames-kochen-im-cdf-schuelerklub/2027-11-26/
LOCATION:CDF Schülerklub\, Alte Hellersdorfer Straße 7\, Hellersdorf Nord\, 12629
END:VEVENT
BEGIN:VEVENT
DTSTART;TZID=Europe/Berlin:20271203T143000
DTEND;TZID=Europe/Berlin:20271203T170000
DTSTAMP:20260422T223051
CREATED:20230621T135642Z
LAST-MODIFIED:20230621T140644Z
UID:10002953-1827844200-1827853200@s130056251.online.de
SUMMARY:Gemeinsames Kochen im CDF Schülerklub
DESCRIPTION:Das Wochenende kann kommen und wir wollen es gemeinsam mit dir Begrüßen! Um das Wochenende einzuleiten\, wollen wir gemeinsam mit dir und deinen Freunden kochen und Essen. Wenn du jetzt also Hungrig geworden bist und Lust bekommen hast zu kochen dann komm doch einfach mal Freitags bei uns vorbei. Wenn du ausgefallene Ideen für Gerichte hast\, dann lass es uns gerne wissen. Also wir freuen uns darauf ich bei uns begrüßen zu dürfen!
URL:http://s130056251.online.de/event/gemeinsames-kochen-im-cdf-schuelerklub/2027-12-03/
LOCATION:CDF Schülerklub\, Alte Hellersdorfer Straße 7\, Hellersdorf Nord\, 12629
END:VEVENT
BEGIN:VEVENT
DTSTART;TZID=Europe/Berlin:20271210T143000
DTEND;TZID=Europe/Berlin:20271210T170000
DTSTAMP:20260422T223051
CREATED:20230621T135642Z
LAST-MODIFIED:20230621T140644Z
UID:10002954-1828449000-1828458000@s130056251.online.de
SUMMARY:Gemeinsames Kochen im CDF Schülerklub
DESCRIPTION:Das Wochenende kann kommen und wir wollen es gemeinsam mit dir Begrüßen! Um das Wochenende einzuleiten\, wollen wir gemeinsam mit dir und deinen Freunden kochen und Essen. Wenn du jetzt also Hungrig geworden bist und Lust bekommen hast zu kochen dann komm doch einfach mal Freitags bei uns vorbei. Wenn du ausgefallene Ideen für Gerichte hast\, dann lass es uns gerne wissen. Also wir freuen uns darauf ich bei uns begrüßen zu dürfen!
URL:http://s130056251.online.de/event/gemeinsames-kochen-im-cdf-schuelerklub/2027-12-10/
LOCATION:CDF Schülerklub\, Alte Hellersdorfer Straße 7\, Hellersdorf Nord\, 12629
END:VEVENT
BEGIN:VEVENT
DTSTART;TZID=Europe/Berlin:20271217T143000
DTEND;TZID=Europe/Berlin:20271217T170000
DTSTAMP:20260422T223051
CREATED:20230621T135642Z
LAST-MODIFIED:20230621T140644Z
UID:10002955-1829053800-1829062800@s130056251.online.de
SUMMARY:Gemeinsames Kochen im CDF Schülerklub
DESCRIPTION:Das Wochenende kann kommen und wir wollen es gemeinsam mit dir Begrüßen! Um das Wochenende einzuleiten\, wollen wir gemeinsam mit dir und deinen Freunden kochen und Essen. Wenn du jetzt also Hungrig geworden bist und Lust bekommen hast zu kochen dann komm doch einfach mal Freitags bei uns vorbei. Wenn du ausgefallene Ideen für Gerichte hast\, dann lass es uns gerne wissen. Also wir freuen uns darauf ich bei uns begrüßen zu dürfen!
URL:http://s130056251.online.de/event/gemeinsames-kochen-im-cdf-schuelerklub/2027-12-17/
LOCATION:CDF Schülerklub\, Alte Hellersdorfer Straße 7\, Hellersdorf Nord\, 12629
END:VEVENT
BEGIN:VEVENT
DTSTART;TZID=Europe/Berlin:20271224T143000
DTEND;TZID=Europe/Berlin:20271224T170000
DTSTAMP:20260422T223051
CREATED:20230621T135642Z
LAST-MODIFIED:20230621T140644Z
UID:10002956-1829658600-1829667600@s130056251.online.de
SUMMARY:Gemeinsames Kochen im CDF Schülerklub
DESCRIPTION:Das Wochenende kann kommen und wir wollen es gemeinsam mit dir Begrüßen! Um das Wochenende einzuleiten\, wollen wir gemeinsam mit dir und deinen Freunden kochen und Essen. Wenn du jetzt also Hungrig geworden bist und Lust bekommen hast zu kochen dann komm doch einfach mal Freitags bei uns vorbei. Wenn du ausgefallene Ideen für Gerichte hast\, dann lass es uns gerne wissen. Also wir freuen uns darauf ich bei uns begrüßen zu dürfen!
URL:http://s130056251.online.de/event/gemeinsames-kochen-im-cdf-schuelerklub/2027-12-24/
LOCATION:CDF Schülerklub\, Alte Hellersdorfer Straße 7\, Hellersdorf Nord\, 12629
END:VEVENT
BEGIN:VEVENT
DTSTART;TZID=Europe/Berlin:20271231T143000
DTEND;TZID=Europe/Berlin:20271231T170000
DTSTAMP:20260422T223051
CREATED:20230621T135642Z
LAST-MODIFIED:20230621T140644Z
UID:10002957-1830263400-1830272400@s130056251.online.de
SUMMARY:Gemeinsames Kochen im CDF Schülerklub
DESCRIPTION:Das Wochenende kann kommen und wir wollen es gemeinsam mit dir Begrüßen! Um das Wochenende einzuleiten\, wollen wir gemeinsam mit dir und deinen Freunden kochen und Essen. Wenn du jetzt also Hungrig geworden bist und Lust bekommen hast zu kochen dann komm doch einfach mal Freitags bei uns vorbei. Wenn du ausgefallene Ideen für Gerichte hast\, dann lass es uns gerne wissen. Also wir freuen uns darauf ich bei uns begrüßen zu dürfen!
URL:http://s130056251.online.de/event/gemeinsames-kochen-im-cdf-schuelerklub/2027-12-31/
LOCATION:CDF Schülerklub\, Alte Hellersdorfer Straße 7\, Hellersdorf Nord\, 12629
END:VEVENT
BEGIN:VEVENT
DTSTART;TZID=Europe/Berlin:20280107T143000
DTEND;TZID=Europe/Berlin:20280107T170000
DTSTAMP:20260422T223051
CREATED:20230621T135642Z
LAST-MODIFIED:20230621T140644Z
UID:10002958-1830868200-1830877200@s130056251.online.de
SUMMARY:Gemeinsames Kochen im CDF Schülerklub
DESCRIPTION:Das Wochenende kann kommen und wir wollen es gemeinsam mit dir Begrüßen! Um das Wochenende einzuleiten\, wollen wir gemeinsam mit dir und deinen Freunden kochen und Essen. Wenn du jetzt also Hungrig geworden bist und Lust bekommen hast zu kochen dann komm doch einfach mal Freitags bei uns vorbei. Wenn du ausgefallene Ideen für Gerichte hast\, dann lass es uns gerne wissen. Also wir freuen uns darauf ich bei uns begrüßen zu dürfen!
URL:http://s130056251.online.de/event/gemeinsames-kochen-im-cdf-schuelerklub/2028-01-07/
LOCATION:CDF Schülerklub\, Alte Hellersdorfer Straße 7\, Hellersdorf Nord\, 12629
END:VEVENT
BEGIN:VEVENT
DTSTART;TZID=Europe/Berlin:20280114T143000
DTEND;TZID=Europe/Berlin:20280114T170000
DTSTAMP:20260422T223051
CREATED:20230621T135642Z
LAST-MODIFIED:20230621T140644Z
UID:10002959-1831473000-1831482000@s130056251.online.de
SUMMARY:Gemeinsames Kochen im CDF Schülerklub
DESCRIPTION:Das Wochenende kann kommen und wir wollen es gemeinsam mit dir Begrüßen! Um das Wochenende einzuleiten\, wollen wir gemeinsam mit dir und deinen Freunden kochen und Essen. Wenn du jetzt also Hungrig geworden bist und Lust bekommen hast zu kochen dann komm doch einfach mal Freitags bei uns vorbei. Wenn du ausgefallene Ideen für Gerichte hast\, dann lass es uns gerne wissen. Also wir freuen uns darauf ich bei uns begrüßen zu dürfen!
URL:http://s130056251.online.de/event/gemeinsames-kochen-im-cdf-schuelerklub/2028-01-14/
LOCATION:CDF Schülerklub\, Alte Hellersdorfer Straße 7\, Hellersdorf Nord\, 12629
END:VEVENT
BEGIN:VEVENT
DTSTART;TZID=Europe/Berlin:20280121T143000
DTEND;TZID=Europe/Berlin:20280121T170000
DTSTAMP:20260422T223051
CREATED:20230621T135642Z
LAST-MODIFIED:20230621T140644Z
UID:10002960-1832077800-1832086800@s130056251.online.de
SUMMARY:Gemeinsames Kochen im CDF Schülerklub
DESCRIPTION:Das Wochenende kann kommen und wir wollen es gemeinsam mit dir Begrüßen! Um das Wochenende einzuleiten\, wollen wir gemeinsam mit dir und deinen Freunden kochen und Essen. Wenn du jetzt also Hungrig geworden bist und Lust bekommen hast zu kochen dann komm doch einfach mal Freitags bei uns vorbei. Wenn du ausgefallene Ideen für Gerichte hast\, dann lass es uns gerne wissen. Also wir freuen uns darauf ich bei uns begrüßen zu dürfen!
URL:http://s130056251.online.de/event/gemeinsames-kochen-im-cdf-schuelerklub/2028-01-21/
LOCATION:CDF Schülerklub\, Alte Hellersdorfer Straße 7\, Hellersdorf Nord\, 12629
END:VEVENT
BEGIN:VEVENT
DTSTART;TZID=Europe/Berlin:20280128T143000
DTEND;TZID=Europe/Berlin:20280128T170000
DTSTAMP:20260422T223051
CREATED:20230621T135642Z
LAST-MODIFIED:20230621T140644Z
UID:10002961-1832682600-1832691600@s130056251.online.de
SUMMARY:Gemeinsames Kochen im CDF Schülerklub
DESCRIPTION:Das Wochenende kann kommen und wir wollen es gemeinsam mit dir Begrüßen! Um das Wochenende einzuleiten\, wollen wir gemeinsam mit dir und deinen Freunden kochen und Essen. Wenn du jetzt also Hungrig geworden bist und Lust bekommen hast zu kochen dann komm doch einfach mal Freitags bei uns vorbei. Wenn du ausgefallene Ideen für Gerichte hast\, dann lass es uns gerne wissen. Also wir freuen uns darauf ich bei uns begrüßen zu dürfen!
URL:http://s130056251.online.de/event/gemeinsames-kochen-im-cdf-schuelerklub/2028-01-28/
LOCATION:CDF Schülerklub\, Alte Hellersdorfer Straße 7\, Hellersdorf Nord\, 12629
END:VEVENT
BEGIN:VEVENT
DTSTART;TZID=Europe/Berlin:20280204T143000
DTEND;TZID=Europe/Berlin:20280204T170000
DTSTAMP:20260422T223051
CREATED:20230621T135642Z
LAST-MODIFIED:20230621T140644Z
UID:10002962-1833287400-1833296400@s130056251.online.de
SUMMARY:Gemeinsames Kochen im CDF Schülerklub
DESCRIPTION:Das Wochenende kann kommen und wir wollen es gemeinsam mit dir Begrüßen! Um das Wochenende einzuleiten\, wollen wir gemeinsam mit dir und deinen Freunden kochen und Essen. Wenn du jetzt also Hungrig geworden bist und Lust bekommen hast zu kochen dann komm doch einfach mal Freitags bei uns vorbei. Wenn du ausgefallene Ideen für Gerichte hast\, dann lass es uns gerne wissen. Also wir freuen uns darauf ich bei uns begrüßen zu dürfen!
URL:http://s130056251.online.de/event/gemeinsames-kochen-im-cdf-schuelerklub/2028-02-04/
LOCATION:CDF Schülerklub\, Alte Hellersdorfer Straße 7\, Hellersdorf Nord\, 12629
END:VEVENT
BEGIN:VEVENT
DTSTART;TZID=Europe/Berlin:20280211T143000
DTEND;TZID=Europe/Berlin:20280211T170000
DTSTAMP:20260422T223051
CREATED:20230621T135642Z
LAST-MODIFIED:20230621T140644Z
UID:10002963-1833892200-1833901200@s130056251.online.de
SUMMARY:Gemeinsames Kochen im CDF Schülerklub
DESCRIPTION:Das Wochenende kann kommen und wir wollen es gemeinsam mit dir Begrüßen! Um das Wochenende einzuleiten\, wollen wir gemeinsam mit dir und deinen Freunden kochen und Essen. Wenn du jetzt also Hungrig geworden bist und Lust bekommen hast zu kochen dann komm doch einfach mal Freitags bei uns vorbei. Wenn du ausgefallene Ideen für Gerichte hast\, dann lass es uns gerne wissen. Also wir freuen uns darauf ich bei uns begrüßen zu dürfen!
URL:http://s130056251.online.de/event/gemeinsames-kochen-im-cdf-schuelerklub/2028-02-11/
LOCATION:CDF Schülerklub\, Alte Hellersdorfer Straße 7\, Hellersdorf Nord\, 12629
END:VEVENT
BEGIN:VEVENT
DTSTART;TZID=Europe/Berlin:20280218T143000
DTEND;TZID=Europe/Berlin:20280218T170000
DTSTAMP:20260422T223051
CREATED:20230621T135642Z
LAST-MODIFIED:20230621T140644Z
UID:10002964-1834497000-1834506000@s130056251.online.de
SUMMARY:Gemeinsames Kochen im CDF Schülerklub
DESCRIPTION:Das Wochenende kann kommen und wir wollen es gemeinsam mit dir Begrüßen! Um das Wochenende einzuleiten\, wollen wir gemeinsam mit dir und deinen Freunden kochen und Essen. Wenn du jetzt also Hungrig geworden bist und Lust bekommen hast zu kochen dann komm doch einfach mal Freitags bei uns vorbei. Wenn du ausgefallene Ideen für Gerichte hast\, dann lass es uns gerne wissen. Also wir freuen uns darauf ich bei uns begrüßen zu dürfen!
URL:http://s130056251.online.de/event/gemeinsames-kochen-im-cdf-schuelerklub/2028-02-18/
LOCATION:CDF Schülerklub\, Alte Hellersdorfer Straße 7\, Hellersdorf Nord\, 12629
END:VEVENT
BEGIN:VEVENT
DTSTART;TZID=Europe/Berlin:20280225T143000
DTEND;TZID=Europe/Berlin:20280225T170000
DTSTAMP:20260422T223051
CREATED:20230621T135642Z
LAST-MODIFIED:20230621T140644Z
UID:10002965-1835101800-1835110800@s130056251.online.de
SUMMARY:Gemeinsames Kochen im CDF Schülerklub
DESCRIPTION:Das Wochenende kann kommen und wir wollen es gemeinsam mit dir Begrüßen! Um das Wochenende einzuleiten\, wollen wir gemeinsam mit dir und deinen Freunden kochen und Essen. Wenn du jetzt also Hungrig geworden bist und Lust bekommen hast zu kochen dann komm doch einfach mal Freitags bei uns vorbei. Wenn du ausgefallene Ideen für Gerichte hast\, dann lass es uns gerne wissen. Also wir freuen uns darauf ich bei uns begrüßen zu dürfen!
URL:http://s130056251.online.de/event/gemeinsames-kochen-im-cdf-schuelerklub/2028-02-25/
LOCATION:CDF Schülerklub\, Alte Hellersdorfer Straße 7\, Hellersdorf Nord\, 12629
END:VEVENT
BEGIN:VEVENT
DTSTART;TZID=Europe/Berlin:20280303T143000
DTEND;TZID=Europe/Berlin:20280303T170000
DTSTAMP:20260422T223051
CREATED:20230621T135642Z
LAST-MODIFIED:20230621T140644Z
UID:10002966-1835706600-1835715600@s130056251.online.de
SUMMARY:Gemeinsames Kochen im CDF Schülerklub
DESCRIPTION:Das Wochenende kann kommen und wir wollen es gemeinsam mit dir Begrüßen! Um das Wochenende einzuleiten\, wollen wir gemeinsam mit dir und deinen Freunden kochen und Essen. Wenn du jetzt also Hungrig geworden bist und Lust bekommen hast zu kochen dann komm doch einfach mal Freitags bei uns vorbei. Wenn du ausgefallene Ideen für Gerichte hast\, dann lass es uns gerne wissen. Also wir freuen uns darauf ich bei uns begrüßen zu dürfen!
URL:http://s130056251.online.de/event/gemeinsames-kochen-im-cdf-schuelerklub/2028-03-03/
LOCATION:CDF Schülerklub\, Alte Hellersdorfer Straße 7\, Hellersdorf Nord\, 12629
END:VEVENT
BEGIN:VEVENT
DTSTART;TZID=Europe/Berlin:20280310T143000
DTEND;TZID=Europe/Berlin:20280310T170000
DTSTAMP:20260422T223051
CREATED:20230621T135642Z
LAST-MODIFIED:20230621T140644Z
UID:10002967-1836311400-1836320400@s130056251.online.de
SUMMARY:Gemeinsames Kochen im CDF Schülerklub
DESCRIPTION:Das Wochenende kann kommen und wir wollen es gemeinsam mit dir Begrüßen! Um das Wochenende einzuleiten\, wollen wir gemeinsam mit dir und deinen Freunden kochen und Essen. Wenn du jetzt also Hungrig geworden bist und Lust bekommen hast zu kochen dann komm doch einfach mal Freitags bei uns vorbei. Wenn du ausgefallene Ideen für Gerichte hast\, dann lass es uns gerne wissen. Also wir freuen uns darauf ich bei uns begrüßen zu dürfen!
URL:http://s130056251.online.de/event/gemeinsames-kochen-im-cdf-schuelerklub/2028-03-10/
LOCATION:CDF Schülerklub\, Alte Hellersdorfer Straße 7\, Hellersdorf Nord\, 12629
END:VEVENT
BEGIN:VEVENT
DTSTART;TZID=Europe/Berlin:20280317T143000
DTEND;TZID=Europe/Berlin:20280317T170000
DTSTAMP:20260422T223051
CREATED:20230621T135642Z
LAST-MODIFIED:20230621T140644Z
UID:10002968-1836916200-1836925200@s130056251.online.de
SUMMARY:Gemeinsames Kochen im CDF Schülerklub
DESCRIPTION:Das Wochenende kann kommen und wir wollen es gemeinsam mit dir Begrüßen! Um das Wochenende einzuleiten\, wollen wir gemeinsam mit dir und deinen Freunden kochen und Essen. Wenn du jetzt also Hungrig geworden bist und Lust bekommen hast zu kochen dann komm doch einfach mal Freitags bei uns vorbei. Wenn du ausgefallene Ideen für Gerichte hast\, dann lass es uns gerne wissen. Also wir freuen uns darauf ich bei uns begrüßen zu dürfen!
URL:http://s130056251.online.de/event/gemeinsames-kochen-im-cdf-schuelerklub/2028-03-17/
LOCATION:CDF Schülerklub\, Alte Hellersdorfer Straße 7\, Hellersdorf Nord\, 12629
END:VEVENT
BEGIN:VEVENT
DTSTART;TZID=Europe/Berlin:20280324T143000
DTEND;TZID=Europe/Berlin:20280324T170000
DTSTAMP:20260422T223051
CREATED:20230621T135642Z
LAST-MODIFIED:20230621T140644Z
UID:10002969-1837521000-1837530000@s130056251.online.de
SUMMARY:Gemeinsames Kochen im CDF Schülerklub
DESCRIPTION:Das Wochenende kann kommen und wir wollen es gemeinsam mit dir Begrüßen! Um das Wochenende einzuleiten\, wollen wir gemeinsam mit dir und deinen Freunden kochen und Essen. Wenn du jetzt also Hungrig geworden bist und Lust bekommen hast zu kochen dann komm doch einfach mal Freitags bei uns vorbei. Wenn du ausgefallene Ideen für Gerichte hast\, dann lass es uns gerne wissen. Also wir freuen uns darauf ich bei uns begrüßen zu dürfen!
URL:http://s130056251.online.de/event/gemeinsames-kochen-im-cdf-schuelerklub/2028-03-24/
LOCATION:CDF Schülerklub\, Alte Hellersdorfer Straße 7\, Hellersdorf Nord\, 12629
END:VEVENT
BEGIN:VEVENT
DTSTART;TZID=Europe/Berlin:20280331T143000
DTEND;TZID=Europe/Berlin:20280331T170000
DTSTAMP:20260422T223051
CREATED:20230621T135642Z
LAST-MODIFIED:20230621T140644Z
UID:10002970-1838125800-1838134800@s130056251.online.de
SUMMARY:Gemeinsames Kochen im CDF Schülerklub
DESCRIPTION:Das Wochenende kann kommen und wir wollen es gemeinsam mit dir Begrüßen! Um das Wochenende einzuleiten\, wollen wir gemeinsam mit dir und deinen Freunden kochen und Essen. Wenn du jetzt also Hungrig geworden bist und Lust bekommen hast zu kochen dann komm doch einfach mal Freitags bei uns vorbei. Wenn du ausgefallene Ideen für Gerichte hast\, dann lass es uns gerne wissen. Also wir freuen uns darauf ich bei uns begrüßen zu dürfen!
URL:http://s130056251.online.de/event/gemeinsames-kochen-im-cdf-schuelerklub/2028-03-31/
LOCATION:CDF Schülerklub\, Alte Hellersdorfer Straße 7\, Hellersdorf Nord\, 12629
END:VEVENT
END:VCALENDAR