BEGIN:VCALENDAR
VERSION:2.0
PRODID:-//Was geht in Hellersdorf - ECPv6.1.2.2//NONSGML v1.0//EN
CALSCALE:GREGORIAN
METHOD:PUBLISH
X-ORIGINAL-URL:http://s130056251.online.de
X-WR-CALDESC:Veranstaltungen für Was geht in Hellersdorf
REFRESH-INTERVAL;VALUE=DURATION:PT1H
X-Robots-Tag:noindex
X-PUBLISHED-TTL:PT1H
BEGIN:VTIMEZONE
TZID:Europe/Berlin
BEGIN:DAYLIGHT
TZOFFSETFROM:+0100
TZOFFSETTO:+0200
TZNAME:CEST
DTSTART:20270328T010000
END:DAYLIGHT
BEGIN:STANDARD
TZOFFSETFROM:+0200
TZOFFSETTO:+0100
TZNAME:CET
DTSTART:20271031T010000
END:STANDARD
BEGIN:DAYLIGHT
TZOFFSETFROM:+0100
TZOFFSETTO:+0200
TZNAME:CEST
DTSTART:20280326T010000
END:DAYLIGHT
BEGIN:STANDARD
TZOFFSETFROM:+0200
TZOFFSETTO:+0100
TZNAME:CET
DTSTART:20281029T010000
END:STANDARD
END:VTIMEZONE
BEGIN:VEVENT
DTSTART;TZID=Europe/Berlin:20270915T160000
DTEND;TZID=Europe/Berlin:20270915T180000
DTSTAMP:20260423T013943
CREATED:20230622T110653Z
LAST-MODIFIED:20230622T110653Z
UID:10001902-1821024000-1821031200@s130056251.online.de
SUMMARY:Outdoorküche
DESCRIPTION:Wir kochen unterschiedliche und leckere Gerichte\, draußen\, im Dutch Oven über/in der Feuerschale.
URL:http://s130056251.online.de/event/outdoorkueche/2027-09-15/
LOCATION:Senfte 10\, Senftenberger Straße 10\, Berlin\, Berlin\, 12627
END:VEVENT
BEGIN:VEVENT
DTSTART;TZID=Europe/Berlin:20270922T160000
DTEND;TZID=Europe/Berlin:20270922T180000
DTSTAMP:20260423T013943
CREATED:20230622T110653Z
LAST-MODIFIED:20230622T110653Z
UID:10001903-1821628800-1821636000@s130056251.online.de
SUMMARY:Outdoorküche
DESCRIPTION:Wir kochen unterschiedliche und leckere Gerichte\, draußen\, im Dutch Oven über/in der Feuerschale.
URL:http://s130056251.online.de/event/outdoorkueche/2027-09-22/
LOCATION:Senfte 10\, Senftenberger Straße 10\, Berlin\, Berlin\, 12627
END:VEVENT
BEGIN:VEVENT
DTSTART;TZID=Europe/Berlin:20270929T160000
DTEND;TZID=Europe/Berlin:20270929T180000
DTSTAMP:20260423T013943
CREATED:20230622T110653Z
LAST-MODIFIED:20230622T110653Z
UID:10001904-1822233600-1822240800@s130056251.online.de
SUMMARY:Outdoorküche
DESCRIPTION:Wir kochen unterschiedliche und leckere Gerichte\, draußen\, im Dutch Oven über/in der Feuerschale.
URL:http://s130056251.online.de/event/outdoorkueche/2027-09-29/
LOCATION:Senfte 10\, Senftenberger Straße 10\, Berlin\, Berlin\, 12627
END:VEVENT
BEGIN:VEVENT
DTSTART;TZID=Europe/Berlin:20271006T160000
DTEND;TZID=Europe/Berlin:20271006T180000
DTSTAMP:20260423T013943
CREATED:20230622T110653Z
LAST-MODIFIED:20230622T110653Z
UID:10001905-1822838400-1822845600@s130056251.online.de
SUMMARY:Outdoorküche
DESCRIPTION:Wir kochen unterschiedliche und leckere Gerichte\, draußen\, im Dutch Oven über/in der Feuerschale.
URL:http://s130056251.online.de/event/outdoorkueche/2027-10-06/
LOCATION:Senfte 10\, Senftenberger Straße 10\, Berlin\, Berlin\, 12627
END:VEVENT
BEGIN:VEVENT
DTSTART;TZID=Europe/Berlin:20271013T160000
DTEND;TZID=Europe/Berlin:20271013T180000
DTSTAMP:20260423T013943
CREATED:20230622T110653Z
LAST-MODIFIED:20230622T110653Z
UID:10001906-1823443200-1823450400@s130056251.online.de
SUMMARY:Outdoorküche
DESCRIPTION:Wir kochen unterschiedliche und leckere Gerichte\, draußen\, im Dutch Oven über/in der Feuerschale.
URL:http://s130056251.online.de/event/outdoorkueche/2027-10-13/
LOCATION:Senfte 10\, Senftenberger Straße 10\, Berlin\, Berlin\, 12627
END:VEVENT
BEGIN:VEVENT
DTSTART;TZID=Europe/Berlin:20271020T160000
DTEND;TZID=Europe/Berlin:20271020T180000
DTSTAMP:20260423T013943
CREATED:20230622T110653Z
LAST-MODIFIED:20230622T110653Z
UID:10001907-1824048000-1824055200@s130056251.online.de
SUMMARY:Outdoorküche
DESCRIPTION:Wir kochen unterschiedliche und leckere Gerichte\, draußen\, im Dutch Oven über/in der Feuerschale.
URL:http://s130056251.online.de/event/outdoorkueche/2027-10-20/
LOCATION:Senfte 10\, Senftenberger Straße 10\, Berlin\, Berlin\, 12627
END:VEVENT
BEGIN:VEVENT
DTSTART;TZID=Europe/Berlin:20271027T160000
DTEND;TZID=Europe/Berlin:20271027T180000
DTSTAMP:20260423T013943
CREATED:20230622T110653Z
LAST-MODIFIED:20230622T110653Z
UID:10001908-1824652800-1824660000@s130056251.online.de
SUMMARY:Outdoorküche
DESCRIPTION:Wir kochen unterschiedliche und leckere Gerichte\, draußen\, im Dutch Oven über/in der Feuerschale.
URL:http://s130056251.online.de/event/outdoorkueche/2027-10-27/
LOCATION:Senfte 10\, Senftenberger Straße 10\, Berlin\, Berlin\, 12627
END:VEVENT
BEGIN:VEVENT
DTSTART;TZID=Europe/Berlin:20271103T160000
DTEND;TZID=Europe/Berlin:20271103T180000
DTSTAMP:20260423T013943
CREATED:20230622T110653Z
LAST-MODIFIED:20230622T110653Z
UID:10001909-1825257600-1825264800@s130056251.online.de
SUMMARY:Outdoorküche
DESCRIPTION:Wir kochen unterschiedliche und leckere Gerichte\, draußen\, im Dutch Oven über/in der Feuerschale.
URL:http://s130056251.online.de/event/outdoorkueche/2027-11-03/
LOCATION:Senfte 10\, Senftenberger Straße 10\, Berlin\, Berlin\, 12627
END:VEVENT
BEGIN:VEVENT
DTSTART;TZID=Europe/Berlin:20271110T160000
DTEND;TZID=Europe/Berlin:20271110T180000
DTSTAMP:20260423T013943
CREATED:20230622T110653Z
LAST-MODIFIED:20230622T110653Z
UID:10001910-1825862400-1825869600@s130056251.online.de
SUMMARY:Outdoorküche
DESCRIPTION:Wir kochen unterschiedliche und leckere Gerichte\, draußen\, im Dutch Oven über/in der Feuerschale.
URL:http://s130056251.online.de/event/outdoorkueche/2027-11-10/
LOCATION:Senfte 10\, Senftenberger Straße 10\, Berlin\, Berlin\, 12627
END:VEVENT
BEGIN:VEVENT
DTSTART;TZID=Europe/Berlin:20271117T160000
DTEND;TZID=Europe/Berlin:20271117T180000
DTSTAMP:20260423T013943
CREATED:20230622T110653Z
LAST-MODIFIED:20230622T110653Z
UID:10001911-1826467200-1826474400@s130056251.online.de
SUMMARY:Outdoorküche
DESCRIPTION:Wir kochen unterschiedliche und leckere Gerichte\, draußen\, im Dutch Oven über/in der Feuerschale.
URL:http://s130056251.online.de/event/outdoorkueche/2027-11-17/
LOCATION:Senfte 10\, Senftenberger Straße 10\, Berlin\, Berlin\, 12627
END:VEVENT
BEGIN:VEVENT
DTSTART;TZID=Europe/Berlin:20271124T160000
DTEND;TZID=Europe/Berlin:20271124T180000
DTSTAMP:20260423T013944
CREATED:20230622T110653Z
LAST-MODIFIED:20230622T110653Z
UID:10001912-1827072000-1827079200@s130056251.online.de
SUMMARY:Outdoorküche
DESCRIPTION:Wir kochen unterschiedliche und leckere Gerichte\, draußen\, im Dutch Oven über/in der Feuerschale.
URL:http://s130056251.online.de/event/outdoorkueche/2027-11-24/
LOCATION:Senfte 10\, Senftenberger Straße 10\, Berlin\, Berlin\, 12627
END:VEVENT
BEGIN:VEVENT
DTSTART;TZID=Europe/Berlin:20271201T160000
DTEND;TZID=Europe/Berlin:20271201T180000
DTSTAMP:20260423T013944
CREATED:20230622T110653Z
LAST-MODIFIED:20230622T110653Z
UID:10001913-1827676800-1827684000@s130056251.online.de
SUMMARY:Outdoorküche
DESCRIPTION:Wir kochen unterschiedliche und leckere Gerichte\, draußen\, im Dutch Oven über/in der Feuerschale.
URL:http://s130056251.online.de/event/outdoorkueche/2027-12-01/
LOCATION:Senfte 10\, Senftenberger Straße 10\, Berlin\, Berlin\, 12627
END:VEVENT
BEGIN:VEVENT
DTSTART;TZID=Europe/Berlin:20271208T160000
DTEND;TZID=Europe/Berlin:20271208T180000
DTSTAMP:20260423T013944
CREATED:20230622T110653Z
LAST-MODIFIED:20230622T110653Z
UID:10001914-1828281600-1828288800@s130056251.online.de
SUMMARY:Outdoorküche
DESCRIPTION:Wir kochen unterschiedliche und leckere Gerichte\, draußen\, im Dutch Oven über/in der Feuerschale.
URL:http://s130056251.online.de/event/outdoorkueche/2027-12-08/
LOCATION:Senfte 10\, Senftenberger Straße 10\, Berlin\, Berlin\, 12627
END:VEVENT
BEGIN:VEVENT
DTSTART;TZID=Europe/Berlin:20271215T160000
DTEND;TZID=Europe/Berlin:20271215T180000
DTSTAMP:20260423T013944
CREATED:20230622T110653Z
LAST-MODIFIED:20230622T110653Z
UID:10001915-1828886400-1828893600@s130056251.online.de
SUMMARY:Outdoorküche
DESCRIPTION:Wir kochen unterschiedliche und leckere Gerichte\, draußen\, im Dutch Oven über/in der Feuerschale.
URL:http://s130056251.online.de/event/outdoorkueche/2027-12-15/
LOCATION:Senfte 10\, Senftenberger Straße 10\, Berlin\, Berlin\, 12627
END:VEVENT
BEGIN:VEVENT
DTSTART;TZID=Europe/Berlin:20271222T160000
DTEND;TZID=Europe/Berlin:20271222T180000
DTSTAMP:20260423T013944
CREATED:20230622T110653Z
LAST-MODIFIED:20230622T110653Z
UID:10001916-1829491200-1829498400@s130056251.online.de
SUMMARY:Outdoorküche
DESCRIPTION:Wir kochen unterschiedliche und leckere Gerichte\, draußen\, im Dutch Oven über/in der Feuerschale.
URL:http://s130056251.online.de/event/outdoorkueche/2027-12-22/
LOCATION:Senfte 10\, Senftenberger Straße 10\, Berlin\, Berlin\, 12627
END:VEVENT
BEGIN:VEVENT
DTSTART;TZID=Europe/Berlin:20271229T160000
DTEND;TZID=Europe/Berlin:20271229T180000
DTSTAMP:20260423T013944
CREATED:20230622T110653Z
LAST-MODIFIED:20230622T110653Z
UID:10001917-1830096000-1830103200@s130056251.online.de
SUMMARY:Outdoorküche
DESCRIPTION:Wir kochen unterschiedliche und leckere Gerichte\, draußen\, im Dutch Oven über/in der Feuerschale.
URL:http://s130056251.online.de/event/outdoorkueche/2027-12-29/
LOCATION:Senfte 10\, Senftenberger Straße 10\, Berlin\, Berlin\, 12627
END:VEVENT
BEGIN:VEVENT
DTSTART;TZID=Europe/Berlin:20280105T160000
DTEND;TZID=Europe/Berlin:20280105T180000
DTSTAMP:20260423T013944
CREATED:20230622T110653Z
LAST-MODIFIED:20230622T110653Z
UID:10001918-1830700800-1830708000@s130056251.online.de
SUMMARY:Outdoorküche
DESCRIPTION:Wir kochen unterschiedliche und leckere Gerichte\, draußen\, im Dutch Oven über/in der Feuerschale.
URL:http://s130056251.online.de/event/outdoorkueche/2028-01-05/
LOCATION:Senfte 10\, Senftenberger Straße 10\, Berlin\, Berlin\, 12627
END:VEVENT
BEGIN:VEVENT
DTSTART;TZID=Europe/Berlin:20280112T160000
DTEND;TZID=Europe/Berlin:20280112T180000
DTSTAMP:20260423T013944
CREATED:20230622T110653Z
LAST-MODIFIED:20230622T110653Z
UID:10001919-1831305600-1831312800@s130056251.online.de
SUMMARY:Outdoorküche
DESCRIPTION:Wir kochen unterschiedliche und leckere Gerichte\, draußen\, im Dutch Oven über/in der Feuerschale.
URL:http://s130056251.online.de/event/outdoorkueche/2028-01-12/
LOCATION:Senfte 10\, Senftenberger Straße 10\, Berlin\, Berlin\, 12627
END:VEVENT
BEGIN:VEVENT
DTSTART;TZID=Europe/Berlin:20280119T160000
DTEND;TZID=Europe/Berlin:20280119T180000
DTSTAMP:20260423T013944
CREATED:20230622T110653Z
LAST-MODIFIED:20230622T110653Z
UID:10001920-1831910400-1831917600@s130056251.online.de
SUMMARY:Outdoorküche
DESCRIPTION:Wir kochen unterschiedliche und leckere Gerichte\, draußen\, im Dutch Oven über/in der Feuerschale.
URL:http://s130056251.online.de/event/outdoorkueche/2028-01-19/
LOCATION:Senfte 10\, Senftenberger Straße 10\, Berlin\, Berlin\, 12627
END:VEVENT
BEGIN:VEVENT
DTSTART;TZID=Europe/Berlin:20280126T160000
DTEND;TZID=Europe/Berlin:20280126T180000
DTSTAMP:20260423T013944
CREATED:20230622T110653Z
LAST-MODIFIED:20230622T110653Z
UID:10001921-1832515200-1832522400@s130056251.online.de
SUMMARY:Outdoorküche
DESCRIPTION:Wir kochen unterschiedliche und leckere Gerichte\, draußen\, im Dutch Oven über/in der Feuerschale.
URL:http://s130056251.online.de/event/outdoorkueche/2028-01-26/
LOCATION:Senfte 10\, Senftenberger Straße 10\, Berlin\, Berlin\, 12627
END:VEVENT
BEGIN:VEVENT
DTSTART;TZID=Europe/Berlin:20280202T160000
DTEND;TZID=Europe/Berlin:20280202T180000
DTSTAMP:20260423T013944
CREATED:20230622T110653Z
LAST-MODIFIED:20230622T110653Z
UID:10001922-1833120000-1833127200@s130056251.online.de
SUMMARY:Outdoorküche
DESCRIPTION:Wir kochen unterschiedliche und leckere Gerichte\, draußen\, im Dutch Oven über/in der Feuerschale.
URL:http://s130056251.online.de/event/outdoorkueche/2028-02-02/
LOCATION:Senfte 10\, Senftenberger Straße 10\, Berlin\, Berlin\, 12627
END:VEVENT
BEGIN:VEVENT
DTSTART;TZID=Europe/Berlin:20280209T160000
DTEND;TZID=Europe/Berlin:20280209T180000
DTSTAMP:20260423T013944
CREATED:20230622T110653Z
LAST-MODIFIED:20230622T110653Z
UID:10001923-1833724800-1833732000@s130056251.online.de
SUMMARY:Outdoorküche
DESCRIPTION:Wir kochen unterschiedliche und leckere Gerichte\, draußen\, im Dutch Oven über/in der Feuerschale.
URL:http://s130056251.online.de/event/outdoorkueche/2028-02-09/
LOCATION:Senfte 10\, Senftenberger Straße 10\, Berlin\, Berlin\, 12627
END:VEVENT
BEGIN:VEVENT
DTSTART;TZID=Europe/Berlin:20280216T160000
DTEND;TZID=Europe/Berlin:20280216T180000
DTSTAMP:20260423T013944
CREATED:20230622T110653Z
LAST-MODIFIED:20230622T110653Z
UID:10001924-1834329600-1834336800@s130056251.online.de
SUMMARY:Outdoorküche
DESCRIPTION:Wir kochen unterschiedliche und leckere Gerichte\, draußen\, im Dutch Oven über/in der Feuerschale.
URL:http://s130056251.online.de/event/outdoorkueche/2028-02-16/
LOCATION:Senfte 10\, Senftenberger Straße 10\, Berlin\, Berlin\, 12627
END:VEVENT
BEGIN:VEVENT
DTSTART;TZID=Europe/Berlin:20280223T160000
DTEND;TZID=Europe/Berlin:20280223T180000
DTSTAMP:20260423T013944
CREATED:20230622T110653Z
LAST-MODIFIED:20230622T110653Z
UID:10001925-1834934400-1834941600@s130056251.online.de
SUMMARY:Outdoorküche
DESCRIPTION:Wir kochen unterschiedliche und leckere Gerichte\, draußen\, im Dutch Oven über/in der Feuerschale.
URL:http://s130056251.online.de/event/outdoorkueche/2028-02-23/
LOCATION:Senfte 10\, Senftenberger Straße 10\, Berlin\, Berlin\, 12627
END:VEVENT
BEGIN:VEVENT
DTSTART;TZID=Europe/Berlin:20280301T160000
DTEND;TZID=Europe/Berlin:20280301T180000
DTSTAMP:20260423T013944
CREATED:20230622T110653Z
LAST-MODIFIED:20230622T110653Z
UID:10001926-1835539200-1835546400@s130056251.online.de
SUMMARY:Outdoorküche
DESCRIPTION:Wir kochen unterschiedliche und leckere Gerichte\, draußen\, im Dutch Oven über/in der Feuerschale.
URL:http://s130056251.online.de/event/outdoorkueche/2028-03-01/
LOCATION:Senfte 10\, Senftenberger Straße 10\, Berlin\, Berlin\, 12627
END:VEVENT
BEGIN:VEVENT
DTSTART;TZID=Europe/Berlin:20280308T160000
DTEND;TZID=Europe/Berlin:20280308T180000
DTSTAMP:20260423T013944
CREATED:20230622T110653Z
LAST-MODIFIED:20230622T110653Z
UID:10001927-1836144000-1836151200@s130056251.online.de
SUMMARY:Outdoorküche
DESCRIPTION:Wir kochen unterschiedliche und leckere Gerichte\, draußen\, im Dutch Oven über/in der Feuerschale.
URL:http://s130056251.online.de/event/outdoorkueche/2028-03-08/
LOCATION:Senfte 10\, Senftenberger Straße 10\, Berlin\, Berlin\, 12627
END:VEVENT
BEGIN:VEVENT
DTSTART;TZID=Europe/Berlin:20280315T160000
DTEND;TZID=Europe/Berlin:20280315T180000
DTSTAMP:20260423T013944
CREATED:20230622T110653Z
LAST-MODIFIED:20230622T110653Z
UID:10001928-1836748800-1836756000@s130056251.online.de
SUMMARY:Outdoorküche
DESCRIPTION:Wir kochen unterschiedliche und leckere Gerichte\, draußen\, im Dutch Oven über/in der Feuerschale.
URL:http://s130056251.online.de/event/outdoorkueche/2028-03-15/
LOCATION:Senfte 10\, Senftenberger Straße 10\, Berlin\, Berlin\, 12627
END:VEVENT
BEGIN:VEVENT
DTSTART;TZID=Europe/Berlin:20280322T160000
DTEND;TZID=Europe/Berlin:20280322T180000
DTSTAMP:20260423T013944
CREATED:20230622T110653Z
LAST-MODIFIED:20230622T110653Z
UID:10001929-1837353600-1837360800@s130056251.online.de
SUMMARY:Outdoorküche
DESCRIPTION:Wir kochen unterschiedliche und leckere Gerichte\, draußen\, im Dutch Oven über/in der Feuerschale.
URL:http://s130056251.online.de/event/outdoorkueche/2028-03-22/
LOCATION:Senfte 10\, Senftenberger Straße 10\, Berlin\, Berlin\, 12627
END:VEVENT
BEGIN:VEVENT
DTSTART;TZID=Europe/Berlin:20280329T160000
DTEND;TZID=Europe/Berlin:20280329T180000
DTSTAMP:20260423T013944
CREATED:20230622T110653Z
LAST-MODIFIED:20230622T110653Z
UID:10001930-1837958400-1837965600@s130056251.online.de
SUMMARY:Outdoorküche
DESCRIPTION:Wir kochen unterschiedliche und leckere Gerichte\, draußen\, im Dutch Oven über/in der Feuerschale.
URL:http://s130056251.online.de/event/outdoorkueche/2028-03-29/
LOCATION:Senfte 10\, Senftenberger Straße 10\, Berlin\, Berlin\, 12627
END:VEVENT
BEGIN:VEVENT
DTSTART;TZID=Europe/Berlin:20280405T160000
DTEND;TZID=Europe/Berlin:20280405T180000
DTSTAMP:20260423T013944
CREATED:20230622T110653Z
LAST-MODIFIED:20230622T110653Z
UID:10001931-1838563200-1838570400@s130056251.online.de
SUMMARY:Outdoorküche
DESCRIPTION:Wir kochen unterschiedliche und leckere Gerichte\, draußen\, im Dutch Oven über/in der Feuerschale.
URL:http://s130056251.online.de/event/outdoorkueche/2028-04-05/
LOCATION:Senfte 10\, Senftenberger Straße 10\, Berlin\, Berlin\, 12627
END:VEVENT
END:VCALENDAR