BEGIN:VCALENDAR
VERSION:2.0
PRODID:-//Was geht in Hellersdorf - ECPv6.1.2.2//NONSGML v1.0//EN
CALSCALE:GREGORIAN
METHOD:PUBLISH
X-ORIGINAL-URL:http://s130056251.online.de
X-WR-CALDESC:Veranstaltungen für Was geht in Hellersdorf
REFRESH-INTERVAL;VALUE=DURATION:PT1H
X-Robots-Tag:noindex
X-PUBLISHED-TTL:PT1H
BEGIN:VTIMEZONE
TZID:Europe/Berlin
BEGIN:DAYLIGHT
TZOFFSETFROM:+0100
TZOFFSETTO:+0200
TZNAME:CEST
DTSTART:20250330T010000
END:DAYLIGHT
BEGIN:STANDARD
TZOFFSETFROM:+0200
TZOFFSETTO:+0100
TZNAME:CET
DTSTART:20251026T010000
END:STANDARD
END:VTIMEZONE
BEGIN:VEVENT
DTSTART;TZID=Europe/Berlin:20251209T150000
DTEND;TZID=Europe/Berlin:20251209T170000
DTSTAMP:20260424T143051
CREATED:20231021T164345Z
LAST-MODIFIED:20231031T120204Z
UID:10003721-1765292400-1765299600@s130056251.online.de
SUMMARY:Kochen
DESCRIPTION:Kochen mit Basti – Eure Vorschläge sind gefragt 🙂
URL:http://s130056251.online.de/event/kochen-2/2025-12-09/
LOCATION:Eastend-Berlin\, Tangermünder Str. 127\, Berlin\, 12627
END:VEVENT
BEGIN:VEVENT
DTSTART;TZID=Europe/Berlin:20251209T150000
DTEND;TZID=Europe/Berlin:20251209T170000
DTSTAMP:20260424T143051
CREATED:20240702T134327Z
LAST-MODIFIED:20240702T134327Z
UID:10006814-1765292400-1765299600@s130056251.online.de
SUMMARY:gemeinsames Kochen im Eastend
DESCRIPTION:Wir entscheiden gemeinsam was wir kochen.
URL:http://s130056251.online.de/event/gemeinsames-kochen-im-eastend/2025-12-09/
LOCATION:Eastend-Berlin\, Tangermünder Str. 127\, Berlin\, 12627
ATTACH;FMTTYPE=image/png:http://s130056251.online.de/wp-content/uploads/2024/07/Unbenannt.png
END:VEVENT
BEGIN:VEVENT
DTSTART;TZID=Europe/Berlin:20251209T150000
DTEND;TZID=Europe/Berlin:20251209T170000
DTSTAMP:20260424T143051
CREATED:20250121T181802Z
LAST-MODIFIED:20250121T181802Z
UID:10007186-1765292400-1765299600@s130056251.online.de
SUMMARY:Gesundes Kochen
DESCRIPTION:Wir probieren eure Rezeptwünsche aus.
URL:http://s130056251.online.de/event/gesundes-kochen/2025-12-09/
LOCATION:U5\, Auerbacher Ring 25\, Berlin\, Berlin\, 12619\, Germany
ORGANIZER;CN="U5":MAILTO:u5@eastend-berlin.com
END:VEVENT
BEGIN:VEVENT
DTSTART;TZID=Europe/Berlin:20251209T163000
DTEND;TZID=Europe/Berlin:20251209T180000
DTSTAMP:20260424T143051
CREATED:20240123T122103Z
LAST-MODIFIED:20250128T134748Z
UID:10007277-1765297800-1765303200@s130056251.online.de
SUMMARY:Boxtraining
DESCRIPTION:Jeden Dienstag findet um 16:30 Uhr das Boxtraining mit Eric statt.
URL:http://s130056251.online.de/event/boxtraining-2/2025-12-09/
LOCATION:U5\, Auerbacher Ring 25\, Berlin\, Berlin\, 12619\, Germany
ATTACH;FMTTYPE=image/png:http://s130056251.online.de/wp-content/uploads/2024/01/Boxing-Night-Instagram-Story.png
ORGANIZER;CN="U5":MAILTO:u5@eastend-berlin.com
END:VEVENT
BEGIN:VEVENT
DTSTART;TZID=Europe/Berlin:20251209T170000
DTEND;TZID=Europe/Berlin:20251209T183000
DTSTAMP:20260424T143051
CREATED:20230622T110720Z
LAST-MODIFIED:20230622T110720Z
UID:10001417-1765299600-1765305000@s130056251.online.de
SUMMARY:Fit AG
DESCRIPTION:Sportliche Betätigung (altersgerecht) unter Aufsicht und Anleitung eines Trainers im Fitnessraum der Senfte 10.
URL:http://s130056251.online.de/event/fit-ag/2025-12-09/
LOCATION:Senfte 10\, Senftenberger Straße 10\, Berlin\, Berlin\, 12627
END:VEVENT
END:VCALENDAR