BEGIN:VCALENDAR
VERSION:2.0
PRODID:-//Was geht in Hellersdorf - ECPv6.1.2.2//NONSGML v1.0//EN
CALSCALE:GREGORIAN
METHOD:PUBLISH
X-ORIGINAL-URL:http://s130056251.online.de
X-WR-CALDESC:Veranstaltungen für Was geht in Hellersdorf
REFRESH-INTERVAL;VALUE=DURATION:PT1H
X-Robots-Tag:noindex
X-PUBLISHED-TTL:PT1H
BEGIN:VTIMEZONE
TZID:Europe/Berlin
BEGIN:DAYLIGHT
TZOFFSETFROM:+0100
TZOFFSETTO:+0200
TZNAME:CEST
DTSTART:20260329T010000
END:DAYLIGHT
BEGIN:STANDARD
TZOFFSETFROM:+0200
TZOFFSETTO:+0100
TZNAME:CET
DTSTART:20261025T010000
END:STANDARD
END:VTIMEZONE
BEGIN:VEVENT
DTSTART;TZID=Europe/Berlin:20260212T160000
DTEND;TZID=Europe/Berlin:20260212T180000
DTSTAMP:20260420T192132
CREATED:20230622T105848Z
LAST-MODIFIED:20230622T110612Z
UID:10002080-1770912000-1770919200@s130056251.online.de
SUMMARY:Graffiti AG
DESCRIPTION:Hier könnt ihr euch mit Sprühdosen an der hauseigenen Graffitiwand ausprobieren.
URL:http://s130056251.online.de/event/graffiti-ag/2026-02-12/
LOCATION:Senfte 10\, Senftenberger Straße 10\, Berlin\, Berlin\, 12627
END:VEVENT
BEGIN:VEVENT
DTSTART;TZID=Europe/Berlin:20260212T170000
DTEND;TZID=Europe/Berlin:20260212T183000
DTSTAMP:20260420T192132
CREATED:20230622T110720Z
LAST-MODIFIED:20230622T110720Z
UID:10001436-1770915600-1770921000@s130056251.online.de
SUMMARY:Fit AG
DESCRIPTION:Sportliche Betätigung (altersgerecht) unter Aufsicht und Anleitung eines Trainers im Fitnessraum der Senfte 10.
URL:http://s130056251.online.de/event/fit-ag/2026-02-12/
LOCATION:Senfte 10\, Senftenberger Straße 10\, Berlin\, Berlin\, 12627
END:VEVENT
BEGIN:VEVENT
DTSTART;TZID=Europe/Berlin:20260212T173000
DTEND;TZID=Europe/Berlin:20260212T203000
DTSTAMP:20260420T192132
CREATED:20230622T110458Z
LAST-MODIFIED:20250204T173825Z
UID:10000671-1770917400-1770928200@s130056251.online.de
SUMMARY:Pen and Paper
DESCRIPTION:Rollenspielspaß mit Paul
URL:http://s130056251.online.de/event/pen-and-paper/2026-02-12/
LOCATION:U5\, Auerbacher Ring 25\, Berlin\, Berlin\, 12619\, Germany
END:VEVENT
BEGIN:VEVENT
DTSTART;TZID=Europe/Berlin:20260213T143000
DTEND;TZID=Europe/Berlin:20260213T170000
DTSTAMP:20260420T192132
CREATED:20230621T135642Z
LAST-MODIFIED:20230621T140644Z
UID:10002859-1770993000-1771002000@s130056251.online.de
SUMMARY:Gemeinsames Kochen im CDF Schülerklub
DESCRIPTION:Das Wochenende kann kommen und wir wollen es gemeinsam mit dir Begrüßen! Um das Wochenende einzuleiten\, wollen wir gemeinsam mit dir und deinen Freunden kochen und Essen. Wenn du jetzt also Hungrig geworden bist und Lust bekommen hast zu kochen dann komm doch einfach mal Freitags bei uns vorbei. Wenn du ausgefallene Ideen für Gerichte hast\, dann lass es uns gerne wissen. Also wir freuen uns darauf ich bei uns begrüßen zu dürfen!
URL:http://s130056251.online.de/event/gemeinsames-kochen-im-cdf-schuelerklub/2026-02-13/
LOCATION:CDF Schülerklub\, Alte Hellersdorfer Straße 7\, Hellersdorf Nord\, 12629
END:VEVENT
BEGIN:VEVENT
DTSTART;TZID=Europe/Berlin:20260216T143000
DTEND;TZID=Europe/Berlin:20260216T170000
DTSTAMP:20260420T192132
CREATED:20230621T133703Z
LAST-MODIFIED:20230621T135955Z
UID:10003379-1771252200-1771261200@s130056251.online.de
SUMMARY:Spielenachmittag im CDF Schülerklub
DESCRIPTION:Ihr habt Lust auf Dart\, Billard\, Kicker oder verschiedene Spiele? Dann seit ihr hier genau richtig! An unserem Spielenachmittag laden wir euch herzlich ein mit uns zu spielen. Start ist um 14:30 Uhr. Kommt gerne mit euren Freunden vorbei und verbringt einen schönen Nachmittag im Schülerklub der CDF.
URL:http://s130056251.online.de/event/spielenachmittag-im-cdf-schuelerklub/2026-02-16/
LOCATION:CDF Schülerklub\, Alte Hellersdorfer Straße 7\, Hellersdorf Nord\, 12629
END:VEVENT
BEGIN:VEVENT
DTSTART;TZID=Europe/Berlin:20260217T150000
DTEND;TZID=Europe/Berlin:20260217T170000
DTSTAMP:20260420T192132
CREATED:20231021T164345Z
LAST-MODIFIED:20231031T120204Z
UID:10003731-1771340400-1771347600@s130056251.online.de
SUMMARY:Kochen
DESCRIPTION:Kochen mit Basti – Eure Vorschläge sind gefragt 🙂
URL:http://s130056251.online.de/event/kochen-2/2026-02-17/
LOCATION:Eastend-Berlin\, Tangermünder Str. 127\, Berlin\, 12627
END:VEVENT
BEGIN:VEVENT
DTSTART;TZID=Europe/Berlin:20260217T150000
DTEND;TZID=Europe/Berlin:20260217T170000
DTSTAMP:20260420T192132
CREATED:20240702T134327Z
LAST-MODIFIED:20240702T134327Z
UID:10006824-1771340400-1771347600@s130056251.online.de
SUMMARY:gemeinsames Kochen im Eastend
DESCRIPTION:Wir entscheiden gemeinsam was wir kochen.
URL:http://s130056251.online.de/event/gemeinsames-kochen-im-eastend/2026-02-17/
LOCATION:Eastend-Berlin\, Tangermünder Str. 127\, Berlin\, 12627
ATTACH;FMTTYPE=image/png:http://s130056251.online.de/wp-content/uploads/2024/07/Unbenannt.png
END:VEVENT
BEGIN:VEVENT
DTSTART;TZID=Europe/Berlin:20260217T170000
DTEND;TZID=Europe/Berlin:20260217T183000
DTSTAMP:20260420T192132
CREATED:20230622T110720Z
LAST-MODIFIED:20230622T110720Z
UID:10001437-1771347600-1771353000@s130056251.online.de
SUMMARY:Fit AG
DESCRIPTION:Sportliche Betätigung (altersgerecht) unter Aufsicht und Anleitung eines Trainers im Fitnessraum der Senfte 10.
URL:http://s130056251.online.de/event/fit-ag/2026-02-17/
LOCATION:Senfte 10\, Senftenberger Straße 10\, Berlin\, Berlin\, 12627
END:VEVENT
BEGIN:VEVENT
DTSTART;TZID=Europe/Berlin:20260218T143000
DTEND;TZID=Europe/Berlin:20260218T170000
DTSTAMP:20260420T192132
CREATED:20230621T134742Z
LAST-MODIFIED:20230621T135835Z
UID:10003119-1771425000-1771434000@s130056251.online.de
SUMMARY:Filmnachmittag im CDF Schülerklub
DESCRIPTION:Lust gemeinsam Filme zu schauen? Dann komm doch einfach mal vorbei! Einmal die Woche veranstaltet der CDF Schülerklub einen Filmnachmittag\, hier können gemeinsam Filme geschaut werden und auch darüber geredet werden! Die Filme wechseln jede Woche und du kannst auch eigene Filmideen vorschlagen! Interessiert? Dann freuen wir uns dich und deine Freunde im CDF Schülerklub zum Filmnachmittag begrüßen zu dürfen!
URL:http://s130056251.online.de/event/filmnachmittag-im-cdf-schuelerklub/2026-02-18/
LOCATION:CDF Schülerklub\, Alte Hellersdorfer Straße 7\, Hellersdorf Nord\, 12629
END:VEVENT
BEGIN:VEVENT
DTSTART;TZID=Europe/Berlin:20260218T160000
DTEND;TZID=Europe/Berlin:20260218T180000
DTSTAMP:20260420T192132
CREATED:20230622T110653Z
LAST-MODIFIED:20230622T110653Z
UID:10001820-1771430400-1771437600@s130056251.online.de
SUMMARY:Outdoorküche
DESCRIPTION:Wir kochen unterschiedliche und leckere Gerichte\, draußen\, im Dutch Oven über/in der Feuerschale.
URL:http://s130056251.online.de/event/outdoorkueche/2026-02-18/
LOCATION:Senfte 10\, Senftenberger Straße 10\, Berlin\, Berlin\, 12627
END:VEVENT
BEGIN:VEVENT
DTSTART;TZID=Europe/Berlin:20260218T170000
DTEND;TZID=Europe/Berlin:20260218T200000
DTSTAMP:20260420T192132
CREATED:20240702T133918Z
LAST-MODIFIED:20240702T133918Z
UID:10006564-1771434000-1771444800@s130056251.online.de
SUMMARY:offenes Musikangebot
DESCRIPTION:Du wolltest schon immer mal ein Instrument spielen oder hast Spaß beim Singen? Dann kannst du das Mittwochs in unserem Proberaum machen. (Du musst kein Instrument spielen können) .
URL:http://s130056251.online.de/event/offenes-musikangebot/2026-02-18/
LOCATION:Eastend-Berlin\, Tangermünder Str. 127\, Berlin\, 12627
ATTACH;FMTTYPE=image/png:http://s130056251.online.de/wp-content/uploads/2024/07/Green-and-Red-Retro-Illustrative-Karaoke-Party-Poster1.png
END:VEVENT
BEGIN:VEVENT
DTSTART;TZID=Europe/Berlin:20260219T160000
DTEND;TZID=Europe/Berlin:20260219T180000
DTSTAMP:20260420T192132
CREATED:20230622T105848Z
LAST-MODIFIED:20230622T110612Z
UID:10002081-1771516800-1771524000@s130056251.online.de
SUMMARY:Graffiti AG
DESCRIPTION:Hier könnt ihr euch mit Sprühdosen an der hauseigenen Graffitiwand ausprobieren.
URL:http://s130056251.online.de/event/graffiti-ag/2026-02-19/
LOCATION:Senfte 10\, Senftenberger Straße 10\, Berlin\, Berlin\, 12627
END:VEVENT
BEGIN:VEVENT
DTSTART;TZID=Europe/Berlin:20260219T170000
DTEND;TZID=Europe/Berlin:20260219T183000
DTSTAMP:20260420T192132
CREATED:20230622T110720Z
LAST-MODIFIED:20230622T110720Z
UID:10001438-1771520400-1771525800@s130056251.online.de
SUMMARY:Fit AG
DESCRIPTION:Sportliche Betätigung (altersgerecht) unter Aufsicht und Anleitung eines Trainers im Fitnessraum der Senfte 10.
URL:http://s130056251.online.de/event/fit-ag/2026-02-19/
LOCATION:Senfte 10\, Senftenberger Straße 10\, Berlin\, Berlin\, 12627
END:VEVENT
BEGIN:VEVENT
DTSTART;TZID=Europe/Berlin:20260219T173000
DTEND;TZID=Europe/Berlin:20260219T203000
DTSTAMP:20260420T192132
CREATED:20230622T110458Z
LAST-MODIFIED:20250204T173825Z
UID:10000672-1771522200-1771533000@s130056251.online.de
SUMMARY:Pen and Paper
DESCRIPTION:Rollenspielspaß mit Paul
URL:http://s130056251.online.de/event/pen-and-paper/2026-02-19/
LOCATION:U5\, Auerbacher Ring 25\, Berlin\, Berlin\, 12619\, Germany
END:VEVENT
BEGIN:VEVENT
DTSTART;TZID=Europe/Berlin:20260220T143000
DTEND;TZID=Europe/Berlin:20260220T170000
DTSTAMP:20260420T192132
CREATED:20230621T135642Z
LAST-MODIFIED:20230621T140644Z
UID:10002860-1771597800-1771606800@s130056251.online.de
SUMMARY:Gemeinsames Kochen im CDF Schülerklub
DESCRIPTION:Das Wochenende kann kommen und wir wollen es gemeinsam mit dir Begrüßen! Um das Wochenende einzuleiten\, wollen wir gemeinsam mit dir und deinen Freunden kochen und Essen. Wenn du jetzt also Hungrig geworden bist und Lust bekommen hast zu kochen dann komm doch einfach mal Freitags bei uns vorbei. Wenn du ausgefallene Ideen für Gerichte hast\, dann lass es uns gerne wissen. Also wir freuen uns darauf ich bei uns begrüßen zu dürfen!
URL:http://s130056251.online.de/event/gemeinsames-kochen-im-cdf-schuelerklub/2026-02-20/
LOCATION:CDF Schülerklub\, Alte Hellersdorfer Straße 7\, Hellersdorf Nord\, 12629
END:VEVENT
BEGIN:VEVENT
DTSTART;TZID=Europe/Berlin:20260223T143000
DTEND;TZID=Europe/Berlin:20260223T170000
DTSTAMP:20260420T192132
CREATED:20230621T133703Z
LAST-MODIFIED:20230621T135955Z
UID:10003380-1771857000-1771866000@s130056251.online.de
SUMMARY:Spielenachmittag im CDF Schülerklub
DESCRIPTION:Ihr habt Lust auf Dart\, Billard\, Kicker oder verschiedene Spiele? Dann seit ihr hier genau richtig! An unserem Spielenachmittag laden wir euch herzlich ein mit uns zu spielen. Start ist um 14:30 Uhr. Kommt gerne mit euren Freunden vorbei und verbringt einen schönen Nachmittag im Schülerklub der CDF.
URL:http://s130056251.online.de/event/spielenachmittag-im-cdf-schuelerklub/2026-02-23/
LOCATION:CDF Schülerklub\, Alte Hellersdorfer Straße 7\, Hellersdorf Nord\, 12629
END:VEVENT
BEGIN:VEVENT
DTSTART;TZID=Europe/Berlin:20260224T150000
DTEND;TZID=Europe/Berlin:20260224T170000
DTSTAMP:20260420T192132
CREATED:20231021T164345Z
LAST-MODIFIED:20231031T120204Z
UID:10003732-1771945200-1771952400@s130056251.online.de
SUMMARY:Kochen
DESCRIPTION:Kochen mit Basti – Eure Vorschläge sind gefragt 🙂
URL:http://s130056251.online.de/event/kochen-2/2026-02-24/
LOCATION:Eastend-Berlin\, Tangermünder Str. 127\, Berlin\, 12627
END:VEVENT
BEGIN:VEVENT
DTSTART;TZID=Europe/Berlin:20260224T150000
DTEND;TZID=Europe/Berlin:20260224T170000
DTSTAMP:20260420T192132
CREATED:20240702T134327Z
LAST-MODIFIED:20240702T134327Z
UID:10006825-1771945200-1771952400@s130056251.online.de
SUMMARY:gemeinsames Kochen im Eastend
DESCRIPTION:Wir entscheiden gemeinsam was wir kochen.
URL:http://s130056251.online.de/event/gemeinsames-kochen-im-eastend/2026-02-24/
LOCATION:Eastend-Berlin\, Tangermünder Str. 127\, Berlin\, 12627
ATTACH;FMTTYPE=image/png:http://s130056251.online.de/wp-content/uploads/2024/07/Unbenannt.png
END:VEVENT
BEGIN:VEVENT
DTSTART;TZID=Europe/Berlin:20260224T170000
DTEND;TZID=Europe/Berlin:20260224T183000
DTSTAMP:20260420T192133
CREATED:20230622T110720Z
LAST-MODIFIED:20230622T110720Z
UID:10001439-1771952400-1771957800@s130056251.online.de
SUMMARY:Fit AG
DESCRIPTION:Sportliche Betätigung (altersgerecht) unter Aufsicht und Anleitung eines Trainers im Fitnessraum der Senfte 10.
URL:http://s130056251.online.de/event/fit-ag/2026-02-24/
LOCATION:Senfte 10\, Senftenberger Straße 10\, Berlin\, Berlin\, 12627
END:VEVENT
BEGIN:VEVENT
DTSTART;TZID=Europe/Berlin:20260225T143000
DTEND;TZID=Europe/Berlin:20260225T170000
DTSTAMP:20260420T192133
CREATED:20230621T134742Z
LAST-MODIFIED:20230621T135835Z
UID:10003120-1772029800-1772038800@s130056251.online.de
SUMMARY:Filmnachmittag im CDF Schülerklub
DESCRIPTION:Lust gemeinsam Filme zu schauen? Dann komm doch einfach mal vorbei! Einmal die Woche veranstaltet der CDF Schülerklub einen Filmnachmittag\, hier können gemeinsam Filme geschaut werden und auch darüber geredet werden! Die Filme wechseln jede Woche und du kannst auch eigene Filmideen vorschlagen! Interessiert? Dann freuen wir uns dich und deine Freunde im CDF Schülerklub zum Filmnachmittag begrüßen zu dürfen!
URL:http://s130056251.online.de/event/filmnachmittag-im-cdf-schuelerklub/2026-02-25/
LOCATION:CDF Schülerklub\, Alte Hellersdorfer Straße 7\, Hellersdorf Nord\, 12629
END:VEVENT
BEGIN:VEVENT
DTSTART;TZID=Europe/Berlin:20260225T160000
DTEND;TZID=Europe/Berlin:20260225T180000
DTSTAMP:20260420T192133
CREATED:20230622T110653Z
LAST-MODIFIED:20230622T110653Z
UID:10001821-1772035200-1772042400@s130056251.online.de
SUMMARY:Outdoorküche
DESCRIPTION:Wir kochen unterschiedliche und leckere Gerichte\, draußen\, im Dutch Oven über/in der Feuerschale.
URL:http://s130056251.online.de/event/outdoorkueche/2026-02-25/
LOCATION:Senfte 10\, Senftenberger Straße 10\, Berlin\, Berlin\, 12627
END:VEVENT
BEGIN:VEVENT
DTSTART;TZID=Europe/Berlin:20260225T170000
DTEND;TZID=Europe/Berlin:20260225T200000
DTSTAMP:20260420T192133
CREATED:20240702T133918Z
LAST-MODIFIED:20240702T133918Z
UID:10006565-1772038800-1772049600@s130056251.online.de
SUMMARY:offenes Musikangebot
DESCRIPTION:Du wolltest schon immer mal ein Instrument spielen oder hast Spaß beim Singen? Dann kannst du das Mittwochs in unserem Proberaum machen. (Du musst kein Instrument spielen können) .
URL:http://s130056251.online.de/event/offenes-musikangebot/2026-02-25/
LOCATION:Eastend-Berlin\, Tangermünder Str. 127\, Berlin\, 12627
ATTACH;FMTTYPE=image/png:http://s130056251.online.de/wp-content/uploads/2024/07/Green-and-Red-Retro-Illustrative-Karaoke-Party-Poster1.png
END:VEVENT
BEGIN:VEVENT
DTSTART;TZID=Europe/Berlin:20260226T160000
DTEND;TZID=Europe/Berlin:20260226T180000
DTSTAMP:20260420T192133
CREATED:20230622T105848Z
LAST-MODIFIED:20230622T110612Z
UID:10002082-1772121600-1772128800@s130056251.online.de
SUMMARY:Graffiti AG
DESCRIPTION:Hier könnt ihr euch mit Sprühdosen an der hauseigenen Graffitiwand ausprobieren.
URL:http://s130056251.online.de/event/graffiti-ag/2026-02-26/
LOCATION:Senfte 10\, Senftenberger Straße 10\, Berlin\, Berlin\, 12627
END:VEVENT
BEGIN:VEVENT
DTSTART;TZID=Europe/Berlin:20260226T170000
DTEND;TZID=Europe/Berlin:20260226T183000
DTSTAMP:20260420T192133
CREATED:20230622T110720Z
LAST-MODIFIED:20230622T110720Z
UID:10001440-1772125200-1772130600@s130056251.online.de
SUMMARY:Fit AG
DESCRIPTION:Sportliche Betätigung (altersgerecht) unter Aufsicht und Anleitung eines Trainers im Fitnessraum der Senfte 10.
URL:http://s130056251.online.de/event/fit-ag/2026-02-26/
LOCATION:Senfte 10\, Senftenberger Straße 10\, Berlin\, Berlin\, 12627
END:VEVENT
BEGIN:VEVENT
DTSTART;TZID=Europe/Berlin:20260226T173000
DTEND;TZID=Europe/Berlin:20260226T203000
DTSTAMP:20260420T192133
CREATED:20230622T110458Z
LAST-MODIFIED:20250204T173825Z
UID:10000673-1772127000-1772137800@s130056251.online.de
SUMMARY:Pen and Paper
DESCRIPTION:Rollenspielspaß mit Paul
URL:http://s130056251.online.de/event/pen-and-paper/2026-02-26/
LOCATION:U5\, Auerbacher Ring 25\, Berlin\, Berlin\, 12619\, Germany
END:VEVENT
BEGIN:VEVENT
DTSTART;TZID=Europe/Berlin:20260227T143000
DTEND;TZID=Europe/Berlin:20260227T170000
DTSTAMP:20260420T192133
CREATED:20230621T135642Z
LAST-MODIFIED:20230621T140644Z
UID:10002861-1772202600-1772211600@s130056251.online.de
SUMMARY:Gemeinsames Kochen im CDF Schülerklub
DESCRIPTION:Das Wochenende kann kommen und wir wollen es gemeinsam mit dir Begrüßen! Um das Wochenende einzuleiten\, wollen wir gemeinsam mit dir und deinen Freunden kochen und Essen. Wenn du jetzt also Hungrig geworden bist und Lust bekommen hast zu kochen dann komm doch einfach mal Freitags bei uns vorbei. Wenn du ausgefallene Ideen für Gerichte hast\, dann lass es uns gerne wissen. Also wir freuen uns darauf ich bei uns begrüßen zu dürfen!
URL:http://s130056251.online.de/event/gemeinsames-kochen-im-cdf-schuelerklub/2026-02-27/
LOCATION:CDF Schülerklub\, Alte Hellersdorfer Straße 7\, Hellersdorf Nord\, 12629
END:VEVENT
BEGIN:VEVENT
DTSTART;TZID=Europe/Berlin:20260302T143000
DTEND;TZID=Europe/Berlin:20260302T170000
DTSTAMP:20260420T192133
CREATED:20230621T133703Z
LAST-MODIFIED:20230621T135955Z
UID:10003381-1772461800-1772470800@s130056251.online.de
SUMMARY:Spielenachmittag im CDF Schülerklub
DESCRIPTION:Ihr habt Lust auf Dart\, Billard\, Kicker oder verschiedene Spiele? Dann seit ihr hier genau richtig! An unserem Spielenachmittag laden wir euch herzlich ein mit uns zu spielen. Start ist um 14:30 Uhr. Kommt gerne mit euren Freunden vorbei und verbringt einen schönen Nachmittag im Schülerklub der CDF.
URL:http://s130056251.online.de/event/spielenachmittag-im-cdf-schuelerklub/2026-03-02/
LOCATION:CDF Schülerklub\, Alte Hellersdorfer Straße 7\, Hellersdorf Nord\, 12629
END:VEVENT
BEGIN:VEVENT
DTSTART;TZID=Europe/Berlin:20260303T150000
DTEND;TZID=Europe/Berlin:20260303T170000
DTSTAMP:20260420T192133
CREATED:20231021T164345Z
LAST-MODIFIED:20231031T120204Z
UID:10003733-1772550000-1772557200@s130056251.online.de
SUMMARY:Kochen
DESCRIPTION:Kochen mit Basti – Eure Vorschläge sind gefragt 🙂
URL:http://s130056251.online.de/event/kochen-2/2026-03-03/
LOCATION:Eastend-Berlin\, Tangermünder Str. 127\, Berlin\, 12627
END:VEVENT
BEGIN:VEVENT
DTSTART;TZID=Europe/Berlin:20260303T150000
DTEND;TZID=Europe/Berlin:20260303T170000
DTSTAMP:20260420T192133
CREATED:20240702T134327Z
LAST-MODIFIED:20240702T134327Z
UID:10006826-1772550000-1772557200@s130056251.online.de
SUMMARY:gemeinsames Kochen im Eastend
DESCRIPTION:Wir entscheiden gemeinsam was wir kochen.
URL:http://s130056251.online.de/event/gemeinsames-kochen-im-eastend/2026-03-03/
LOCATION:Eastend-Berlin\, Tangermünder Str. 127\, Berlin\, 12627
ATTACH;FMTTYPE=image/png:http://s130056251.online.de/wp-content/uploads/2024/07/Unbenannt.png
END:VEVENT
BEGIN:VEVENT
DTSTART;TZID=Europe/Berlin:20260303T170000
DTEND;TZID=Europe/Berlin:20260303T183000
DTSTAMP:20260420T192133
CREATED:20230622T110720Z
LAST-MODIFIED:20230622T110720Z
UID:10001441-1772557200-1772562600@s130056251.online.de
SUMMARY:Fit AG
DESCRIPTION:Sportliche Betätigung (altersgerecht) unter Aufsicht und Anleitung eines Trainers im Fitnessraum der Senfte 10.
URL:http://s130056251.online.de/event/fit-ag/2026-03-03/
LOCATION:Senfte 10\, Senftenberger Straße 10\, Berlin\, Berlin\, 12627
END:VEVENT
END:VCALENDAR