BEGIN:VCALENDAR
VERSION:2.0
PRODID:-//Was geht in Hellersdorf - ECPv6.1.2.2//NONSGML v1.0//EN
CALSCALE:GREGORIAN
METHOD:PUBLISH
X-ORIGINAL-URL:http://s130056251.online.de
X-WR-CALDESC:Veranstaltungen für Was geht in Hellersdorf
REFRESH-INTERVAL;VALUE=DURATION:PT1H
X-Robots-Tag:noindex
X-PUBLISHED-TTL:PT1H
BEGIN:VTIMEZONE
TZID:Europe/Berlin
BEGIN:DAYLIGHT
TZOFFSETFROM:+0100
TZOFFSETTO:+0200
TZNAME:CEST
DTSTART:20260329T010000
END:DAYLIGHT
BEGIN:STANDARD
TZOFFSETFROM:+0200
TZOFFSETTO:+0100
TZNAME:CET
DTSTART:20261025T010000
END:STANDARD
END:VTIMEZONE
BEGIN:VEVENT
DTSTART;TZID=Europe/Berlin:20260101T160000
DTEND;TZID=Europe/Berlin:20260101T180000
DTSTAMP:20260420T192923
CREATED:20230622T105848Z
LAST-MODIFIED:20230622T110612Z
UID:10002074-1767283200-1767290400@s130056251.online.de
SUMMARY:Graffiti AG
DESCRIPTION:Hier könnt ihr euch mit Sprühdosen an der hauseigenen Graffitiwand ausprobieren.
URL:http://s130056251.online.de/event/graffiti-ag/2026-01-01/
LOCATION:Senfte 10\, Senftenberger Straße 10\, Berlin\, Berlin\, 12627
END:VEVENT
BEGIN:VEVENT
DTSTART;TZID=Europe/Berlin:20260101T170000
DTEND;TZID=Europe/Berlin:20260101T183000
DTSTAMP:20260420T192923
CREATED:20230622T110720Z
LAST-MODIFIED:20230622T110720Z
UID:10001424-1767286800-1767292200@s130056251.online.de
SUMMARY:Fit AG
DESCRIPTION:Sportliche Betätigung (altersgerecht) unter Aufsicht und Anleitung eines Trainers im Fitnessraum der Senfte 10.
URL:http://s130056251.online.de/event/fit-ag/2026-01-01/
LOCATION:Senfte 10\, Senftenberger Straße 10\, Berlin\, Berlin\, 12627
END:VEVENT
BEGIN:VEVENT
DTSTART;TZID=Europe/Berlin:20260101T173000
DTEND;TZID=Europe/Berlin:20260101T203000
DTSTAMP:20260420T192923
CREATED:20230622T110458Z
LAST-MODIFIED:20250204T173825Z
UID:10000665-1767288600-1767299400@s130056251.online.de
SUMMARY:Pen and Paper
DESCRIPTION:Rollenspielspaß mit Paul
URL:http://s130056251.online.de/event/pen-and-paper/2026-01-01/
LOCATION:U5\, Auerbacher Ring 25\, Berlin\, Berlin\, 12619\, Germany
END:VEVENT
BEGIN:VEVENT
DTSTART;TZID=Europe/Berlin:20260102T143000
DTEND;TZID=Europe/Berlin:20260102T170000
DTSTAMP:20260420T192923
CREATED:20230621T135642Z
LAST-MODIFIED:20230621T140644Z
UID:10002853-1767364200-1767373200@s130056251.online.de
SUMMARY:Gemeinsames Kochen im CDF Schülerklub
DESCRIPTION:Das Wochenende kann kommen und wir wollen es gemeinsam mit dir Begrüßen! Um das Wochenende einzuleiten\, wollen wir gemeinsam mit dir und deinen Freunden kochen und Essen. Wenn du jetzt also Hungrig geworden bist und Lust bekommen hast zu kochen dann komm doch einfach mal Freitags bei uns vorbei. Wenn du ausgefallene Ideen für Gerichte hast\, dann lass es uns gerne wissen. Also wir freuen uns darauf ich bei uns begrüßen zu dürfen!
URL:http://s130056251.online.de/event/gemeinsames-kochen-im-cdf-schuelerklub/2026-01-02/
LOCATION:CDF Schülerklub\, Alte Hellersdorfer Straße 7\, Hellersdorf Nord\, 12629
END:VEVENT
BEGIN:VEVENT
DTSTART;TZID=Europe/Berlin:20260105T143000
DTEND;TZID=Europe/Berlin:20260105T170000
DTSTAMP:20260420T192923
CREATED:20230621T133703Z
LAST-MODIFIED:20230621T135955Z
UID:10003373-1767623400-1767632400@s130056251.online.de
SUMMARY:Spielenachmittag im CDF Schülerklub
DESCRIPTION:Ihr habt Lust auf Dart\, Billard\, Kicker oder verschiedene Spiele? Dann seit ihr hier genau richtig! An unserem Spielenachmittag laden wir euch herzlich ein mit uns zu spielen. Start ist um 14:30 Uhr. Kommt gerne mit euren Freunden vorbei und verbringt einen schönen Nachmittag im Schülerklub der CDF.
URL:http://s130056251.online.de/event/spielenachmittag-im-cdf-schuelerklub/2026-01-05/
LOCATION:CDF Schülerklub\, Alte Hellersdorfer Straße 7\, Hellersdorf Nord\, 12629
END:VEVENT
BEGIN:VEVENT
DTSTART;TZID=Europe/Berlin:20260106T150000
DTEND;TZID=Europe/Berlin:20260106T170000
DTSTAMP:20260420T192923
CREATED:20231021T164345Z
LAST-MODIFIED:20231031T120204Z
UID:10003725-1767711600-1767718800@s130056251.online.de
SUMMARY:Kochen
DESCRIPTION:Kochen mit Basti – Eure Vorschläge sind gefragt 🙂
URL:http://s130056251.online.de/event/kochen-2/2026-01-06/
LOCATION:Eastend-Berlin\, Tangermünder Str. 127\, Berlin\, 12627
END:VEVENT
BEGIN:VEVENT
DTSTART;TZID=Europe/Berlin:20260106T150000
DTEND;TZID=Europe/Berlin:20260106T170000
DTSTAMP:20260420T192923
CREATED:20240702T134327Z
LAST-MODIFIED:20240702T134327Z
UID:10006818-1767711600-1767718800@s130056251.online.de
SUMMARY:gemeinsames Kochen im Eastend
DESCRIPTION:Wir entscheiden gemeinsam was wir kochen.
URL:http://s130056251.online.de/event/gemeinsames-kochen-im-eastend/2026-01-06/
LOCATION:Eastend-Berlin\, Tangermünder Str. 127\, Berlin\, 12627
ATTACH;FMTTYPE=image/png:http://s130056251.online.de/wp-content/uploads/2024/07/Unbenannt.png
END:VEVENT
BEGIN:VEVENT
DTSTART;TZID=Europe/Berlin:20260106T170000
DTEND;TZID=Europe/Berlin:20260106T183000
DTSTAMP:20260420T192923
CREATED:20230622T110720Z
LAST-MODIFIED:20230622T110720Z
UID:10001425-1767718800-1767724200@s130056251.online.de
SUMMARY:Fit AG
DESCRIPTION:Sportliche Betätigung (altersgerecht) unter Aufsicht und Anleitung eines Trainers im Fitnessraum der Senfte 10.
URL:http://s130056251.online.de/event/fit-ag/2026-01-06/
LOCATION:Senfte 10\, Senftenberger Straße 10\, Berlin\, Berlin\, 12627
END:VEVENT
BEGIN:VEVENT
DTSTART;TZID=Europe/Berlin:20260107T143000
DTEND;TZID=Europe/Berlin:20260107T170000
DTSTAMP:20260420T192923
CREATED:20230621T134742Z
LAST-MODIFIED:20230621T135835Z
UID:10003113-1767796200-1767805200@s130056251.online.de
SUMMARY:Filmnachmittag im CDF Schülerklub
DESCRIPTION:Lust gemeinsam Filme zu schauen? Dann komm doch einfach mal vorbei! Einmal die Woche veranstaltet der CDF Schülerklub einen Filmnachmittag\, hier können gemeinsam Filme geschaut werden und auch darüber geredet werden! Die Filme wechseln jede Woche und du kannst auch eigene Filmideen vorschlagen! Interessiert? Dann freuen wir uns dich und deine Freunde im CDF Schülerklub zum Filmnachmittag begrüßen zu dürfen!
URL:http://s130056251.online.de/event/filmnachmittag-im-cdf-schuelerklub/2026-01-07/
LOCATION:CDF Schülerklub\, Alte Hellersdorfer Straße 7\, Hellersdorf Nord\, 12629
END:VEVENT
BEGIN:VEVENT
DTSTART;TZID=Europe/Berlin:20260107T160000
DTEND;TZID=Europe/Berlin:20260107T180000
DTSTAMP:20260420T192923
CREATED:20230622T110653Z
LAST-MODIFIED:20230622T110653Z
UID:10001814-1767801600-1767808800@s130056251.online.de
SUMMARY:Outdoorküche
DESCRIPTION:Wir kochen unterschiedliche und leckere Gerichte\, draußen\, im Dutch Oven über/in der Feuerschale.
URL:http://s130056251.online.de/event/outdoorkueche/2026-01-07/
LOCATION:Senfte 10\, Senftenberger Straße 10\, Berlin\, Berlin\, 12627
END:VEVENT
BEGIN:VEVENT
DTSTART;TZID=Europe/Berlin:20260107T170000
DTEND;TZID=Europe/Berlin:20260107T200000
DTSTAMP:20260420T192923
CREATED:20240702T133918Z
LAST-MODIFIED:20240702T133918Z
UID:10006558-1767805200-1767816000@s130056251.online.de
SUMMARY:offenes Musikangebot
DESCRIPTION:Du wolltest schon immer mal ein Instrument spielen oder hast Spaß beim Singen? Dann kannst du das Mittwochs in unserem Proberaum machen. (Du musst kein Instrument spielen können) .
URL:http://s130056251.online.de/event/offenes-musikangebot/2026-01-07/
LOCATION:Eastend-Berlin\, Tangermünder Str. 127\, Berlin\, 12627
ATTACH;FMTTYPE=image/png:http://s130056251.online.de/wp-content/uploads/2024/07/Green-and-Red-Retro-Illustrative-Karaoke-Party-Poster1.png
END:VEVENT
BEGIN:VEVENT
DTSTART;TZID=Europe/Berlin:20260108T160000
DTEND;TZID=Europe/Berlin:20260108T180000
DTSTAMP:20260420T192923
CREATED:20230622T105848Z
LAST-MODIFIED:20230622T110612Z
UID:10002075-1767888000-1767895200@s130056251.online.de
SUMMARY:Graffiti AG
DESCRIPTION:Hier könnt ihr euch mit Sprühdosen an der hauseigenen Graffitiwand ausprobieren.
URL:http://s130056251.online.de/event/graffiti-ag/2026-01-08/
LOCATION:Senfte 10\, Senftenberger Straße 10\, Berlin\, Berlin\, 12627
END:VEVENT
BEGIN:VEVENT
DTSTART;TZID=Europe/Berlin:20260108T170000
DTEND;TZID=Europe/Berlin:20260108T183000
DTSTAMP:20260420T192924
CREATED:20230622T110720Z
LAST-MODIFIED:20230622T110720Z
UID:10001426-1767891600-1767897000@s130056251.online.de
SUMMARY:Fit AG
DESCRIPTION:Sportliche Betätigung (altersgerecht) unter Aufsicht und Anleitung eines Trainers im Fitnessraum der Senfte 10.
URL:http://s130056251.online.de/event/fit-ag/2026-01-08/
LOCATION:Senfte 10\, Senftenberger Straße 10\, Berlin\, Berlin\, 12627
END:VEVENT
BEGIN:VEVENT
DTSTART;TZID=Europe/Berlin:20260108T173000
DTEND;TZID=Europe/Berlin:20260108T203000
DTSTAMP:20260420T192924
CREATED:20230622T110458Z
LAST-MODIFIED:20250204T173825Z
UID:10000666-1767893400-1767904200@s130056251.online.de
SUMMARY:Pen and Paper
DESCRIPTION:Rollenspielspaß mit Paul
URL:http://s130056251.online.de/event/pen-and-paper/2026-01-08/
LOCATION:U5\, Auerbacher Ring 25\, Berlin\, Berlin\, 12619\, Germany
END:VEVENT
BEGIN:VEVENT
DTSTART;TZID=Europe/Berlin:20260109T143000
DTEND;TZID=Europe/Berlin:20260109T170000
DTSTAMP:20260420T192924
CREATED:20230621T135642Z
LAST-MODIFIED:20230621T140644Z
UID:10002854-1767969000-1767978000@s130056251.online.de
SUMMARY:Gemeinsames Kochen im CDF Schülerklub
DESCRIPTION:Das Wochenende kann kommen und wir wollen es gemeinsam mit dir Begrüßen! Um das Wochenende einzuleiten\, wollen wir gemeinsam mit dir und deinen Freunden kochen und Essen. Wenn du jetzt also Hungrig geworden bist und Lust bekommen hast zu kochen dann komm doch einfach mal Freitags bei uns vorbei. Wenn du ausgefallene Ideen für Gerichte hast\, dann lass es uns gerne wissen. Also wir freuen uns darauf ich bei uns begrüßen zu dürfen!
URL:http://s130056251.online.de/event/gemeinsames-kochen-im-cdf-schuelerklub/2026-01-09/
LOCATION:CDF Schülerklub\, Alte Hellersdorfer Straße 7\, Hellersdorf Nord\, 12629
END:VEVENT
BEGIN:VEVENT
DTSTART;TZID=Europe/Berlin:20260112T143000
DTEND;TZID=Europe/Berlin:20260112T170000
DTSTAMP:20260420T192924
CREATED:20230621T133703Z
LAST-MODIFIED:20230621T135955Z
UID:10003374-1768228200-1768237200@s130056251.online.de
SUMMARY:Spielenachmittag im CDF Schülerklub
DESCRIPTION:Ihr habt Lust auf Dart\, Billard\, Kicker oder verschiedene Spiele? Dann seit ihr hier genau richtig! An unserem Spielenachmittag laden wir euch herzlich ein mit uns zu spielen. Start ist um 14:30 Uhr. Kommt gerne mit euren Freunden vorbei und verbringt einen schönen Nachmittag im Schülerklub der CDF.
URL:http://s130056251.online.de/event/spielenachmittag-im-cdf-schuelerklub/2026-01-12/
LOCATION:CDF Schülerklub\, Alte Hellersdorfer Straße 7\, Hellersdorf Nord\, 12629
END:VEVENT
BEGIN:VEVENT
DTSTART;TZID=Europe/Berlin:20260113T150000
DTEND;TZID=Europe/Berlin:20260113T170000
DTSTAMP:20260420T192924
CREATED:20231021T164345Z
LAST-MODIFIED:20231031T120204Z
UID:10003726-1768316400-1768323600@s130056251.online.de
SUMMARY:Kochen
DESCRIPTION:Kochen mit Basti – Eure Vorschläge sind gefragt 🙂
URL:http://s130056251.online.de/event/kochen-2/2026-01-13/
LOCATION:Eastend-Berlin\, Tangermünder Str. 127\, Berlin\, 12627
END:VEVENT
BEGIN:VEVENT
DTSTART;TZID=Europe/Berlin:20260113T150000
DTEND;TZID=Europe/Berlin:20260113T170000
DTSTAMP:20260420T192924
CREATED:20240702T134327Z
LAST-MODIFIED:20240702T134327Z
UID:10006819-1768316400-1768323600@s130056251.online.de
SUMMARY:gemeinsames Kochen im Eastend
DESCRIPTION:Wir entscheiden gemeinsam was wir kochen.
URL:http://s130056251.online.de/event/gemeinsames-kochen-im-eastend/2026-01-13/
LOCATION:Eastend-Berlin\, Tangermünder Str. 127\, Berlin\, 12627
ATTACH;FMTTYPE=image/png:http://s130056251.online.de/wp-content/uploads/2024/07/Unbenannt.png
END:VEVENT
BEGIN:VEVENT
DTSTART;TZID=Europe/Berlin:20260113T170000
DTEND;TZID=Europe/Berlin:20260113T183000
DTSTAMP:20260420T192924
CREATED:20230622T110720Z
LAST-MODIFIED:20230622T110720Z
UID:10001427-1768323600-1768329000@s130056251.online.de
SUMMARY:Fit AG
DESCRIPTION:Sportliche Betätigung (altersgerecht) unter Aufsicht und Anleitung eines Trainers im Fitnessraum der Senfte 10.
URL:http://s130056251.online.de/event/fit-ag/2026-01-13/
LOCATION:Senfte 10\, Senftenberger Straße 10\, Berlin\, Berlin\, 12627
END:VEVENT
BEGIN:VEVENT
DTSTART;TZID=Europe/Berlin:20260114T143000
DTEND;TZID=Europe/Berlin:20260114T170000
DTSTAMP:20260420T192924
CREATED:20230621T134742Z
LAST-MODIFIED:20230621T135835Z
UID:10003114-1768401000-1768410000@s130056251.online.de
SUMMARY:Filmnachmittag im CDF Schülerklub
DESCRIPTION:Lust gemeinsam Filme zu schauen? Dann komm doch einfach mal vorbei! Einmal die Woche veranstaltet der CDF Schülerklub einen Filmnachmittag\, hier können gemeinsam Filme geschaut werden und auch darüber geredet werden! Die Filme wechseln jede Woche und du kannst auch eigene Filmideen vorschlagen! Interessiert? Dann freuen wir uns dich und deine Freunde im CDF Schülerklub zum Filmnachmittag begrüßen zu dürfen!
URL:http://s130056251.online.de/event/filmnachmittag-im-cdf-schuelerklub/2026-01-14/
LOCATION:CDF Schülerklub\, Alte Hellersdorfer Straße 7\, Hellersdorf Nord\, 12629
END:VEVENT
BEGIN:VEVENT
DTSTART;TZID=Europe/Berlin:20260114T160000
DTEND;TZID=Europe/Berlin:20260114T180000
DTSTAMP:20260420T192924
CREATED:20230622T110653Z
LAST-MODIFIED:20230622T110653Z
UID:10001815-1768406400-1768413600@s130056251.online.de
SUMMARY:Outdoorküche
DESCRIPTION:Wir kochen unterschiedliche und leckere Gerichte\, draußen\, im Dutch Oven über/in der Feuerschale.
URL:http://s130056251.online.de/event/outdoorkueche/2026-01-14/
LOCATION:Senfte 10\, Senftenberger Straße 10\, Berlin\, Berlin\, 12627
END:VEVENT
BEGIN:VEVENT
DTSTART;TZID=Europe/Berlin:20260114T170000
DTEND;TZID=Europe/Berlin:20260114T200000
DTSTAMP:20260420T192924
CREATED:20240702T133918Z
LAST-MODIFIED:20240702T133918Z
UID:10006559-1768410000-1768420800@s130056251.online.de
SUMMARY:offenes Musikangebot
DESCRIPTION:Du wolltest schon immer mal ein Instrument spielen oder hast Spaß beim Singen? Dann kannst du das Mittwochs in unserem Proberaum machen. (Du musst kein Instrument spielen können) .
URL:http://s130056251.online.de/event/offenes-musikangebot/2026-01-14/
LOCATION:Eastend-Berlin\, Tangermünder Str. 127\, Berlin\, 12627
ATTACH;FMTTYPE=image/png:http://s130056251.online.de/wp-content/uploads/2024/07/Green-and-Red-Retro-Illustrative-Karaoke-Party-Poster1.png
END:VEVENT
BEGIN:VEVENT
DTSTART;TZID=Europe/Berlin:20260115T160000
DTEND;TZID=Europe/Berlin:20260115T180000
DTSTAMP:20260420T192924
CREATED:20230622T105848Z
LAST-MODIFIED:20230622T110612Z
UID:10002076-1768492800-1768500000@s130056251.online.de
SUMMARY:Graffiti AG
DESCRIPTION:Hier könnt ihr euch mit Sprühdosen an der hauseigenen Graffitiwand ausprobieren.
URL:http://s130056251.online.de/event/graffiti-ag/2026-01-15/
LOCATION:Senfte 10\, Senftenberger Straße 10\, Berlin\, Berlin\, 12627
END:VEVENT
BEGIN:VEVENT
DTSTART;TZID=Europe/Berlin:20260115T170000
DTEND;TZID=Europe/Berlin:20260115T183000
DTSTAMP:20260420T192924
CREATED:20230622T110720Z
LAST-MODIFIED:20230622T110720Z
UID:10001428-1768496400-1768501800@s130056251.online.de
SUMMARY:Fit AG
DESCRIPTION:Sportliche Betätigung (altersgerecht) unter Aufsicht und Anleitung eines Trainers im Fitnessraum der Senfte 10.
URL:http://s130056251.online.de/event/fit-ag/2026-01-15/
LOCATION:Senfte 10\, Senftenberger Straße 10\, Berlin\, Berlin\, 12627
END:VEVENT
BEGIN:VEVENT
DTSTART;TZID=Europe/Berlin:20260115T173000
DTEND;TZID=Europe/Berlin:20260115T203000
DTSTAMP:20260420T192924
CREATED:20230622T110458Z
LAST-MODIFIED:20250204T173825Z
UID:10000667-1768498200-1768509000@s130056251.online.de
SUMMARY:Pen and Paper
DESCRIPTION:Rollenspielspaß mit Paul
URL:http://s130056251.online.de/event/pen-and-paper/2026-01-15/
LOCATION:U5\, Auerbacher Ring 25\, Berlin\, Berlin\, 12619\, Germany
END:VEVENT
BEGIN:VEVENT
DTSTART;TZID=Europe/Berlin:20260116T143000
DTEND;TZID=Europe/Berlin:20260116T170000
DTSTAMP:20260420T192924
CREATED:20230621T135642Z
LAST-MODIFIED:20230621T140644Z
UID:10002855-1768573800-1768582800@s130056251.online.de
SUMMARY:Gemeinsames Kochen im CDF Schülerklub
DESCRIPTION:Das Wochenende kann kommen und wir wollen es gemeinsam mit dir Begrüßen! Um das Wochenende einzuleiten\, wollen wir gemeinsam mit dir und deinen Freunden kochen und Essen. Wenn du jetzt also Hungrig geworden bist und Lust bekommen hast zu kochen dann komm doch einfach mal Freitags bei uns vorbei. Wenn du ausgefallene Ideen für Gerichte hast\, dann lass es uns gerne wissen. Also wir freuen uns darauf ich bei uns begrüßen zu dürfen!
URL:http://s130056251.online.de/event/gemeinsames-kochen-im-cdf-schuelerklub/2026-01-16/
LOCATION:CDF Schülerklub\, Alte Hellersdorfer Straße 7\, Hellersdorf Nord\, 12629
END:VEVENT
BEGIN:VEVENT
DTSTART;TZID=Europe/Berlin:20260119T143000
DTEND;TZID=Europe/Berlin:20260119T170000
DTSTAMP:20260420T192924
CREATED:20230621T133703Z
LAST-MODIFIED:20230621T135955Z
UID:10003375-1768833000-1768842000@s130056251.online.de
SUMMARY:Spielenachmittag im CDF Schülerklub
DESCRIPTION:Ihr habt Lust auf Dart\, Billard\, Kicker oder verschiedene Spiele? Dann seit ihr hier genau richtig! An unserem Spielenachmittag laden wir euch herzlich ein mit uns zu spielen. Start ist um 14:30 Uhr. Kommt gerne mit euren Freunden vorbei und verbringt einen schönen Nachmittag im Schülerklub der CDF.
URL:http://s130056251.online.de/event/spielenachmittag-im-cdf-schuelerklub/2026-01-19/
LOCATION:CDF Schülerklub\, Alte Hellersdorfer Straße 7\, Hellersdorf Nord\, 12629
END:VEVENT
BEGIN:VEVENT
DTSTART;TZID=Europe/Berlin:20260120T150000
DTEND;TZID=Europe/Berlin:20260120T170000
DTSTAMP:20260420T192924
CREATED:20231021T164345Z
LAST-MODIFIED:20231031T120204Z
UID:10003727-1768921200-1768928400@s130056251.online.de
SUMMARY:Kochen
DESCRIPTION:Kochen mit Basti – Eure Vorschläge sind gefragt 🙂
URL:http://s130056251.online.de/event/kochen-2/2026-01-20/
LOCATION:Eastend-Berlin\, Tangermünder Str. 127\, Berlin\, 12627
END:VEVENT
BEGIN:VEVENT
DTSTART;TZID=Europe/Berlin:20260120T150000
DTEND;TZID=Europe/Berlin:20260120T170000
DTSTAMP:20260420T192924
CREATED:20240702T134327Z
LAST-MODIFIED:20240702T134327Z
UID:10006820-1768921200-1768928400@s130056251.online.de
SUMMARY:gemeinsames Kochen im Eastend
DESCRIPTION:Wir entscheiden gemeinsam was wir kochen.
URL:http://s130056251.online.de/event/gemeinsames-kochen-im-eastend/2026-01-20/
LOCATION:Eastend-Berlin\, Tangermünder Str. 127\, Berlin\, 12627
ATTACH;FMTTYPE=image/png:http://s130056251.online.de/wp-content/uploads/2024/07/Unbenannt.png
END:VEVENT
BEGIN:VEVENT
DTSTART;TZID=Europe/Berlin:20260120T170000
DTEND;TZID=Europe/Berlin:20260120T183000
DTSTAMP:20260420T192924
CREATED:20230622T110720Z
LAST-MODIFIED:20230622T110720Z
UID:10001429-1768928400-1768933800@s130056251.online.de
SUMMARY:Fit AG
DESCRIPTION:Sportliche Betätigung (altersgerecht) unter Aufsicht und Anleitung eines Trainers im Fitnessraum der Senfte 10.
URL:http://s130056251.online.de/event/fit-ag/2026-01-20/
LOCATION:Senfte 10\, Senftenberger Straße 10\, Berlin\, Berlin\, 12627
END:VEVENT
END:VCALENDAR