BEGIN:VCALENDAR
VERSION:2.0
PRODID:-//Was geht in Hellersdorf - ECPv6.1.2.2//NONSGML v1.0//EN
CALSCALE:GREGORIAN
METHOD:PUBLISH
X-ORIGINAL-URL:http://s130056251.online.de
X-WR-CALDESC:Veranstaltungen für Was geht in Hellersdorf
REFRESH-INTERVAL;VALUE=DURATION:PT1H
X-Robots-Tag:noindex
X-PUBLISHED-TTL:PT1H
BEGIN:VTIMEZONE
TZID:Europe/Berlin
BEGIN:DAYLIGHT
TZOFFSETFROM:+0100
TZOFFSETTO:+0200
TZNAME:CEST
DTSTART:20270328T010000
END:DAYLIGHT
BEGIN:STANDARD
TZOFFSETFROM:+0200
TZOFFSETTO:+0100
TZNAME:CET
DTSTART:20271031T010000
END:STANDARD
END:VTIMEZONE
BEGIN:VEVENT
DTSTART;TZID=Europe/Berlin:20270126T150000
DTEND;TZID=Europe/Berlin:20270126T170000
DTSTAMP:20260421T091729
CREATED:20231021T164345Z
LAST-MODIFIED:20231031T120204Z
UID:10003780-1800975600-1800982800@s130056251.online.de
SUMMARY:Kochen
DESCRIPTION:Kochen mit Basti – Eure Vorschläge sind gefragt 🙂
URL:http://s130056251.online.de/event/kochen-2/2027-01-26/
LOCATION:Eastend-Berlin\, Tangermünder Str. 127\, Berlin\, 12627
END:VEVENT
BEGIN:VEVENT
DTSTART;TZID=Europe/Berlin:20270126T150000
DTEND;TZID=Europe/Berlin:20270126T170000
DTSTAMP:20260421T091729
CREATED:20240702T134327Z
LAST-MODIFIED:20240702T134327Z
UID:10006873-1800975600-1800982800@s130056251.online.de
SUMMARY:gemeinsames Kochen im Eastend
DESCRIPTION:Wir entscheiden gemeinsam was wir kochen.
URL:http://s130056251.online.de/event/gemeinsames-kochen-im-eastend/2027-01-26/
LOCATION:Eastend-Berlin\, Tangermünder Str. 127\, Berlin\, 12627
ATTACH;FMTTYPE=image/png:http://s130056251.online.de/wp-content/uploads/2024/07/Unbenannt.png
END:VEVENT
BEGIN:VEVENT
DTSTART;TZID=Europe/Berlin:20270127T170000
DTEND;TZID=Europe/Berlin:20270127T200000
DTSTAMP:20260421T091729
CREATED:20240702T133918Z
LAST-MODIFIED:20240702T133918Z
UID:10006613-1801069200-1801080000@s130056251.online.de
SUMMARY:offenes Musikangebot
DESCRIPTION:Du wolltest schon immer mal ein Instrument spielen oder hast Spaß beim Singen? Dann kannst du das Mittwochs in unserem Proberaum machen. (Du musst kein Instrument spielen können) .
URL:http://s130056251.online.de/event/offenes-musikangebot/2027-01-27/
LOCATION:Eastend-Berlin\, Tangermünder Str. 127\, Berlin\, 12627
ATTACH;FMTTYPE=image/png:http://s130056251.online.de/wp-content/uploads/2024/07/Green-and-Red-Retro-Illustrative-Karaoke-Party-Poster1.png
END:VEVENT
BEGIN:VEVENT
DTSTART;TZID=Europe/Berlin:20270202T150000
DTEND;TZID=Europe/Berlin:20270202T170000
DTSTAMP:20260421T091729
CREATED:20231021T164345Z
LAST-MODIFIED:20231031T120204Z
UID:10003781-1801580400-1801587600@s130056251.online.de
SUMMARY:Kochen
DESCRIPTION:Kochen mit Basti – Eure Vorschläge sind gefragt 🙂
URL:http://s130056251.online.de/event/kochen-2/2027-02-02/
LOCATION:Eastend-Berlin\, Tangermünder Str. 127\, Berlin\, 12627
END:VEVENT
BEGIN:VEVENT
DTSTART;TZID=Europe/Berlin:20270202T150000
DTEND;TZID=Europe/Berlin:20270202T170000
DTSTAMP:20260421T091729
CREATED:20240702T134327Z
LAST-MODIFIED:20240702T134327Z
UID:10006874-1801580400-1801587600@s130056251.online.de
SUMMARY:gemeinsames Kochen im Eastend
DESCRIPTION:Wir entscheiden gemeinsam was wir kochen.
URL:http://s130056251.online.de/event/gemeinsames-kochen-im-eastend/2027-02-02/
LOCATION:Eastend-Berlin\, Tangermünder Str. 127\, Berlin\, 12627
ATTACH;FMTTYPE=image/png:http://s130056251.online.de/wp-content/uploads/2024/07/Unbenannt.png
END:VEVENT
BEGIN:VEVENT
DTSTART;TZID=Europe/Berlin:20270203T170000
DTEND;TZID=Europe/Berlin:20270203T200000
DTSTAMP:20260421T091729
CREATED:20240702T133918Z
LAST-MODIFIED:20240702T133918Z
UID:10006614-1801674000-1801684800@s130056251.online.de
SUMMARY:offenes Musikangebot
DESCRIPTION:Du wolltest schon immer mal ein Instrument spielen oder hast Spaß beim Singen? Dann kannst du das Mittwochs in unserem Proberaum machen. (Du musst kein Instrument spielen können) .
URL:http://s130056251.online.de/event/offenes-musikangebot/2027-02-03/
LOCATION:Eastend-Berlin\, Tangermünder Str. 127\, Berlin\, 12627
ATTACH;FMTTYPE=image/png:http://s130056251.online.de/wp-content/uploads/2024/07/Green-and-Red-Retro-Illustrative-Karaoke-Party-Poster1.png
END:VEVENT
BEGIN:VEVENT
DTSTART;TZID=Europe/Berlin:20270209T150000
DTEND;TZID=Europe/Berlin:20270209T170000
DTSTAMP:20260421T091729
CREATED:20231021T164345Z
LAST-MODIFIED:20231031T120204Z
UID:10003782-1802185200-1802192400@s130056251.online.de
SUMMARY:Kochen
DESCRIPTION:Kochen mit Basti – Eure Vorschläge sind gefragt 🙂
URL:http://s130056251.online.de/event/kochen-2/2027-02-09/
LOCATION:Eastend-Berlin\, Tangermünder Str. 127\, Berlin\, 12627
END:VEVENT
BEGIN:VEVENT
DTSTART;TZID=Europe/Berlin:20270209T150000
DTEND;TZID=Europe/Berlin:20270209T170000
DTSTAMP:20260421T091729
CREATED:20240702T134327Z
LAST-MODIFIED:20240702T134327Z
UID:10006875-1802185200-1802192400@s130056251.online.de
SUMMARY:gemeinsames Kochen im Eastend
DESCRIPTION:Wir entscheiden gemeinsam was wir kochen.
URL:http://s130056251.online.de/event/gemeinsames-kochen-im-eastend/2027-02-09/
LOCATION:Eastend-Berlin\, Tangermünder Str. 127\, Berlin\, 12627
ATTACH;FMTTYPE=image/png:http://s130056251.online.de/wp-content/uploads/2024/07/Unbenannt.png
END:VEVENT
BEGIN:VEVENT
DTSTART;TZID=Europe/Berlin:20270210T170000
DTEND;TZID=Europe/Berlin:20270210T200000
DTSTAMP:20260421T091729
CREATED:20240702T133918Z
LAST-MODIFIED:20240702T133918Z
UID:10006615-1802278800-1802289600@s130056251.online.de
SUMMARY:offenes Musikangebot
DESCRIPTION:Du wolltest schon immer mal ein Instrument spielen oder hast Spaß beim Singen? Dann kannst du das Mittwochs in unserem Proberaum machen. (Du musst kein Instrument spielen können) .
URL:http://s130056251.online.de/event/offenes-musikangebot/2027-02-10/
LOCATION:Eastend-Berlin\, Tangermünder Str. 127\, Berlin\, 12627
ATTACH;FMTTYPE=image/png:http://s130056251.online.de/wp-content/uploads/2024/07/Green-and-Red-Retro-Illustrative-Karaoke-Party-Poster1.png
END:VEVENT
BEGIN:VEVENT
DTSTART;TZID=Europe/Berlin:20270216T150000
DTEND;TZID=Europe/Berlin:20270216T170000
DTSTAMP:20260421T091729
CREATED:20231021T164345Z
LAST-MODIFIED:20231031T120204Z
UID:10003783-1802790000-1802797200@s130056251.online.de
SUMMARY:Kochen
DESCRIPTION:Kochen mit Basti – Eure Vorschläge sind gefragt 🙂
URL:http://s130056251.online.de/event/kochen-2/2027-02-16/
LOCATION:Eastend-Berlin\, Tangermünder Str. 127\, Berlin\, 12627
END:VEVENT
BEGIN:VEVENT
DTSTART;TZID=Europe/Berlin:20270216T150000
DTEND;TZID=Europe/Berlin:20270216T170000
DTSTAMP:20260421T091729
CREATED:20240702T134327Z
LAST-MODIFIED:20240702T134327Z
UID:10006876-1802790000-1802797200@s130056251.online.de
SUMMARY:gemeinsames Kochen im Eastend
DESCRIPTION:Wir entscheiden gemeinsam was wir kochen.
URL:http://s130056251.online.de/event/gemeinsames-kochen-im-eastend/2027-02-16/
LOCATION:Eastend-Berlin\, Tangermünder Str. 127\, Berlin\, 12627
ATTACH;FMTTYPE=image/png:http://s130056251.online.de/wp-content/uploads/2024/07/Unbenannt.png
END:VEVENT
BEGIN:VEVENT
DTSTART;TZID=Europe/Berlin:20270217T170000
DTEND;TZID=Europe/Berlin:20270217T200000
DTSTAMP:20260421T091729
CREATED:20240702T133918Z
LAST-MODIFIED:20240702T133918Z
UID:10006616-1802883600-1802894400@s130056251.online.de
SUMMARY:offenes Musikangebot
DESCRIPTION:Du wolltest schon immer mal ein Instrument spielen oder hast Spaß beim Singen? Dann kannst du das Mittwochs in unserem Proberaum machen. (Du musst kein Instrument spielen können) .
URL:http://s130056251.online.de/event/offenes-musikangebot/2027-02-17/
LOCATION:Eastend-Berlin\, Tangermünder Str. 127\, Berlin\, 12627
ATTACH;FMTTYPE=image/png:http://s130056251.online.de/wp-content/uploads/2024/07/Green-and-Red-Retro-Illustrative-Karaoke-Party-Poster1.png
END:VEVENT
BEGIN:VEVENT
DTSTART;TZID=Europe/Berlin:20270223T150000
DTEND;TZID=Europe/Berlin:20270223T170000
DTSTAMP:20260421T091729
CREATED:20231021T164345Z
LAST-MODIFIED:20231031T120204Z
UID:10003784-1803394800-1803402000@s130056251.online.de
SUMMARY:Kochen
DESCRIPTION:Kochen mit Basti – Eure Vorschläge sind gefragt 🙂
URL:http://s130056251.online.de/event/kochen-2/2027-02-23/
LOCATION:Eastend-Berlin\, Tangermünder Str. 127\, Berlin\, 12627
END:VEVENT
BEGIN:VEVENT
DTSTART;TZID=Europe/Berlin:20270223T150000
DTEND;TZID=Europe/Berlin:20270223T170000
DTSTAMP:20260421T091729
CREATED:20240702T134327Z
LAST-MODIFIED:20240702T134327Z
UID:10006877-1803394800-1803402000@s130056251.online.de
SUMMARY:gemeinsames Kochen im Eastend
DESCRIPTION:Wir entscheiden gemeinsam was wir kochen.
URL:http://s130056251.online.de/event/gemeinsames-kochen-im-eastend/2027-02-23/
LOCATION:Eastend-Berlin\, Tangermünder Str. 127\, Berlin\, 12627
ATTACH;FMTTYPE=image/png:http://s130056251.online.de/wp-content/uploads/2024/07/Unbenannt.png
END:VEVENT
BEGIN:VEVENT
DTSTART;TZID=Europe/Berlin:20270224T170000
DTEND;TZID=Europe/Berlin:20270224T200000
DTSTAMP:20260421T091729
CREATED:20240702T133918Z
LAST-MODIFIED:20240702T133918Z
UID:10006617-1803488400-1803499200@s130056251.online.de
SUMMARY:offenes Musikangebot
DESCRIPTION:Du wolltest schon immer mal ein Instrument spielen oder hast Spaß beim Singen? Dann kannst du das Mittwochs in unserem Proberaum machen. (Du musst kein Instrument spielen können) .
URL:http://s130056251.online.de/event/offenes-musikangebot/2027-02-24/
LOCATION:Eastend-Berlin\, Tangermünder Str. 127\, Berlin\, 12627
ATTACH;FMTTYPE=image/png:http://s130056251.online.de/wp-content/uploads/2024/07/Green-and-Red-Retro-Illustrative-Karaoke-Party-Poster1.png
END:VEVENT
BEGIN:VEVENT
DTSTART;TZID=Europe/Berlin:20270302T150000
DTEND;TZID=Europe/Berlin:20270302T170000
DTSTAMP:20260421T091729
CREATED:20231021T164345Z
LAST-MODIFIED:20231031T120204Z
UID:10003785-1803999600-1804006800@s130056251.online.de
SUMMARY:Kochen
DESCRIPTION:Kochen mit Basti – Eure Vorschläge sind gefragt 🙂
URL:http://s130056251.online.de/event/kochen-2/2027-03-02/
LOCATION:Eastend-Berlin\, Tangermünder Str. 127\, Berlin\, 12627
END:VEVENT
BEGIN:VEVENT
DTSTART;TZID=Europe/Berlin:20270302T150000
DTEND;TZID=Europe/Berlin:20270302T170000
DTSTAMP:20260421T091729
CREATED:20240702T134327Z
LAST-MODIFIED:20240702T134327Z
UID:10006878-1803999600-1804006800@s130056251.online.de
SUMMARY:gemeinsames Kochen im Eastend
DESCRIPTION:Wir entscheiden gemeinsam was wir kochen.
URL:http://s130056251.online.de/event/gemeinsames-kochen-im-eastend/2027-03-02/
LOCATION:Eastend-Berlin\, Tangermünder Str. 127\, Berlin\, 12627
ATTACH;FMTTYPE=image/png:http://s130056251.online.de/wp-content/uploads/2024/07/Unbenannt.png
END:VEVENT
BEGIN:VEVENT
DTSTART;TZID=Europe/Berlin:20270303T170000
DTEND;TZID=Europe/Berlin:20270303T200000
DTSTAMP:20260421T091729
CREATED:20240702T133918Z
LAST-MODIFIED:20240702T133918Z
UID:10006618-1804093200-1804104000@s130056251.online.de
SUMMARY:offenes Musikangebot
DESCRIPTION:Du wolltest schon immer mal ein Instrument spielen oder hast Spaß beim Singen? Dann kannst du das Mittwochs in unserem Proberaum machen. (Du musst kein Instrument spielen können) .
URL:http://s130056251.online.de/event/offenes-musikangebot/2027-03-03/
LOCATION:Eastend-Berlin\, Tangermünder Str. 127\, Berlin\, 12627
ATTACH;FMTTYPE=image/png:http://s130056251.online.de/wp-content/uploads/2024/07/Green-and-Red-Retro-Illustrative-Karaoke-Party-Poster1.png
END:VEVENT
BEGIN:VEVENT
DTSTART;TZID=Europe/Berlin:20270309T150000
DTEND;TZID=Europe/Berlin:20270309T170000
DTSTAMP:20260421T091729
CREATED:20231021T164345Z
LAST-MODIFIED:20231031T120204Z
UID:10003786-1804604400-1804611600@s130056251.online.de
SUMMARY:Kochen
DESCRIPTION:Kochen mit Basti – Eure Vorschläge sind gefragt 🙂
URL:http://s130056251.online.de/event/kochen-2/2027-03-09/
LOCATION:Eastend-Berlin\, Tangermünder Str. 127\, Berlin\, 12627
END:VEVENT
BEGIN:VEVENT
DTSTART;TZID=Europe/Berlin:20270309T150000
DTEND;TZID=Europe/Berlin:20270309T170000
DTSTAMP:20260421T091729
CREATED:20240702T134327Z
LAST-MODIFIED:20240702T134327Z
UID:10006879-1804604400-1804611600@s130056251.online.de
SUMMARY:gemeinsames Kochen im Eastend
DESCRIPTION:Wir entscheiden gemeinsam was wir kochen.
URL:http://s130056251.online.de/event/gemeinsames-kochen-im-eastend/2027-03-09/
LOCATION:Eastend-Berlin\, Tangermünder Str. 127\, Berlin\, 12627
ATTACH;FMTTYPE=image/png:http://s130056251.online.de/wp-content/uploads/2024/07/Unbenannt.png
END:VEVENT
BEGIN:VEVENT
DTSTART;TZID=Europe/Berlin:20270310T170000
DTEND;TZID=Europe/Berlin:20270310T200000
DTSTAMP:20260421T091729
CREATED:20240702T133918Z
LAST-MODIFIED:20240702T133918Z
UID:10006619-1804698000-1804708800@s130056251.online.de
SUMMARY:offenes Musikangebot
DESCRIPTION:Du wolltest schon immer mal ein Instrument spielen oder hast Spaß beim Singen? Dann kannst du das Mittwochs in unserem Proberaum machen. (Du musst kein Instrument spielen können) .
URL:http://s130056251.online.de/event/offenes-musikangebot/2027-03-10/
LOCATION:Eastend-Berlin\, Tangermünder Str. 127\, Berlin\, 12627
ATTACH;FMTTYPE=image/png:http://s130056251.online.de/wp-content/uploads/2024/07/Green-and-Red-Retro-Illustrative-Karaoke-Party-Poster1.png
END:VEVENT
BEGIN:VEVENT
DTSTART;TZID=Europe/Berlin:20270316T150000
DTEND;TZID=Europe/Berlin:20270316T170000
DTSTAMP:20260421T091729
CREATED:20231021T164345Z
LAST-MODIFIED:20231031T120204Z
UID:10003787-1805209200-1805216400@s130056251.online.de
SUMMARY:Kochen
DESCRIPTION:Kochen mit Basti – Eure Vorschläge sind gefragt 🙂
URL:http://s130056251.online.de/event/kochen-2/2027-03-16/
LOCATION:Eastend-Berlin\, Tangermünder Str. 127\, Berlin\, 12627
END:VEVENT
BEGIN:VEVENT
DTSTART;TZID=Europe/Berlin:20270316T150000
DTEND;TZID=Europe/Berlin:20270316T170000
DTSTAMP:20260421T091729
CREATED:20240702T134327Z
LAST-MODIFIED:20240702T134327Z
UID:10006880-1805209200-1805216400@s130056251.online.de
SUMMARY:gemeinsames Kochen im Eastend
DESCRIPTION:Wir entscheiden gemeinsam was wir kochen.
URL:http://s130056251.online.de/event/gemeinsames-kochen-im-eastend/2027-03-16/
LOCATION:Eastend-Berlin\, Tangermünder Str. 127\, Berlin\, 12627
ATTACH;FMTTYPE=image/png:http://s130056251.online.de/wp-content/uploads/2024/07/Unbenannt.png
END:VEVENT
BEGIN:VEVENT
DTSTART;TZID=Europe/Berlin:20270317T170000
DTEND;TZID=Europe/Berlin:20270317T200000
DTSTAMP:20260421T091729
CREATED:20240702T133918Z
LAST-MODIFIED:20240702T133918Z
UID:10006620-1805302800-1805313600@s130056251.online.de
SUMMARY:offenes Musikangebot
DESCRIPTION:Du wolltest schon immer mal ein Instrument spielen oder hast Spaß beim Singen? Dann kannst du das Mittwochs in unserem Proberaum machen. (Du musst kein Instrument spielen können) .
URL:http://s130056251.online.de/event/offenes-musikangebot/2027-03-17/
LOCATION:Eastend-Berlin\, Tangermünder Str. 127\, Berlin\, 12627
ATTACH;FMTTYPE=image/png:http://s130056251.online.de/wp-content/uploads/2024/07/Green-and-Red-Retro-Illustrative-Karaoke-Party-Poster1.png
END:VEVENT
BEGIN:VEVENT
DTSTART;TZID=Europe/Berlin:20270323T150000
DTEND;TZID=Europe/Berlin:20270323T170000
DTSTAMP:20260421T091729
CREATED:20231021T164345Z
LAST-MODIFIED:20231031T120204Z
UID:10003788-1805814000-1805821200@s130056251.online.de
SUMMARY:Kochen
DESCRIPTION:Kochen mit Basti – Eure Vorschläge sind gefragt 🙂
URL:http://s130056251.online.de/event/kochen-2/2027-03-23/
LOCATION:Eastend-Berlin\, Tangermünder Str. 127\, Berlin\, 12627
END:VEVENT
BEGIN:VEVENT
DTSTART;TZID=Europe/Berlin:20270323T150000
DTEND;TZID=Europe/Berlin:20270323T170000
DTSTAMP:20260421T091729
CREATED:20240702T134327Z
LAST-MODIFIED:20240702T134327Z
UID:10006881-1805814000-1805821200@s130056251.online.de
SUMMARY:gemeinsames Kochen im Eastend
DESCRIPTION:Wir entscheiden gemeinsam was wir kochen.
URL:http://s130056251.online.de/event/gemeinsames-kochen-im-eastend/2027-03-23/
LOCATION:Eastend-Berlin\, Tangermünder Str. 127\, Berlin\, 12627
ATTACH;FMTTYPE=image/png:http://s130056251.online.de/wp-content/uploads/2024/07/Unbenannt.png
END:VEVENT
BEGIN:VEVENT
DTSTART;TZID=Europe/Berlin:20270324T170000
DTEND;TZID=Europe/Berlin:20270324T200000
DTSTAMP:20260421T091729
CREATED:20240702T133918Z
LAST-MODIFIED:20240702T133918Z
UID:10006621-1805907600-1805918400@s130056251.online.de
SUMMARY:offenes Musikangebot
DESCRIPTION:Du wolltest schon immer mal ein Instrument spielen oder hast Spaß beim Singen? Dann kannst du das Mittwochs in unserem Proberaum machen. (Du musst kein Instrument spielen können) .
URL:http://s130056251.online.de/event/offenes-musikangebot/2027-03-24/
LOCATION:Eastend-Berlin\, Tangermünder Str. 127\, Berlin\, 12627
ATTACH;FMTTYPE=image/png:http://s130056251.online.de/wp-content/uploads/2024/07/Green-and-Red-Retro-Illustrative-Karaoke-Party-Poster1.png
END:VEVENT
BEGIN:VEVENT
DTSTART;TZID=Europe/Berlin:20270330T150000
DTEND;TZID=Europe/Berlin:20270330T170000
DTSTAMP:20260421T091729
CREATED:20231021T164345Z
LAST-MODIFIED:20231031T120204Z
UID:10003789-1806418800-1806426000@s130056251.online.de
SUMMARY:Kochen
DESCRIPTION:Kochen mit Basti – Eure Vorschläge sind gefragt 🙂
URL:http://s130056251.online.de/event/kochen-2/2027-03-30/
LOCATION:Eastend-Berlin\, Tangermünder Str. 127\, Berlin\, 12627
END:VEVENT
BEGIN:VEVENT
DTSTART;TZID=Europe/Berlin:20270330T150000
DTEND;TZID=Europe/Berlin:20270330T170000
DTSTAMP:20260421T091729
CREATED:20240702T134327Z
LAST-MODIFIED:20240702T134327Z
UID:10006882-1806418800-1806426000@s130056251.online.de
SUMMARY:gemeinsames Kochen im Eastend
DESCRIPTION:Wir entscheiden gemeinsam was wir kochen.
URL:http://s130056251.online.de/event/gemeinsames-kochen-im-eastend/2027-03-30/
LOCATION:Eastend-Berlin\, Tangermünder Str. 127\, Berlin\, 12627
ATTACH;FMTTYPE=image/png:http://s130056251.online.de/wp-content/uploads/2024/07/Unbenannt.png
END:VEVENT
BEGIN:VEVENT
DTSTART;TZID=Europe/Berlin:20270331T170000
DTEND;TZID=Europe/Berlin:20270331T200000
DTSTAMP:20260421T091729
CREATED:20240702T133918Z
LAST-MODIFIED:20240702T133918Z
UID:10006622-1806512400-1806523200@s130056251.online.de
SUMMARY:offenes Musikangebot
DESCRIPTION:Du wolltest schon immer mal ein Instrument spielen oder hast Spaß beim Singen? Dann kannst du das Mittwochs in unserem Proberaum machen. (Du musst kein Instrument spielen können) .
URL:http://s130056251.online.de/event/offenes-musikangebot/2027-03-31/
LOCATION:Eastend-Berlin\, Tangermünder Str. 127\, Berlin\, 12627
ATTACH;FMTTYPE=image/png:http://s130056251.online.de/wp-content/uploads/2024/07/Green-and-Red-Retro-Illustrative-Karaoke-Party-Poster1.png
END:VEVENT
END:VCALENDAR