BEGIN:VCALENDAR
VERSION:2.0
PRODID:-//Was geht in Hellersdorf - ECPv6.1.2.2//NONSGML v1.0//EN
CALSCALE:GREGORIAN
METHOD:PUBLISH
X-ORIGINAL-URL:http://s130056251.online.de
X-WR-CALDESC:Veranstaltungen für Was geht in Hellersdorf
REFRESH-INTERVAL;VALUE=DURATION:PT1H
X-Robots-Tag:noindex
X-PUBLISHED-TTL:PT1H
BEGIN:VTIMEZONE
TZID:Europe/Berlin
BEGIN:DAYLIGHT
TZOFFSETFROM:+0100
TZOFFSETTO:+0200
TZNAME:CEST
DTSTART:20250330T010000
END:DAYLIGHT
BEGIN:STANDARD
TZOFFSETFROM:+0200
TZOFFSETTO:+0100
TZNAME:CET
DTSTART:20251026T010000
END:STANDARD
END:VTIMEZONE
BEGIN:VEVENT
DTSTART;TZID=Europe/Berlin:20251203T170000
DTEND;TZID=Europe/Berlin:20251203T200000
DTSTAMP:20260424T193512
CREATED:20240702T133918Z
LAST-MODIFIED:20240702T133918Z
UID:10006553-1764781200-1764792000@s130056251.online.de
SUMMARY:offenes Musikangebot
DESCRIPTION:Du wolltest schon immer mal ein Instrument spielen oder hast Spaß beim Singen? Dann kannst du das Mittwochs in unserem Proberaum machen. (Du musst kein Instrument spielen können) .
URL:http://s130056251.online.de/event/offenes-musikangebot/2025-12-03/
LOCATION:Eastend-Berlin\, Tangermünder Str. 127\, Berlin\, 12627
ATTACH;FMTTYPE=image/png:http://s130056251.online.de/wp-content/uploads/2024/07/Green-and-Red-Retro-Illustrative-Karaoke-Party-Poster1.png
END:VEVENT
BEGIN:VEVENT
DTSTART;TZID=Europe/Berlin:20251202T150000
DTEND;TZID=Europe/Berlin:20251202T170000
DTSTAMP:20260424T193512
CREATED:20240702T134327Z
LAST-MODIFIED:20240702T134327Z
UID:10006813-1764687600-1764694800@s130056251.online.de
SUMMARY:gemeinsames Kochen im Eastend
DESCRIPTION:Wir entscheiden gemeinsam was wir kochen.
URL:http://s130056251.online.de/event/gemeinsames-kochen-im-eastend/2025-12-02/
LOCATION:Eastend-Berlin\, Tangermünder Str. 127\, Berlin\, 12627
ATTACH;FMTTYPE=image/png:http://s130056251.online.de/wp-content/uploads/2024/07/Unbenannt.png
END:VEVENT
BEGIN:VEVENT
DTSTART;TZID=Europe/Berlin:20251202T150000
DTEND;TZID=Europe/Berlin:20251202T170000
DTSTAMP:20260424T193512
CREATED:20231021T164345Z
LAST-MODIFIED:20231031T120204Z
UID:10003720-1764687600-1764694800@s130056251.online.de
SUMMARY:Kochen
DESCRIPTION:Kochen mit Basti – Eure Vorschläge sind gefragt 🙂
URL:http://s130056251.online.de/event/kochen-2/2025-12-02/
LOCATION:Eastend-Berlin\, Tangermünder Str. 127\, Berlin\, 12627
END:VEVENT
BEGIN:VEVENT
DTSTART;TZID=Europe/Berlin:20251126T170000
DTEND;TZID=Europe/Berlin:20251126T200000
DTSTAMP:20260424T193512
CREATED:20240702T133918Z
LAST-MODIFIED:20240702T133918Z
UID:10006552-1764176400-1764187200@s130056251.online.de
SUMMARY:offenes Musikangebot
DESCRIPTION:Du wolltest schon immer mal ein Instrument spielen oder hast Spaß beim Singen? Dann kannst du das Mittwochs in unserem Proberaum machen. (Du musst kein Instrument spielen können) .
URL:http://s130056251.online.de/event/offenes-musikangebot/2025-11-26/
LOCATION:Eastend-Berlin\, Tangermünder Str. 127\, Berlin\, 12627
ATTACH;FMTTYPE=image/png:http://s130056251.online.de/wp-content/uploads/2024/07/Green-and-Red-Retro-Illustrative-Karaoke-Party-Poster1.png
END:VEVENT
BEGIN:VEVENT
DTSTART;TZID=Europe/Berlin:20251125T150000
DTEND;TZID=Europe/Berlin:20251125T170000
DTSTAMP:20260424T193512
CREATED:20240702T134327Z
LAST-MODIFIED:20240702T134327Z
UID:10006812-1764082800-1764090000@s130056251.online.de
SUMMARY:gemeinsames Kochen im Eastend
DESCRIPTION:Wir entscheiden gemeinsam was wir kochen.
URL:http://s130056251.online.de/event/gemeinsames-kochen-im-eastend/2025-11-25/
LOCATION:Eastend-Berlin\, Tangermünder Str. 127\, Berlin\, 12627
ATTACH;FMTTYPE=image/png:http://s130056251.online.de/wp-content/uploads/2024/07/Unbenannt.png
END:VEVENT
BEGIN:VEVENT
DTSTART;TZID=Europe/Berlin:20251125T150000
DTEND;TZID=Europe/Berlin:20251125T170000
DTSTAMP:20260424T193512
CREATED:20231021T164345Z
LAST-MODIFIED:20231031T120204Z
UID:10003719-1764082800-1764090000@s130056251.online.de
SUMMARY:Kochen
DESCRIPTION:Kochen mit Basti – Eure Vorschläge sind gefragt 🙂
URL:http://s130056251.online.de/event/kochen-2/2025-11-25/
LOCATION:Eastend-Berlin\, Tangermünder Str. 127\, Berlin\, 12627
END:VEVENT
BEGIN:VEVENT
DTSTART;TZID=Europe/Berlin:20251119T170000
DTEND;TZID=Europe/Berlin:20251119T200000
DTSTAMP:20260424T193512
CREATED:20240702T133918Z
LAST-MODIFIED:20240702T133918Z
UID:10006551-1763571600-1763582400@s130056251.online.de
SUMMARY:offenes Musikangebot
DESCRIPTION:Du wolltest schon immer mal ein Instrument spielen oder hast Spaß beim Singen? Dann kannst du das Mittwochs in unserem Proberaum machen. (Du musst kein Instrument spielen können) .
URL:http://s130056251.online.de/event/offenes-musikangebot/2025-11-19/
LOCATION:Eastend-Berlin\, Tangermünder Str. 127\, Berlin\, 12627
ATTACH;FMTTYPE=image/png:http://s130056251.online.de/wp-content/uploads/2024/07/Green-and-Red-Retro-Illustrative-Karaoke-Party-Poster1.png
END:VEVENT
BEGIN:VEVENT
DTSTART;TZID=Europe/Berlin:20251118T150000
DTEND;TZID=Europe/Berlin:20251118T170000
DTSTAMP:20260424T193512
CREATED:20240702T134327Z
LAST-MODIFIED:20240702T134327Z
UID:10006811-1763478000-1763485200@s130056251.online.de
SUMMARY:gemeinsames Kochen im Eastend
DESCRIPTION:Wir entscheiden gemeinsam was wir kochen.
URL:http://s130056251.online.de/event/gemeinsames-kochen-im-eastend/2025-11-18/
LOCATION:Eastend-Berlin\, Tangermünder Str. 127\, Berlin\, 12627
ATTACH;FMTTYPE=image/png:http://s130056251.online.de/wp-content/uploads/2024/07/Unbenannt.png
END:VEVENT
BEGIN:VEVENT
DTSTART;TZID=Europe/Berlin:20251118T150000
DTEND;TZID=Europe/Berlin:20251118T170000
DTSTAMP:20260424T193512
CREATED:20231021T164345Z
LAST-MODIFIED:20231031T120204Z
UID:10003718-1763478000-1763485200@s130056251.online.de
SUMMARY:Kochen
DESCRIPTION:Kochen mit Basti – Eure Vorschläge sind gefragt 🙂
URL:http://s130056251.online.de/event/kochen-2/2025-11-18/
LOCATION:Eastend-Berlin\, Tangermünder Str. 127\, Berlin\, 12627
END:VEVENT
BEGIN:VEVENT
DTSTART;TZID=Europe/Berlin:20251112T170000
DTEND;TZID=Europe/Berlin:20251112T200000
DTSTAMP:20260424T193512
CREATED:20240702T133918Z
LAST-MODIFIED:20240702T133918Z
UID:10006550-1762966800-1762977600@s130056251.online.de
SUMMARY:offenes Musikangebot
DESCRIPTION:Du wolltest schon immer mal ein Instrument spielen oder hast Spaß beim Singen? Dann kannst du das Mittwochs in unserem Proberaum machen. (Du musst kein Instrument spielen können) .
URL:http://s130056251.online.de/event/offenes-musikangebot/2025-11-12/
LOCATION:Eastend-Berlin\, Tangermünder Str. 127\, Berlin\, 12627
ATTACH;FMTTYPE=image/png:http://s130056251.online.de/wp-content/uploads/2024/07/Green-and-Red-Retro-Illustrative-Karaoke-Party-Poster1.png
END:VEVENT
BEGIN:VEVENT
DTSTART;TZID=Europe/Berlin:20251111T150000
DTEND;TZID=Europe/Berlin:20251111T170000
DTSTAMP:20260424T193512
CREATED:20240702T134327Z
LAST-MODIFIED:20240702T134327Z
UID:10006810-1762873200-1762880400@s130056251.online.de
SUMMARY:gemeinsames Kochen im Eastend
DESCRIPTION:Wir entscheiden gemeinsam was wir kochen.
URL:http://s130056251.online.de/event/gemeinsames-kochen-im-eastend/2025-11-11/
LOCATION:Eastend-Berlin\, Tangermünder Str. 127\, Berlin\, 12627
ATTACH;FMTTYPE=image/png:http://s130056251.online.de/wp-content/uploads/2024/07/Unbenannt.png
END:VEVENT
BEGIN:VEVENT
DTSTART;TZID=Europe/Berlin:20251111T150000
DTEND;TZID=Europe/Berlin:20251111T170000
DTSTAMP:20260424T193512
CREATED:20231021T164345Z
LAST-MODIFIED:20231031T120204Z
UID:10003717-1762873200-1762880400@s130056251.online.de
SUMMARY:Kochen
DESCRIPTION:Kochen mit Basti – Eure Vorschläge sind gefragt 🙂
URL:http://s130056251.online.de/event/kochen-2/2025-11-11/
LOCATION:Eastend-Berlin\, Tangermünder Str. 127\, Berlin\, 12627
END:VEVENT
BEGIN:VEVENT
DTSTART;TZID=Europe/Berlin:20251105T170000
DTEND;TZID=Europe/Berlin:20251105T200000
DTSTAMP:20260424T193512
CREATED:20240702T133918Z
LAST-MODIFIED:20240702T133918Z
UID:10006549-1762362000-1762372800@s130056251.online.de
SUMMARY:offenes Musikangebot
DESCRIPTION:Du wolltest schon immer mal ein Instrument spielen oder hast Spaß beim Singen? Dann kannst du das Mittwochs in unserem Proberaum machen. (Du musst kein Instrument spielen können) .
URL:http://s130056251.online.de/event/offenes-musikangebot/2025-11-05/
LOCATION:Eastend-Berlin\, Tangermünder Str. 127\, Berlin\, 12627
ATTACH;FMTTYPE=image/png:http://s130056251.online.de/wp-content/uploads/2024/07/Green-and-Red-Retro-Illustrative-Karaoke-Party-Poster1.png
END:VEVENT
BEGIN:VEVENT
DTSTART;TZID=Europe/Berlin:20251104T150000
DTEND;TZID=Europe/Berlin:20251104T170000
DTSTAMP:20260424T193512
CREATED:20240702T134327Z
LAST-MODIFIED:20240702T134327Z
UID:10006809-1762268400-1762275600@s130056251.online.de
SUMMARY:gemeinsames Kochen im Eastend
DESCRIPTION:Wir entscheiden gemeinsam was wir kochen.
URL:http://s130056251.online.de/event/gemeinsames-kochen-im-eastend/2025-11-04/
LOCATION:Eastend-Berlin\, Tangermünder Str. 127\, Berlin\, 12627
ATTACH;FMTTYPE=image/png:http://s130056251.online.de/wp-content/uploads/2024/07/Unbenannt.png
END:VEVENT
BEGIN:VEVENT
DTSTART;TZID=Europe/Berlin:20251104T150000
DTEND;TZID=Europe/Berlin:20251104T170000
DTSTAMP:20260424T193512
CREATED:20231021T164345Z
LAST-MODIFIED:20231031T120204Z
UID:10003716-1762268400-1762275600@s130056251.online.de
SUMMARY:Kochen
DESCRIPTION:Kochen mit Basti – Eure Vorschläge sind gefragt 🙂
URL:http://s130056251.online.de/event/kochen-2/2025-11-04/
LOCATION:Eastend-Berlin\, Tangermünder Str. 127\, Berlin\, 12627
END:VEVENT
BEGIN:VEVENT
DTSTART;TZID=Europe/Berlin:20251029T170000
DTEND;TZID=Europe/Berlin:20251029T200000
DTSTAMP:20260424T193512
CREATED:20240702T133918Z
LAST-MODIFIED:20240702T133918Z
UID:10006548-1761757200-1761768000@s130056251.online.de
SUMMARY:offenes Musikangebot
DESCRIPTION:Du wolltest schon immer mal ein Instrument spielen oder hast Spaß beim Singen? Dann kannst du das Mittwochs in unserem Proberaum machen. (Du musst kein Instrument spielen können) .
URL:http://s130056251.online.de/event/offenes-musikangebot/2025-10-29/
LOCATION:Eastend-Berlin\, Tangermünder Str. 127\, Berlin\, 12627
ATTACH;FMTTYPE=image/png:http://s130056251.online.de/wp-content/uploads/2024/07/Green-and-Red-Retro-Illustrative-Karaoke-Party-Poster1.png
END:VEVENT
BEGIN:VEVENT
DTSTART;TZID=Europe/Berlin:20251028T150000
DTEND;TZID=Europe/Berlin:20251028T170000
DTSTAMP:20260424T193512
CREATED:20240702T134327Z
LAST-MODIFIED:20240702T134327Z
UID:10006808-1761663600-1761670800@s130056251.online.de
SUMMARY:gemeinsames Kochen im Eastend
DESCRIPTION:Wir entscheiden gemeinsam was wir kochen.
URL:http://s130056251.online.de/event/gemeinsames-kochen-im-eastend/2025-10-28/
LOCATION:Eastend-Berlin\, Tangermünder Str. 127\, Berlin\, 12627
ATTACH;FMTTYPE=image/png:http://s130056251.online.de/wp-content/uploads/2024/07/Unbenannt.png
END:VEVENT
BEGIN:VEVENT
DTSTART;TZID=Europe/Berlin:20251028T150000
DTEND;TZID=Europe/Berlin:20251028T170000
DTSTAMP:20260424T193512
CREATED:20231021T164345Z
LAST-MODIFIED:20231031T120204Z
UID:10003715-1761663600-1761670800@s130056251.online.de
SUMMARY:Kochen
DESCRIPTION:Kochen mit Basti – Eure Vorschläge sind gefragt 🙂
URL:http://s130056251.online.de/event/kochen-2/2025-10-28/
LOCATION:Eastend-Berlin\, Tangermünder Str. 127\, Berlin\, 12627
END:VEVENT
BEGIN:VEVENT
DTSTART;TZID=Europe/Berlin:20251022T170000
DTEND;TZID=Europe/Berlin:20251022T200000
DTSTAMP:20260424T193512
CREATED:20240702T133918Z
LAST-MODIFIED:20240702T133918Z
UID:10006547-1761152400-1761163200@s130056251.online.de
SUMMARY:offenes Musikangebot
DESCRIPTION:Du wolltest schon immer mal ein Instrument spielen oder hast Spaß beim Singen? Dann kannst du das Mittwochs in unserem Proberaum machen. (Du musst kein Instrument spielen können) .
URL:http://s130056251.online.de/event/offenes-musikangebot/2025-10-22/
LOCATION:Eastend-Berlin\, Tangermünder Str. 127\, Berlin\, 12627
ATTACH;FMTTYPE=image/png:http://s130056251.online.de/wp-content/uploads/2024/07/Green-and-Red-Retro-Illustrative-Karaoke-Party-Poster1.png
END:VEVENT
BEGIN:VEVENT
DTSTART;TZID=Europe/Berlin:20251021T150000
DTEND;TZID=Europe/Berlin:20251021T170000
DTSTAMP:20260424T193512
CREATED:20240702T134327Z
LAST-MODIFIED:20240702T134327Z
UID:10006807-1761058800-1761066000@s130056251.online.de
SUMMARY:gemeinsames Kochen im Eastend
DESCRIPTION:Wir entscheiden gemeinsam was wir kochen.
URL:http://s130056251.online.de/event/gemeinsames-kochen-im-eastend/2025-10-21/
LOCATION:Eastend-Berlin\, Tangermünder Str. 127\, Berlin\, 12627
ATTACH;FMTTYPE=image/png:http://s130056251.online.de/wp-content/uploads/2024/07/Unbenannt.png
END:VEVENT
BEGIN:VEVENT
DTSTART;TZID=Europe/Berlin:20251021T150000
DTEND;TZID=Europe/Berlin:20251021T170000
DTSTAMP:20260424T193512
CREATED:20231021T164345Z
LAST-MODIFIED:20231031T120204Z
UID:10003714-1761058800-1761066000@s130056251.online.de
SUMMARY:Kochen
DESCRIPTION:Kochen mit Basti – Eure Vorschläge sind gefragt 🙂
URL:http://s130056251.online.de/event/kochen-2/2025-10-21/
LOCATION:Eastend-Berlin\, Tangermünder Str. 127\, Berlin\, 12627
END:VEVENT
BEGIN:VEVENT
DTSTART;TZID=Europe/Berlin:20251015T170000
DTEND;TZID=Europe/Berlin:20251015T200000
DTSTAMP:20260424T193512
CREATED:20240702T133918Z
LAST-MODIFIED:20240702T133918Z
UID:10006546-1760547600-1760558400@s130056251.online.de
SUMMARY:offenes Musikangebot
DESCRIPTION:Du wolltest schon immer mal ein Instrument spielen oder hast Spaß beim Singen? Dann kannst du das Mittwochs in unserem Proberaum machen. (Du musst kein Instrument spielen können) .
URL:http://s130056251.online.de/event/offenes-musikangebot/2025-10-15/
LOCATION:Eastend-Berlin\, Tangermünder Str. 127\, Berlin\, 12627
ATTACH;FMTTYPE=image/png:http://s130056251.online.de/wp-content/uploads/2024/07/Green-and-Red-Retro-Illustrative-Karaoke-Party-Poster1.png
END:VEVENT
BEGIN:VEVENT
DTSTART;TZID=Europe/Berlin:20251014T150000
DTEND;TZID=Europe/Berlin:20251014T170000
DTSTAMP:20260424T193512
CREATED:20240702T134327Z
LAST-MODIFIED:20240702T134327Z
UID:10006806-1760454000-1760461200@s130056251.online.de
SUMMARY:gemeinsames Kochen im Eastend
DESCRIPTION:Wir entscheiden gemeinsam was wir kochen.
URL:http://s130056251.online.de/event/gemeinsames-kochen-im-eastend/2025-10-14/
LOCATION:Eastend-Berlin\, Tangermünder Str. 127\, Berlin\, 12627
ATTACH;FMTTYPE=image/png:http://s130056251.online.de/wp-content/uploads/2024/07/Unbenannt.png
END:VEVENT
BEGIN:VEVENT
DTSTART;TZID=Europe/Berlin:20251014T150000
DTEND;TZID=Europe/Berlin:20251014T170000
DTSTAMP:20260424T193512
CREATED:20231021T164345Z
LAST-MODIFIED:20231031T120204Z
UID:10003713-1760454000-1760461200@s130056251.online.de
SUMMARY:Kochen
DESCRIPTION:Kochen mit Basti – Eure Vorschläge sind gefragt 🙂
URL:http://s130056251.online.de/event/kochen-2/2025-10-14/
LOCATION:Eastend-Berlin\, Tangermünder Str. 127\, Berlin\, 12627
END:VEVENT
BEGIN:VEVENT
DTSTART;TZID=Europe/Berlin:20251008T170000
DTEND;TZID=Europe/Berlin:20251008T200000
DTSTAMP:20260424T193512
CREATED:20240702T133918Z
LAST-MODIFIED:20240702T133918Z
UID:10006545-1759942800-1759953600@s130056251.online.de
SUMMARY:offenes Musikangebot
DESCRIPTION:Du wolltest schon immer mal ein Instrument spielen oder hast Spaß beim Singen? Dann kannst du das Mittwochs in unserem Proberaum machen. (Du musst kein Instrument spielen können) .
URL:http://s130056251.online.de/event/offenes-musikangebot/2025-10-08/
LOCATION:Eastend-Berlin\, Tangermünder Str. 127\, Berlin\, 12627
ATTACH;FMTTYPE=image/png:http://s130056251.online.de/wp-content/uploads/2024/07/Green-and-Red-Retro-Illustrative-Karaoke-Party-Poster1.png
END:VEVENT
BEGIN:VEVENT
DTSTART;TZID=Europe/Berlin:20251007T150000
DTEND;TZID=Europe/Berlin:20251007T170000
DTSTAMP:20260424T193512
CREATED:20240702T134327Z
LAST-MODIFIED:20240702T134327Z
UID:10006805-1759849200-1759856400@s130056251.online.de
SUMMARY:gemeinsames Kochen im Eastend
DESCRIPTION:Wir entscheiden gemeinsam was wir kochen.
URL:http://s130056251.online.de/event/gemeinsames-kochen-im-eastend/2025-10-07/
LOCATION:Eastend-Berlin\, Tangermünder Str. 127\, Berlin\, 12627
ATTACH;FMTTYPE=image/png:http://s130056251.online.de/wp-content/uploads/2024/07/Unbenannt.png
END:VEVENT
BEGIN:VEVENT
DTSTART;TZID=Europe/Berlin:20251007T150000
DTEND;TZID=Europe/Berlin:20251007T170000
DTSTAMP:20260424T193512
CREATED:20231021T164345Z
LAST-MODIFIED:20231031T120204Z
UID:10003712-1759849200-1759856400@s130056251.online.de
SUMMARY:Kochen
DESCRIPTION:Kochen mit Basti – Eure Vorschläge sind gefragt 🙂
URL:http://s130056251.online.de/event/kochen-2/2025-10-07/
LOCATION:Eastend-Berlin\, Tangermünder Str. 127\, Berlin\, 12627
END:VEVENT
BEGIN:VEVENT
DTSTART;TZID=Europe/Berlin:20251001T170000
DTEND;TZID=Europe/Berlin:20251001T200000
DTSTAMP:20260424T193512
CREATED:20240702T133918Z
LAST-MODIFIED:20240702T133918Z
UID:10006544-1759338000-1759348800@s130056251.online.de
SUMMARY:offenes Musikangebot
DESCRIPTION:Du wolltest schon immer mal ein Instrument spielen oder hast Spaß beim Singen? Dann kannst du das Mittwochs in unserem Proberaum machen. (Du musst kein Instrument spielen können) .
URL:http://s130056251.online.de/event/offenes-musikangebot/2025-10-01/
LOCATION:Eastend-Berlin\, Tangermünder Str. 127\, Berlin\, 12627
ATTACH;FMTTYPE=image/png:http://s130056251.online.de/wp-content/uploads/2024/07/Green-and-Red-Retro-Illustrative-Karaoke-Party-Poster1.png
END:VEVENT
BEGIN:VEVENT
DTSTART;TZID=Europe/Berlin:20250930T150000
DTEND;TZID=Europe/Berlin:20250930T170000
DTSTAMP:20260424T193512
CREATED:20240702T134327Z
LAST-MODIFIED:20240702T134327Z
UID:10006804-1759244400-1759251600@s130056251.online.de
SUMMARY:gemeinsames Kochen im Eastend
DESCRIPTION:Wir entscheiden gemeinsam was wir kochen.
URL:http://s130056251.online.de/event/gemeinsames-kochen-im-eastend/2025-09-30/
LOCATION:Eastend-Berlin\, Tangermünder Str. 127\, Berlin\, 12627
ATTACH;FMTTYPE=image/png:http://s130056251.online.de/wp-content/uploads/2024/07/Unbenannt.png
END:VEVENT
BEGIN:VEVENT
DTSTART;TZID=Europe/Berlin:20250930T150000
DTEND;TZID=Europe/Berlin:20250930T170000
DTSTAMP:20260424T193512
CREATED:20231021T164345Z
LAST-MODIFIED:20231031T120204Z
UID:10003711-1759244400-1759251600@s130056251.online.de
SUMMARY:Kochen
DESCRIPTION:Kochen mit Basti – Eure Vorschläge sind gefragt 🙂
URL:http://s130056251.online.de/event/kochen-2/2025-09-30/
LOCATION:Eastend-Berlin\, Tangermünder Str. 127\, Berlin\, 12627
END:VEVENT
END:VCALENDAR