BEGIN:VCALENDAR
VERSION:2.0
PRODID:-//Was geht in Hellersdorf - ECPv6.1.2.2//NONSGML v1.0//EN
CALSCALE:GREGORIAN
METHOD:PUBLISH
X-WR-CALNAME:Was geht in Hellersdorf
X-ORIGINAL-URL:http://s130056251.online.de
X-WR-CALDESC:Veranstaltungen für Was geht in Hellersdorf
REFRESH-INTERVAL;VALUE=DURATION:PT1H
X-Robots-Tag:noindex
X-PUBLISHED-TTL:PT1H
BEGIN:VTIMEZONE
TZID:Europe/Berlin
BEGIN:DAYLIGHT
TZOFFSETFROM:+0100
TZOFFSETTO:+0200
TZNAME:CEST
DTSTART:20260329T010000
END:DAYLIGHT
BEGIN:STANDARD
TZOFFSETFROM:+0200
TZOFFSETTO:+0100
TZNAME:CET
DTSTART:20261025T010000
END:STANDARD
BEGIN:DAYLIGHT
TZOFFSETFROM:+0100
TZOFFSETTO:+0200
TZNAME:CEST
DTSTART:20270328T010000
END:DAYLIGHT
BEGIN:STANDARD
TZOFFSETFROM:+0200
TZOFFSETTO:+0100
TZNAME:CET
DTSTART:20271031T010000
END:STANDARD
END:VTIMEZONE
BEGIN:VEVENT
DTSTART;TZID=Europe/Berlin:20261201T150000
DTEND;TZID=Europe/Berlin:20261201T170000
DTSTAMP:20260421T060344
CREATED:20231021T164345Z
LAST-MODIFIED:20231031T120204Z
UID:10003772-1796137200-1796144400@s130056251.online.de
SUMMARY:Kochen
DESCRIPTION:Kochen mit Basti – Eure Vorschläge sind gefragt 🙂
URL:http://s130056251.online.de/event/kochen-2/2026-12-01/
LOCATION:Eastend-Berlin\, Tangermünder Str. 127\, Berlin\, 12627
END:VEVENT
BEGIN:VEVENT
DTSTART;TZID=Europe/Berlin:20261201T150000
DTEND;TZID=Europe/Berlin:20261201T170000
DTSTAMP:20260421T060344
CREATED:20240702T134327Z
LAST-MODIFIED:20240702T134327Z
UID:10006865-1796137200-1796144400@s130056251.online.de
SUMMARY:gemeinsames Kochen im Eastend
DESCRIPTION:Wir entscheiden gemeinsam was wir kochen.
URL:http://s130056251.online.de/event/gemeinsames-kochen-im-eastend/2026-12-01/
LOCATION:Eastend-Berlin\, Tangermünder Str. 127\, Berlin\, 12627
ATTACH;FMTTYPE=image/png:http://s130056251.online.de/wp-content/uploads/2024/07/Unbenannt.png
END:VEVENT
BEGIN:VEVENT
DTSTART;TZID=Europe/Berlin:20261202T170000
DTEND;TZID=Europe/Berlin:20261202T200000
DTSTAMP:20260421T060344
CREATED:20240702T133918Z
LAST-MODIFIED:20240702T133918Z
UID:10006605-1796230800-1796241600@s130056251.online.de
SUMMARY:offenes Musikangebot
DESCRIPTION:Du wolltest schon immer mal ein Instrument spielen oder hast Spaß beim Singen? Dann kannst du das Mittwochs in unserem Proberaum machen. (Du musst kein Instrument spielen können) .
URL:http://s130056251.online.de/event/offenes-musikangebot/2026-12-02/
LOCATION:Eastend-Berlin\, Tangermünder Str. 127\, Berlin\, 12627
ATTACH;FMTTYPE=image/png:http://s130056251.online.de/wp-content/uploads/2024/07/Green-and-Red-Retro-Illustrative-Karaoke-Party-Poster1.png
END:VEVENT
BEGIN:VEVENT
DTSTART;TZID=Europe/Berlin:20261208T150000
DTEND;TZID=Europe/Berlin:20261208T170000
DTSTAMP:20260421T060344
CREATED:20231021T164345Z
LAST-MODIFIED:20231031T120204Z
UID:10003773-1796742000-1796749200@s130056251.online.de
SUMMARY:Kochen
DESCRIPTION:Kochen mit Basti – Eure Vorschläge sind gefragt 🙂
URL:http://s130056251.online.de/event/kochen-2/2026-12-08/
LOCATION:Eastend-Berlin\, Tangermünder Str. 127\, Berlin\, 12627
END:VEVENT
BEGIN:VEVENT
DTSTART;TZID=Europe/Berlin:20261208T150000
DTEND;TZID=Europe/Berlin:20261208T170000
DTSTAMP:20260421T060344
CREATED:20240702T134327Z
LAST-MODIFIED:20240702T134327Z
UID:10006866-1796742000-1796749200@s130056251.online.de
SUMMARY:gemeinsames Kochen im Eastend
DESCRIPTION:Wir entscheiden gemeinsam was wir kochen.
URL:http://s130056251.online.de/event/gemeinsames-kochen-im-eastend/2026-12-08/
LOCATION:Eastend-Berlin\, Tangermünder Str. 127\, Berlin\, 12627
ATTACH;FMTTYPE=image/png:http://s130056251.online.de/wp-content/uploads/2024/07/Unbenannt.png
END:VEVENT
BEGIN:VEVENT
DTSTART;TZID=Europe/Berlin:20261209T170000
DTEND;TZID=Europe/Berlin:20261209T200000
DTSTAMP:20260421T060344
CREATED:20240702T133918Z
LAST-MODIFIED:20240702T133918Z
UID:10006606-1796835600-1796846400@s130056251.online.de
SUMMARY:offenes Musikangebot
DESCRIPTION:Du wolltest schon immer mal ein Instrument spielen oder hast Spaß beim Singen? Dann kannst du das Mittwochs in unserem Proberaum machen. (Du musst kein Instrument spielen können) .
URL:http://s130056251.online.de/event/offenes-musikangebot/2026-12-09/
LOCATION:Eastend-Berlin\, Tangermünder Str. 127\, Berlin\, 12627
ATTACH;FMTTYPE=image/png:http://s130056251.online.de/wp-content/uploads/2024/07/Green-and-Red-Retro-Illustrative-Karaoke-Party-Poster1.png
END:VEVENT
BEGIN:VEVENT
DTSTART;TZID=Europe/Berlin:20261215T150000
DTEND;TZID=Europe/Berlin:20261215T170000
DTSTAMP:20260421T060344
CREATED:20231021T164345Z
LAST-MODIFIED:20231031T120204Z
UID:10003774-1797346800-1797354000@s130056251.online.de
SUMMARY:Kochen
DESCRIPTION:Kochen mit Basti – Eure Vorschläge sind gefragt 🙂
URL:http://s130056251.online.de/event/kochen-2/2026-12-15/
LOCATION:Eastend-Berlin\, Tangermünder Str. 127\, Berlin\, 12627
END:VEVENT
BEGIN:VEVENT
DTSTART;TZID=Europe/Berlin:20261215T150000
DTEND;TZID=Europe/Berlin:20261215T170000
DTSTAMP:20260421T060344
CREATED:20240702T134327Z
LAST-MODIFIED:20240702T134327Z
UID:10006867-1797346800-1797354000@s130056251.online.de
SUMMARY:gemeinsames Kochen im Eastend
DESCRIPTION:Wir entscheiden gemeinsam was wir kochen.
URL:http://s130056251.online.de/event/gemeinsames-kochen-im-eastend/2026-12-15/
LOCATION:Eastend-Berlin\, Tangermünder Str. 127\, Berlin\, 12627
ATTACH;FMTTYPE=image/png:http://s130056251.online.de/wp-content/uploads/2024/07/Unbenannt.png
END:VEVENT
BEGIN:VEVENT
DTSTART;TZID=Europe/Berlin:20261216T170000
DTEND;TZID=Europe/Berlin:20261216T200000
DTSTAMP:20260421T060344
CREATED:20240702T133918Z
LAST-MODIFIED:20240702T133918Z
UID:10006607-1797440400-1797451200@s130056251.online.de
SUMMARY:offenes Musikangebot
DESCRIPTION:Du wolltest schon immer mal ein Instrument spielen oder hast Spaß beim Singen? Dann kannst du das Mittwochs in unserem Proberaum machen. (Du musst kein Instrument spielen können) .
URL:http://s130056251.online.de/event/offenes-musikangebot/2026-12-16/
LOCATION:Eastend-Berlin\, Tangermünder Str. 127\, Berlin\, 12627
ATTACH;FMTTYPE=image/png:http://s130056251.online.de/wp-content/uploads/2024/07/Green-and-Red-Retro-Illustrative-Karaoke-Party-Poster1.png
END:VEVENT
BEGIN:VEVENT
DTSTART;TZID=Europe/Berlin:20261222T150000
DTEND;TZID=Europe/Berlin:20261222T170000
DTSTAMP:20260421T060344
CREATED:20231021T164345Z
LAST-MODIFIED:20231031T120204Z
UID:10003775-1797951600-1797958800@s130056251.online.de
SUMMARY:Kochen
DESCRIPTION:Kochen mit Basti – Eure Vorschläge sind gefragt 🙂
URL:http://s130056251.online.de/event/kochen-2/2026-12-22/
LOCATION:Eastend-Berlin\, Tangermünder Str. 127\, Berlin\, 12627
END:VEVENT
BEGIN:VEVENT
DTSTART;TZID=Europe/Berlin:20261222T150000
DTEND;TZID=Europe/Berlin:20261222T170000
DTSTAMP:20260421T060344
CREATED:20240702T134327Z
LAST-MODIFIED:20240702T134327Z
UID:10006868-1797951600-1797958800@s130056251.online.de
SUMMARY:gemeinsames Kochen im Eastend
DESCRIPTION:Wir entscheiden gemeinsam was wir kochen.
URL:http://s130056251.online.de/event/gemeinsames-kochen-im-eastend/2026-12-22/
LOCATION:Eastend-Berlin\, Tangermünder Str. 127\, Berlin\, 12627
ATTACH;FMTTYPE=image/png:http://s130056251.online.de/wp-content/uploads/2024/07/Unbenannt.png
END:VEVENT
BEGIN:VEVENT
DTSTART;TZID=Europe/Berlin:20261223T170000
DTEND;TZID=Europe/Berlin:20261223T200000
DTSTAMP:20260421T060344
CREATED:20240702T133918Z
LAST-MODIFIED:20240702T133918Z
UID:10006608-1798045200-1798056000@s130056251.online.de
SUMMARY:offenes Musikangebot
DESCRIPTION:Du wolltest schon immer mal ein Instrument spielen oder hast Spaß beim Singen? Dann kannst du das Mittwochs in unserem Proberaum machen. (Du musst kein Instrument spielen können) .
URL:http://s130056251.online.de/event/offenes-musikangebot/2026-12-23/
LOCATION:Eastend-Berlin\, Tangermünder Str. 127\, Berlin\, 12627
ATTACH;FMTTYPE=image/png:http://s130056251.online.de/wp-content/uploads/2024/07/Green-and-Red-Retro-Illustrative-Karaoke-Party-Poster1.png
END:VEVENT
BEGIN:VEVENT
DTSTART;TZID=Europe/Berlin:20261229T150000
DTEND;TZID=Europe/Berlin:20261229T170000
DTSTAMP:20260421T060344
CREATED:20231021T164345Z
LAST-MODIFIED:20231031T120204Z
UID:10003776-1798556400-1798563600@s130056251.online.de
SUMMARY:Kochen
DESCRIPTION:Kochen mit Basti – Eure Vorschläge sind gefragt 🙂
URL:http://s130056251.online.de/event/kochen-2/2026-12-29/
LOCATION:Eastend-Berlin\, Tangermünder Str. 127\, Berlin\, 12627
END:VEVENT
BEGIN:VEVENT
DTSTART;TZID=Europe/Berlin:20261229T150000
DTEND;TZID=Europe/Berlin:20261229T170000
DTSTAMP:20260421T060344
CREATED:20240702T134327Z
LAST-MODIFIED:20240702T134327Z
UID:10006869-1798556400-1798563600@s130056251.online.de
SUMMARY:gemeinsames Kochen im Eastend
DESCRIPTION:Wir entscheiden gemeinsam was wir kochen.
URL:http://s130056251.online.de/event/gemeinsames-kochen-im-eastend/2026-12-29/
LOCATION:Eastend-Berlin\, Tangermünder Str. 127\, Berlin\, 12627
ATTACH;FMTTYPE=image/png:http://s130056251.online.de/wp-content/uploads/2024/07/Unbenannt.png
END:VEVENT
BEGIN:VEVENT
DTSTART;TZID=Europe/Berlin:20261230T170000
DTEND;TZID=Europe/Berlin:20261230T200000
DTSTAMP:20260421T060344
CREATED:20240702T133918Z
LAST-MODIFIED:20240702T133918Z
UID:10006609-1798650000-1798660800@s130056251.online.de
SUMMARY:offenes Musikangebot
DESCRIPTION:Du wolltest schon immer mal ein Instrument spielen oder hast Spaß beim Singen? Dann kannst du das Mittwochs in unserem Proberaum machen. (Du musst kein Instrument spielen können) .
URL:http://s130056251.online.de/event/offenes-musikangebot/2026-12-30/
LOCATION:Eastend-Berlin\, Tangermünder Str. 127\, Berlin\, 12627
ATTACH;FMTTYPE=image/png:http://s130056251.online.de/wp-content/uploads/2024/07/Green-and-Red-Retro-Illustrative-Karaoke-Party-Poster1.png
END:VEVENT
BEGIN:VEVENT
DTSTART;TZID=Europe/Berlin:20270105T150000
DTEND;TZID=Europe/Berlin:20270105T170000
DTSTAMP:20260421T060344
CREATED:20231021T164345Z
LAST-MODIFIED:20231031T120204Z
UID:10003777-1799161200-1799168400@s130056251.online.de
SUMMARY:Kochen
DESCRIPTION:Kochen mit Basti – Eure Vorschläge sind gefragt 🙂
URL:http://s130056251.online.de/event/kochen-2/2027-01-05/
LOCATION:Eastend-Berlin\, Tangermünder Str. 127\, Berlin\, 12627
END:VEVENT
BEGIN:VEVENT
DTSTART;TZID=Europe/Berlin:20270105T150000
DTEND;TZID=Europe/Berlin:20270105T170000
DTSTAMP:20260421T060344
CREATED:20240702T134327Z
LAST-MODIFIED:20240702T134327Z
UID:10006870-1799161200-1799168400@s130056251.online.de
SUMMARY:gemeinsames Kochen im Eastend
DESCRIPTION:Wir entscheiden gemeinsam was wir kochen.
URL:http://s130056251.online.de/event/gemeinsames-kochen-im-eastend/2027-01-05/
LOCATION:Eastend-Berlin\, Tangermünder Str. 127\, Berlin\, 12627
ATTACH;FMTTYPE=image/png:http://s130056251.online.de/wp-content/uploads/2024/07/Unbenannt.png
END:VEVENT
BEGIN:VEVENT
DTSTART;TZID=Europe/Berlin:20270106T170000
DTEND;TZID=Europe/Berlin:20270106T200000
DTSTAMP:20260421T060344
CREATED:20240702T133918Z
LAST-MODIFIED:20240702T133918Z
UID:10006610-1799254800-1799265600@s130056251.online.de
SUMMARY:offenes Musikangebot
DESCRIPTION:Du wolltest schon immer mal ein Instrument spielen oder hast Spaß beim Singen? Dann kannst du das Mittwochs in unserem Proberaum machen. (Du musst kein Instrument spielen können) .
URL:http://s130056251.online.de/event/offenes-musikangebot/2027-01-06/
LOCATION:Eastend-Berlin\, Tangermünder Str. 127\, Berlin\, 12627
ATTACH;FMTTYPE=image/png:http://s130056251.online.de/wp-content/uploads/2024/07/Green-and-Red-Retro-Illustrative-Karaoke-Party-Poster1.png
END:VEVENT
BEGIN:VEVENT
DTSTART;TZID=Europe/Berlin:20270112T150000
DTEND;TZID=Europe/Berlin:20270112T170000
DTSTAMP:20260421T060344
CREATED:20231021T164345Z
LAST-MODIFIED:20231031T120204Z
UID:10003778-1799766000-1799773200@s130056251.online.de
SUMMARY:Kochen
DESCRIPTION:Kochen mit Basti – Eure Vorschläge sind gefragt 🙂
URL:http://s130056251.online.de/event/kochen-2/2027-01-12/
LOCATION:Eastend-Berlin\, Tangermünder Str. 127\, Berlin\, 12627
END:VEVENT
BEGIN:VEVENT
DTSTART;TZID=Europe/Berlin:20270112T150000
DTEND;TZID=Europe/Berlin:20270112T170000
DTSTAMP:20260421T060344
CREATED:20240702T134327Z
LAST-MODIFIED:20240702T134327Z
UID:10006871-1799766000-1799773200@s130056251.online.de
SUMMARY:gemeinsames Kochen im Eastend
DESCRIPTION:Wir entscheiden gemeinsam was wir kochen.
URL:http://s130056251.online.de/event/gemeinsames-kochen-im-eastend/2027-01-12/
LOCATION:Eastend-Berlin\, Tangermünder Str. 127\, Berlin\, 12627
ATTACH;FMTTYPE=image/png:http://s130056251.online.de/wp-content/uploads/2024/07/Unbenannt.png
END:VEVENT
BEGIN:VEVENT
DTSTART;TZID=Europe/Berlin:20270113T170000
DTEND;TZID=Europe/Berlin:20270113T200000
DTSTAMP:20260421T060344
CREATED:20240702T133918Z
LAST-MODIFIED:20240702T133918Z
UID:10006611-1799859600-1799870400@s130056251.online.de
SUMMARY:offenes Musikangebot
DESCRIPTION:Du wolltest schon immer mal ein Instrument spielen oder hast Spaß beim Singen? Dann kannst du das Mittwochs in unserem Proberaum machen. (Du musst kein Instrument spielen können) .
URL:http://s130056251.online.de/event/offenes-musikangebot/2027-01-13/
LOCATION:Eastend-Berlin\, Tangermünder Str. 127\, Berlin\, 12627
ATTACH;FMTTYPE=image/png:http://s130056251.online.de/wp-content/uploads/2024/07/Green-and-Red-Retro-Illustrative-Karaoke-Party-Poster1.png
END:VEVENT
BEGIN:VEVENT
DTSTART;TZID=Europe/Berlin:20270119T150000
DTEND;TZID=Europe/Berlin:20270119T170000
DTSTAMP:20260421T060344
CREATED:20231021T164345Z
LAST-MODIFIED:20231031T120204Z
UID:10003779-1800370800-1800378000@s130056251.online.de
SUMMARY:Kochen
DESCRIPTION:Kochen mit Basti – Eure Vorschläge sind gefragt 🙂
URL:http://s130056251.online.de/event/kochen-2/2027-01-19/
LOCATION:Eastend-Berlin\, Tangermünder Str. 127\, Berlin\, 12627
END:VEVENT
BEGIN:VEVENT
DTSTART;TZID=Europe/Berlin:20270119T150000
DTEND;TZID=Europe/Berlin:20270119T170000
DTSTAMP:20260421T060344
CREATED:20240702T134327Z
LAST-MODIFIED:20240702T134327Z
UID:10006872-1800370800-1800378000@s130056251.online.de
SUMMARY:gemeinsames Kochen im Eastend
DESCRIPTION:Wir entscheiden gemeinsam was wir kochen.
URL:http://s130056251.online.de/event/gemeinsames-kochen-im-eastend/2027-01-19/
LOCATION:Eastend-Berlin\, Tangermünder Str. 127\, Berlin\, 12627
ATTACH;FMTTYPE=image/png:http://s130056251.online.de/wp-content/uploads/2024/07/Unbenannt.png
END:VEVENT
BEGIN:VEVENT
DTSTART;TZID=Europe/Berlin:20270120T170000
DTEND;TZID=Europe/Berlin:20270120T200000
DTSTAMP:20260421T060344
CREATED:20240702T133918Z
LAST-MODIFIED:20240702T133918Z
UID:10006612-1800464400-1800475200@s130056251.online.de
SUMMARY:offenes Musikangebot
DESCRIPTION:Du wolltest schon immer mal ein Instrument spielen oder hast Spaß beim Singen? Dann kannst du das Mittwochs in unserem Proberaum machen. (Du musst kein Instrument spielen können) .
URL:http://s130056251.online.de/event/offenes-musikangebot/2027-01-20/
LOCATION:Eastend-Berlin\, Tangermünder Str. 127\, Berlin\, 12627
ATTACH;FMTTYPE=image/png:http://s130056251.online.de/wp-content/uploads/2024/07/Green-and-Red-Retro-Illustrative-Karaoke-Party-Poster1.png
END:VEVENT
BEGIN:VEVENT
DTSTART;TZID=Europe/Berlin:20270126T150000
DTEND;TZID=Europe/Berlin:20270126T170000
DTSTAMP:20260421T060344
CREATED:20231021T164345Z
LAST-MODIFIED:20231031T120204Z
UID:10003780-1800975600-1800982800@s130056251.online.de
SUMMARY:Kochen
DESCRIPTION:Kochen mit Basti – Eure Vorschläge sind gefragt 🙂
URL:http://s130056251.online.de/event/kochen-2/2027-01-26/
LOCATION:Eastend-Berlin\, Tangermünder Str. 127\, Berlin\, 12627
END:VEVENT
BEGIN:VEVENT
DTSTART;TZID=Europe/Berlin:20270126T150000
DTEND;TZID=Europe/Berlin:20270126T170000
DTSTAMP:20260421T060344
CREATED:20240702T134327Z
LAST-MODIFIED:20240702T134327Z
UID:10006873-1800975600-1800982800@s130056251.online.de
SUMMARY:gemeinsames Kochen im Eastend
DESCRIPTION:Wir entscheiden gemeinsam was wir kochen.
URL:http://s130056251.online.de/event/gemeinsames-kochen-im-eastend/2027-01-26/
LOCATION:Eastend-Berlin\, Tangermünder Str. 127\, Berlin\, 12627
ATTACH;FMTTYPE=image/png:http://s130056251.online.de/wp-content/uploads/2024/07/Unbenannt.png
END:VEVENT
BEGIN:VEVENT
DTSTART;TZID=Europe/Berlin:20270127T170000
DTEND;TZID=Europe/Berlin:20270127T200000
DTSTAMP:20260421T060344
CREATED:20240702T133918Z
LAST-MODIFIED:20240702T133918Z
UID:10006613-1801069200-1801080000@s130056251.online.de
SUMMARY:offenes Musikangebot
DESCRIPTION:Du wolltest schon immer mal ein Instrument spielen oder hast Spaß beim Singen? Dann kannst du das Mittwochs in unserem Proberaum machen. (Du musst kein Instrument spielen können) .
URL:http://s130056251.online.de/event/offenes-musikangebot/2027-01-27/
LOCATION:Eastend-Berlin\, Tangermünder Str. 127\, Berlin\, 12627
ATTACH;FMTTYPE=image/png:http://s130056251.online.de/wp-content/uploads/2024/07/Green-and-Red-Retro-Illustrative-Karaoke-Party-Poster1.png
END:VEVENT
BEGIN:VEVENT
DTSTART;TZID=Europe/Berlin:20270202T150000
DTEND;TZID=Europe/Berlin:20270202T170000
DTSTAMP:20260421T060344
CREATED:20231021T164345Z
LAST-MODIFIED:20231031T120204Z
UID:10003781-1801580400-1801587600@s130056251.online.de
SUMMARY:Kochen
DESCRIPTION:Kochen mit Basti – Eure Vorschläge sind gefragt 🙂
URL:http://s130056251.online.de/event/kochen-2/2027-02-02/
LOCATION:Eastend-Berlin\, Tangermünder Str. 127\, Berlin\, 12627
END:VEVENT
BEGIN:VEVENT
DTSTART;TZID=Europe/Berlin:20270202T150000
DTEND;TZID=Europe/Berlin:20270202T170000
DTSTAMP:20260421T060344
CREATED:20240702T134327Z
LAST-MODIFIED:20240702T134327Z
UID:10006874-1801580400-1801587600@s130056251.online.de
SUMMARY:gemeinsames Kochen im Eastend
DESCRIPTION:Wir entscheiden gemeinsam was wir kochen.
URL:http://s130056251.online.de/event/gemeinsames-kochen-im-eastend/2027-02-02/
LOCATION:Eastend-Berlin\, Tangermünder Str. 127\, Berlin\, 12627
ATTACH;FMTTYPE=image/png:http://s130056251.online.de/wp-content/uploads/2024/07/Unbenannt.png
END:VEVENT
BEGIN:VEVENT
DTSTART;TZID=Europe/Berlin:20270203T170000
DTEND;TZID=Europe/Berlin:20270203T200000
DTSTAMP:20260421T060344
CREATED:20240702T133918Z
LAST-MODIFIED:20240702T133918Z
UID:10006614-1801674000-1801684800@s130056251.online.de
SUMMARY:offenes Musikangebot
DESCRIPTION:Du wolltest schon immer mal ein Instrument spielen oder hast Spaß beim Singen? Dann kannst du das Mittwochs in unserem Proberaum machen. (Du musst kein Instrument spielen können) .
URL:http://s130056251.online.de/event/offenes-musikangebot/2027-02-03/
LOCATION:Eastend-Berlin\, Tangermünder Str. 127\, Berlin\, 12627
ATTACH;FMTTYPE=image/png:http://s130056251.online.de/wp-content/uploads/2024/07/Green-and-Red-Retro-Illustrative-Karaoke-Party-Poster1.png
END:VEVENT
END:VCALENDAR