BEGIN:VCALENDAR
VERSION:2.0
PRODID:-//Was geht in Hellersdorf - ECPv6.1.2.2//NONSGML v1.0//EN
CALSCALE:GREGORIAN
METHOD:PUBLISH
X-WR-CALNAME:Was geht in Hellersdorf
X-ORIGINAL-URL:http://s130056251.online.de
X-WR-CALDESC:Veranstaltungen für Was geht in Hellersdorf
REFRESH-INTERVAL;VALUE=DURATION:PT1H
X-Robots-Tag:noindex
X-PUBLISHED-TTL:PT1H
BEGIN:VTIMEZONE
TZID:Europe/Berlin
BEGIN:DAYLIGHT
TZOFFSETFROM:+0100
TZOFFSETTO:+0200
TZNAME:CEST
DTSTART:20270328T010000
END:DAYLIGHT
BEGIN:STANDARD
TZOFFSETFROM:+0200
TZOFFSETTO:+0100
TZNAME:CET
DTSTART:20271031T010000
END:STANDARD
END:VTIMEZONE
BEGIN:VEVENT
DTSTART;TZID=Europe/Berlin:20270128T170000
DTEND;TZID=Europe/Berlin:20270128T183000
DTSTAMP:20260422T205958
CREATED:20230622T110720Z
LAST-MODIFIED:20230622T110720Z
UID:10001536-1801155600-1801161000@s130056251.online.de
SUMMARY:Fit AG
DESCRIPTION:Sportliche Betätigung (altersgerecht) unter Aufsicht und Anleitung eines Trainers im Fitnessraum der Senfte 10.
URL:http://s130056251.online.de/event/fit-ag/2027-01-28/
LOCATION:Senfte 10\, Senftenberger Straße 10\, Berlin\, Berlin\, 12627
END:VEVENT
BEGIN:VEVENT
DTSTART;TZID=Europe/Berlin:20270202T170000
DTEND;TZID=Europe/Berlin:20270202T183000
DTSTAMP:20260422T205958
CREATED:20230622T110720Z
LAST-MODIFIED:20230622T110720Z
UID:10001537-1801587600-1801593000@s130056251.online.de
SUMMARY:Fit AG
DESCRIPTION:Sportliche Betätigung (altersgerecht) unter Aufsicht und Anleitung eines Trainers im Fitnessraum der Senfte 10.
URL:http://s130056251.online.de/event/fit-ag/2027-02-02/
LOCATION:Senfte 10\, Senftenberger Straße 10\, Berlin\, Berlin\, 12627
END:VEVENT
BEGIN:VEVENT
DTSTART;TZID=Europe/Berlin:20270203T160000
DTEND;TZID=Europe/Berlin:20270203T180000
DTSTAMP:20260422T205959
CREATED:20230622T110653Z
LAST-MODIFIED:20230622T110653Z
UID:10001870-1801670400-1801677600@s130056251.online.de
SUMMARY:Outdoorküche
DESCRIPTION:Wir kochen unterschiedliche und leckere Gerichte\, draußen\, im Dutch Oven über/in der Feuerschale.
URL:http://s130056251.online.de/event/outdoorkueche/2027-02-03/
LOCATION:Senfte 10\, Senftenberger Straße 10\, Berlin\, Berlin\, 12627
END:VEVENT
BEGIN:VEVENT
DTSTART;TZID=Europe/Berlin:20270204T170000
DTEND;TZID=Europe/Berlin:20270204T183000
DTSTAMP:20260422T205959
CREATED:20230622T110720Z
LAST-MODIFIED:20230622T110720Z
UID:10001538-1801760400-1801765800@s130056251.online.de
SUMMARY:Fit AG
DESCRIPTION:Sportliche Betätigung (altersgerecht) unter Aufsicht und Anleitung eines Trainers im Fitnessraum der Senfte 10.
URL:http://s130056251.online.de/event/fit-ag/2027-02-04/
LOCATION:Senfte 10\, Senftenberger Straße 10\, Berlin\, Berlin\, 12627
END:VEVENT
BEGIN:VEVENT
DTSTART;TZID=Europe/Berlin:20270209T170000
DTEND;TZID=Europe/Berlin:20270209T183000
DTSTAMP:20260422T205959
CREATED:20230622T110720Z
LAST-MODIFIED:20230622T110720Z
UID:10001539-1802192400-1802197800@s130056251.online.de
SUMMARY:Fit AG
DESCRIPTION:Sportliche Betätigung (altersgerecht) unter Aufsicht und Anleitung eines Trainers im Fitnessraum der Senfte 10.
URL:http://s130056251.online.de/event/fit-ag/2027-02-09/
LOCATION:Senfte 10\, Senftenberger Straße 10\, Berlin\, Berlin\, 12627
END:VEVENT
BEGIN:VEVENT
DTSTART;TZID=Europe/Berlin:20270210T160000
DTEND;TZID=Europe/Berlin:20270210T180000
DTSTAMP:20260422T205959
CREATED:20230622T110653Z
LAST-MODIFIED:20230622T110653Z
UID:10001871-1802275200-1802282400@s130056251.online.de
SUMMARY:Outdoorküche
DESCRIPTION:Wir kochen unterschiedliche und leckere Gerichte\, draußen\, im Dutch Oven über/in der Feuerschale.
URL:http://s130056251.online.de/event/outdoorkueche/2027-02-10/
LOCATION:Senfte 10\, Senftenberger Straße 10\, Berlin\, Berlin\, 12627
END:VEVENT
BEGIN:VEVENT
DTSTART;TZID=Europe/Berlin:20270211T170000
DTEND;TZID=Europe/Berlin:20270211T183000
DTSTAMP:20260422T205959
CREATED:20230622T110720Z
LAST-MODIFIED:20230622T110720Z
UID:10001540-1802365200-1802370600@s130056251.online.de
SUMMARY:Fit AG
DESCRIPTION:Sportliche Betätigung (altersgerecht) unter Aufsicht und Anleitung eines Trainers im Fitnessraum der Senfte 10.
URL:http://s130056251.online.de/event/fit-ag/2027-02-11/
LOCATION:Senfte 10\, Senftenberger Straße 10\, Berlin\, Berlin\, 12627
END:VEVENT
BEGIN:VEVENT
DTSTART;TZID=Europe/Berlin:20270216T170000
DTEND;TZID=Europe/Berlin:20270216T183000
DTSTAMP:20260422T205959
CREATED:20230622T110720Z
LAST-MODIFIED:20230622T110720Z
UID:10001541-1802797200-1802802600@s130056251.online.de
SUMMARY:Fit AG
DESCRIPTION:Sportliche Betätigung (altersgerecht) unter Aufsicht und Anleitung eines Trainers im Fitnessraum der Senfte 10.
URL:http://s130056251.online.de/event/fit-ag/2027-02-16/
LOCATION:Senfte 10\, Senftenberger Straße 10\, Berlin\, Berlin\, 12627
END:VEVENT
BEGIN:VEVENT
DTSTART;TZID=Europe/Berlin:20270217T160000
DTEND;TZID=Europe/Berlin:20270217T180000
DTSTAMP:20260422T205959
CREATED:20230622T110653Z
LAST-MODIFIED:20230622T110653Z
UID:10001872-1802880000-1802887200@s130056251.online.de
SUMMARY:Outdoorküche
DESCRIPTION:Wir kochen unterschiedliche und leckere Gerichte\, draußen\, im Dutch Oven über/in der Feuerschale.
URL:http://s130056251.online.de/event/outdoorkueche/2027-02-17/
LOCATION:Senfte 10\, Senftenberger Straße 10\, Berlin\, Berlin\, 12627
END:VEVENT
BEGIN:VEVENT
DTSTART;TZID=Europe/Berlin:20270218T170000
DTEND;TZID=Europe/Berlin:20270218T183000
DTSTAMP:20260422T205959
CREATED:20230622T110720Z
LAST-MODIFIED:20230622T110720Z
UID:10001542-1802970000-1802975400@s130056251.online.de
SUMMARY:Fit AG
DESCRIPTION:Sportliche Betätigung (altersgerecht) unter Aufsicht und Anleitung eines Trainers im Fitnessraum der Senfte 10.
URL:http://s130056251.online.de/event/fit-ag/2027-02-18/
LOCATION:Senfte 10\, Senftenberger Straße 10\, Berlin\, Berlin\, 12627
END:VEVENT
BEGIN:VEVENT
DTSTART;TZID=Europe/Berlin:20270223T170000
DTEND;TZID=Europe/Berlin:20270223T183000
DTSTAMP:20260422T205959
CREATED:20230622T110720Z
LAST-MODIFIED:20230622T110720Z
UID:10001543-1803402000-1803407400@s130056251.online.de
SUMMARY:Fit AG
DESCRIPTION:Sportliche Betätigung (altersgerecht) unter Aufsicht und Anleitung eines Trainers im Fitnessraum der Senfte 10.
URL:http://s130056251.online.de/event/fit-ag/2027-02-23/
LOCATION:Senfte 10\, Senftenberger Straße 10\, Berlin\, Berlin\, 12627
END:VEVENT
BEGIN:VEVENT
DTSTART;TZID=Europe/Berlin:20270224T160000
DTEND;TZID=Europe/Berlin:20270224T180000
DTSTAMP:20260422T205959
CREATED:20230622T110653Z
LAST-MODIFIED:20230622T110653Z
UID:10001873-1803484800-1803492000@s130056251.online.de
SUMMARY:Outdoorküche
DESCRIPTION:Wir kochen unterschiedliche und leckere Gerichte\, draußen\, im Dutch Oven über/in der Feuerschale.
URL:http://s130056251.online.de/event/outdoorkueche/2027-02-24/
LOCATION:Senfte 10\, Senftenberger Straße 10\, Berlin\, Berlin\, 12627
END:VEVENT
BEGIN:VEVENT
DTSTART;TZID=Europe/Berlin:20270225T170000
DTEND;TZID=Europe/Berlin:20270225T183000
DTSTAMP:20260422T205959
CREATED:20230622T110720Z
LAST-MODIFIED:20230622T110720Z
UID:10001544-1803574800-1803580200@s130056251.online.de
SUMMARY:Fit AG
DESCRIPTION:Sportliche Betätigung (altersgerecht) unter Aufsicht und Anleitung eines Trainers im Fitnessraum der Senfte 10.
URL:http://s130056251.online.de/event/fit-ag/2027-02-25/
LOCATION:Senfte 10\, Senftenberger Straße 10\, Berlin\, Berlin\, 12627
END:VEVENT
BEGIN:VEVENT
DTSTART;TZID=Europe/Berlin:20270302T170000
DTEND;TZID=Europe/Berlin:20270302T183000
DTSTAMP:20260422T205959
CREATED:20230622T110720Z
LAST-MODIFIED:20230622T110720Z
UID:10001545-1804006800-1804012200@s130056251.online.de
SUMMARY:Fit AG
DESCRIPTION:Sportliche Betätigung (altersgerecht) unter Aufsicht und Anleitung eines Trainers im Fitnessraum der Senfte 10.
URL:http://s130056251.online.de/event/fit-ag/2027-03-02/
LOCATION:Senfte 10\, Senftenberger Straße 10\, Berlin\, Berlin\, 12627
END:VEVENT
BEGIN:VEVENT
DTSTART;TZID=Europe/Berlin:20270303T160000
DTEND;TZID=Europe/Berlin:20270303T180000
DTSTAMP:20260422T205959
CREATED:20230622T110653Z
LAST-MODIFIED:20230622T110653Z
UID:10001874-1804089600-1804096800@s130056251.online.de
SUMMARY:Outdoorküche
DESCRIPTION:Wir kochen unterschiedliche und leckere Gerichte\, draußen\, im Dutch Oven über/in der Feuerschale.
URL:http://s130056251.online.de/event/outdoorkueche/2027-03-03/
LOCATION:Senfte 10\, Senftenberger Straße 10\, Berlin\, Berlin\, 12627
END:VEVENT
BEGIN:VEVENT
DTSTART;TZID=Europe/Berlin:20270304T170000
DTEND;TZID=Europe/Berlin:20270304T183000
DTSTAMP:20260422T205959
CREATED:20230622T110720Z
LAST-MODIFIED:20230622T110720Z
UID:10001546-1804179600-1804185000@s130056251.online.de
SUMMARY:Fit AG
DESCRIPTION:Sportliche Betätigung (altersgerecht) unter Aufsicht und Anleitung eines Trainers im Fitnessraum der Senfte 10.
URL:http://s130056251.online.de/event/fit-ag/2027-03-04/
LOCATION:Senfte 10\, Senftenberger Straße 10\, Berlin\, Berlin\, 12627
END:VEVENT
BEGIN:VEVENT
DTSTART;TZID=Europe/Berlin:20270309T170000
DTEND;TZID=Europe/Berlin:20270309T183000
DTSTAMP:20260422T205959
CREATED:20230622T110720Z
LAST-MODIFIED:20230622T110720Z
UID:10001547-1804611600-1804617000@s130056251.online.de
SUMMARY:Fit AG
DESCRIPTION:Sportliche Betätigung (altersgerecht) unter Aufsicht und Anleitung eines Trainers im Fitnessraum der Senfte 10.
URL:http://s130056251.online.de/event/fit-ag/2027-03-09/
LOCATION:Senfte 10\, Senftenberger Straße 10\, Berlin\, Berlin\, 12627
END:VEVENT
BEGIN:VEVENT
DTSTART;TZID=Europe/Berlin:20270310T160000
DTEND;TZID=Europe/Berlin:20270310T180000
DTSTAMP:20260422T205959
CREATED:20230622T110653Z
LAST-MODIFIED:20230622T110653Z
UID:10001875-1804694400-1804701600@s130056251.online.de
SUMMARY:Outdoorküche
DESCRIPTION:Wir kochen unterschiedliche und leckere Gerichte\, draußen\, im Dutch Oven über/in der Feuerschale.
URL:http://s130056251.online.de/event/outdoorkueche/2027-03-10/
LOCATION:Senfte 10\, Senftenberger Straße 10\, Berlin\, Berlin\, 12627
END:VEVENT
BEGIN:VEVENT
DTSTART;TZID=Europe/Berlin:20270311T170000
DTEND;TZID=Europe/Berlin:20270311T183000
DTSTAMP:20260422T205959
CREATED:20230622T110720Z
LAST-MODIFIED:20230622T110720Z
UID:10001548-1804784400-1804789800@s130056251.online.de
SUMMARY:Fit AG
DESCRIPTION:Sportliche Betätigung (altersgerecht) unter Aufsicht und Anleitung eines Trainers im Fitnessraum der Senfte 10.
URL:http://s130056251.online.de/event/fit-ag/2027-03-11/
LOCATION:Senfte 10\, Senftenberger Straße 10\, Berlin\, Berlin\, 12627
END:VEVENT
BEGIN:VEVENT
DTSTART;TZID=Europe/Berlin:20270316T170000
DTEND;TZID=Europe/Berlin:20270316T183000
DTSTAMP:20260422T205959
CREATED:20230622T110720Z
LAST-MODIFIED:20230622T110720Z
UID:10001549-1805216400-1805221800@s130056251.online.de
SUMMARY:Fit AG
DESCRIPTION:Sportliche Betätigung (altersgerecht) unter Aufsicht und Anleitung eines Trainers im Fitnessraum der Senfte 10.
URL:http://s130056251.online.de/event/fit-ag/2027-03-16/
LOCATION:Senfte 10\, Senftenberger Straße 10\, Berlin\, Berlin\, 12627
END:VEVENT
BEGIN:VEVENT
DTSTART;TZID=Europe/Berlin:20270317T160000
DTEND;TZID=Europe/Berlin:20270317T180000
DTSTAMP:20260422T205959
CREATED:20230622T110653Z
LAST-MODIFIED:20230622T110653Z
UID:10001876-1805299200-1805306400@s130056251.online.de
SUMMARY:Outdoorküche
DESCRIPTION:Wir kochen unterschiedliche und leckere Gerichte\, draußen\, im Dutch Oven über/in der Feuerschale.
URL:http://s130056251.online.de/event/outdoorkueche/2027-03-17/
LOCATION:Senfte 10\, Senftenberger Straße 10\, Berlin\, Berlin\, 12627
END:VEVENT
BEGIN:VEVENT
DTSTART;TZID=Europe/Berlin:20270318T170000
DTEND;TZID=Europe/Berlin:20270318T183000
DTSTAMP:20260422T205959
CREATED:20230622T110720Z
LAST-MODIFIED:20230622T110720Z
UID:10001550-1805389200-1805394600@s130056251.online.de
SUMMARY:Fit AG
DESCRIPTION:Sportliche Betätigung (altersgerecht) unter Aufsicht und Anleitung eines Trainers im Fitnessraum der Senfte 10.
URL:http://s130056251.online.de/event/fit-ag/2027-03-18/
LOCATION:Senfte 10\, Senftenberger Straße 10\, Berlin\, Berlin\, 12627
END:VEVENT
BEGIN:VEVENT
DTSTART;TZID=Europe/Berlin:20270323T170000
DTEND;TZID=Europe/Berlin:20270323T183000
DTSTAMP:20260422T205959
CREATED:20230622T110720Z
LAST-MODIFIED:20230622T110720Z
UID:10001551-1805821200-1805826600@s130056251.online.de
SUMMARY:Fit AG
DESCRIPTION:Sportliche Betätigung (altersgerecht) unter Aufsicht und Anleitung eines Trainers im Fitnessraum der Senfte 10.
URL:http://s130056251.online.de/event/fit-ag/2027-03-23/
LOCATION:Senfte 10\, Senftenberger Straße 10\, Berlin\, Berlin\, 12627
END:VEVENT
BEGIN:VEVENT
DTSTART;TZID=Europe/Berlin:20270324T160000
DTEND;TZID=Europe/Berlin:20270324T180000
DTSTAMP:20260422T205959
CREATED:20230622T110653Z
LAST-MODIFIED:20230622T110653Z
UID:10001877-1805904000-1805911200@s130056251.online.de
SUMMARY:Outdoorküche
DESCRIPTION:Wir kochen unterschiedliche und leckere Gerichte\, draußen\, im Dutch Oven über/in der Feuerschale.
URL:http://s130056251.online.de/event/outdoorkueche/2027-03-24/
LOCATION:Senfte 10\, Senftenberger Straße 10\, Berlin\, Berlin\, 12627
END:VEVENT
BEGIN:VEVENT
DTSTART;TZID=Europe/Berlin:20270325T170000
DTEND;TZID=Europe/Berlin:20270325T183000
DTSTAMP:20260422T205959
CREATED:20230622T110720Z
LAST-MODIFIED:20230622T110720Z
UID:10001552-1805994000-1805999400@s130056251.online.de
SUMMARY:Fit AG
DESCRIPTION:Sportliche Betätigung (altersgerecht) unter Aufsicht und Anleitung eines Trainers im Fitnessraum der Senfte 10.
URL:http://s130056251.online.de/event/fit-ag/2027-03-25/
LOCATION:Senfte 10\, Senftenberger Straße 10\, Berlin\, Berlin\, 12627
END:VEVENT
BEGIN:VEVENT
DTSTART;TZID=Europe/Berlin:20270330T170000
DTEND;TZID=Europe/Berlin:20270330T183000
DTSTAMP:20260422T205959
CREATED:20230622T110720Z
LAST-MODIFIED:20230622T110720Z
UID:10001553-1806426000-1806431400@s130056251.online.de
SUMMARY:Fit AG
DESCRIPTION:Sportliche Betätigung (altersgerecht) unter Aufsicht und Anleitung eines Trainers im Fitnessraum der Senfte 10.
URL:http://s130056251.online.de/event/fit-ag/2027-03-30/
LOCATION:Senfte 10\, Senftenberger Straße 10\, Berlin\, Berlin\, 12627
END:VEVENT
BEGIN:VEVENT
DTSTART;TZID=Europe/Berlin:20270331T160000
DTEND;TZID=Europe/Berlin:20270331T180000
DTSTAMP:20260422T205959
CREATED:20230622T110653Z
LAST-MODIFIED:20230622T110653Z
UID:10001878-1806508800-1806516000@s130056251.online.de
SUMMARY:Outdoorküche
DESCRIPTION:Wir kochen unterschiedliche und leckere Gerichte\, draußen\, im Dutch Oven über/in der Feuerschale.
URL:http://s130056251.online.de/event/outdoorkueche/2027-03-31/
LOCATION:Senfte 10\, Senftenberger Straße 10\, Berlin\, Berlin\, 12627
END:VEVENT
BEGIN:VEVENT
DTSTART;TZID=Europe/Berlin:20270401T170000
DTEND;TZID=Europe/Berlin:20270401T183000
DTSTAMP:20260422T205959
CREATED:20230622T110720Z
LAST-MODIFIED:20230622T110720Z
UID:10001554-1806598800-1806604200@s130056251.online.de
SUMMARY:Fit AG
DESCRIPTION:Sportliche Betätigung (altersgerecht) unter Aufsicht und Anleitung eines Trainers im Fitnessraum der Senfte 10.
URL:http://s130056251.online.de/event/fit-ag/2027-04-01/
LOCATION:Senfte 10\, Senftenberger Straße 10\, Berlin\, Berlin\, 12627
END:VEVENT
BEGIN:VEVENT
DTSTART;TZID=Europe/Berlin:20270406T170000
DTEND;TZID=Europe/Berlin:20270406T183000
DTSTAMP:20260422T205959
CREATED:20230622T110720Z
LAST-MODIFIED:20230622T110720Z
UID:10001555-1807030800-1807036200@s130056251.online.de
SUMMARY:Fit AG
DESCRIPTION:Sportliche Betätigung (altersgerecht) unter Aufsicht und Anleitung eines Trainers im Fitnessraum der Senfte 10.
URL:http://s130056251.online.de/event/fit-ag/2027-04-06/
LOCATION:Senfte 10\, Senftenberger Straße 10\, Berlin\, Berlin\, 12627
END:VEVENT
BEGIN:VEVENT
DTSTART;TZID=Europe/Berlin:20270407T160000
DTEND;TZID=Europe/Berlin:20270407T180000
DTSTAMP:20260422T205959
CREATED:20230622T110653Z
LAST-MODIFIED:20230622T110653Z
UID:10001879-1807113600-1807120800@s130056251.online.de
SUMMARY:Outdoorküche
DESCRIPTION:Wir kochen unterschiedliche und leckere Gerichte\, draußen\, im Dutch Oven über/in der Feuerschale.
URL:http://s130056251.online.de/event/outdoorkueche/2027-04-07/
LOCATION:Senfte 10\, Senftenberger Straße 10\, Berlin\, Berlin\, 12627
END:VEVENT
END:VCALENDAR