BEGIN:VCALENDAR
VERSION:2.0
PRODID:-//Was geht in Hellersdorf - ECPv6.1.2.2//NONSGML v1.0//EN
CALSCALE:GREGORIAN
METHOD:PUBLISH
X-WR-CALNAME:Was geht in Hellersdorf
X-ORIGINAL-URL:http://s130056251.online.de
X-WR-CALDESC:Veranstaltungen für Was geht in Hellersdorf
REFRESH-INTERVAL;VALUE=DURATION:PT1H
X-Robots-Tag:noindex
X-PUBLISHED-TTL:PT1H
BEGIN:VTIMEZONE
TZID:Europe/Berlin
BEGIN:DAYLIGHT
TZOFFSETFROM:+0100
TZOFFSETTO:+0200
TZNAME:CEST
DTSTART:20270328T010000
END:DAYLIGHT
BEGIN:STANDARD
TZOFFSETFROM:+0200
TZOFFSETTO:+0100
TZNAME:CET
DTSTART:20271031T010000
END:STANDARD
END:VTIMEZONE
BEGIN:VEVENT
DTSTART;TZID=Europe/Berlin:20270427T170000
DTEND;TZID=Europe/Berlin:20270427T183000
DTSTAMP:20260424T173324
CREATED:20230622T110720Z
LAST-MODIFIED:20230622T110720Z
UID:10001561-1808845200-1808850600@s130056251.online.de
SUMMARY:Fit AG
DESCRIPTION:Sportliche Betätigung (altersgerecht) unter Aufsicht und Anleitung eines Trainers im Fitnessraum der Senfte 10.
URL:http://s130056251.online.de/event/fit-ag/2027-04-27/
LOCATION:Senfte 10\, Senftenberger Straße 10\, Berlin\, Berlin\, 12627
END:VEVENT
BEGIN:VEVENT
DTSTART;TZID=Europe/Berlin:20270428T160000
DTEND;TZID=Europe/Berlin:20270428T180000
DTSTAMP:20260424T173324
CREATED:20230622T110653Z
LAST-MODIFIED:20230622T110653Z
UID:10001882-1808928000-1808935200@s130056251.online.de
SUMMARY:Outdoorküche
DESCRIPTION:Wir kochen unterschiedliche und leckere Gerichte\, draußen\, im Dutch Oven über/in der Feuerschale.
URL:http://s130056251.online.de/event/outdoorkueche/2027-04-28/
LOCATION:Senfte 10\, Senftenberger Straße 10\, Berlin\, Berlin\, 12627
END:VEVENT
BEGIN:VEVENT
DTSTART;TZID=Europe/Berlin:20270429T170000
DTEND;TZID=Europe/Berlin:20270429T183000
DTSTAMP:20260424T173324
CREATED:20230622T110720Z
LAST-MODIFIED:20230622T110720Z
UID:10001562-1809018000-1809023400@s130056251.online.de
SUMMARY:Fit AG
DESCRIPTION:Sportliche Betätigung (altersgerecht) unter Aufsicht und Anleitung eines Trainers im Fitnessraum der Senfte 10.
URL:http://s130056251.online.de/event/fit-ag/2027-04-29/
LOCATION:Senfte 10\, Senftenberger Straße 10\, Berlin\, Berlin\, 12627
END:VEVENT
BEGIN:VEVENT
DTSTART;TZID=Europe/Berlin:20270504T170000
DTEND;TZID=Europe/Berlin:20270504T183000
DTSTAMP:20260424T173324
CREATED:20230622T110720Z
LAST-MODIFIED:20230622T110720Z
UID:10001563-1809450000-1809455400@s130056251.online.de
SUMMARY:Fit AG
DESCRIPTION:Sportliche Betätigung (altersgerecht) unter Aufsicht und Anleitung eines Trainers im Fitnessraum der Senfte 10.
URL:http://s130056251.online.de/event/fit-ag/2027-05-04/
LOCATION:Senfte 10\, Senftenberger Straße 10\, Berlin\, Berlin\, 12627
END:VEVENT
BEGIN:VEVENT
DTSTART;TZID=Europe/Berlin:20270505T160000
DTEND;TZID=Europe/Berlin:20270505T180000
DTSTAMP:20260424T173324
CREATED:20230622T110653Z
LAST-MODIFIED:20230622T110653Z
UID:10001883-1809532800-1809540000@s130056251.online.de
SUMMARY:Outdoorküche
DESCRIPTION:Wir kochen unterschiedliche und leckere Gerichte\, draußen\, im Dutch Oven über/in der Feuerschale.
URL:http://s130056251.online.de/event/outdoorkueche/2027-05-05/
LOCATION:Senfte 10\, Senftenberger Straße 10\, Berlin\, Berlin\, 12627
END:VEVENT
BEGIN:VEVENT
DTSTART;TZID=Europe/Berlin:20270506T170000
DTEND;TZID=Europe/Berlin:20270506T183000
DTSTAMP:20260424T173324
CREATED:20230622T110720Z
LAST-MODIFIED:20230622T110720Z
UID:10001564-1809622800-1809628200@s130056251.online.de
SUMMARY:Fit AG
DESCRIPTION:Sportliche Betätigung (altersgerecht) unter Aufsicht und Anleitung eines Trainers im Fitnessraum der Senfte 10.
URL:http://s130056251.online.de/event/fit-ag/2027-05-06/
LOCATION:Senfte 10\, Senftenberger Straße 10\, Berlin\, Berlin\, 12627
END:VEVENT
BEGIN:VEVENT
DTSTART;TZID=Europe/Berlin:20270511T170000
DTEND;TZID=Europe/Berlin:20270511T183000
DTSTAMP:20260424T173324
CREATED:20230622T110720Z
LAST-MODIFIED:20230622T110720Z
UID:10001565-1810054800-1810060200@s130056251.online.de
SUMMARY:Fit AG
DESCRIPTION:Sportliche Betätigung (altersgerecht) unter Aufsicht und Anleitung eines Trainers im Fitnessraum der Senfte 10.
URL:http://s130056251.online.de/event/fit-ag/2027-05-11/
LOCATION:Senfte 10\, Senftenberger Straße 10\, Berlin\, Berlin\, 12627
END:VEVENT
BEGIN:VEVENT
DTSTART;TZID=Europe/Berlin:20270512T160000
DTEND;TZID=Europe/Berlin:20270512T180000
DTSTAMP:20260424T173324
CREATED:20230622T110653Z
LAST-MODIFIED:20230622T110653Z
UID:10001884-1810137600-1810144800@s130056251.online.de
SUMMARY:Outdoorküche
DESCRIPTION:Wir kochen unterschiedliche und leckere Gerichte\, draußen\, im Dutch Oven über/in der Feuerschale.
URL:http://s130056251.online.de/event/outdoorkueche/2027-05-12/
LOCATION:Senfte 10\, Senftenberger Straße 10\, Berlin\, Berlin\, 12627
END:VEVENT
BEGIN:VEVENT
DTSTART;TZID=Europe/Berlin:20270513T170000
DTEND;TZID=Europe/Berlin:20270513T183000
DTSTAMP:20260424T173324
CREATED:20230622T110720Z
LAST-MODIFIED:20230622T110720Z
UID:10001566-1810227600-1810233000@s130056251.online.de
SUMMARY:Fit AG
DESCRIPTION:Sportliche Betätigung (altersgerecht) unter Aufsicht und Anleitung eines Trainers im Fitnessraum der Senfte 10.
URL:http://s130056251.online.de/event/fit-ag/2027-05-13/
LOCATION:Senfte 10\, Senftenberger Straße 10\, Berlin\, Berlin\, 12627
END:VEVENT
BEGIN:VEVENT
DTSTART;TZID=Europe/Berlin:20270518T170000
DTEND;TZID=Europe/Berlin:20270518T183000
DTSTAMP:20260424T173324
CREATED:20230622T110720Z
LAST-MODIFIED:20230622T110720Z
UID:10001567-1810659600-1810665000@s130056251.online.de
SUMMARY:Fit AG
DESCRIPTION:Sportliche Betätigung (altersgerecht) unter Aufsicht und Anleitung eines Trainers im Fitnessraum der Senfte 10.
URL:http://s130056251.online.de/event/fit-ag/2027-05-18/
LOCATION:Senfte 10\, Senftenberger Straße 10\, Berlin\, Berlin\, 12627
END:VEVENT
BEGIN:VEVENT
DTSTART;TZID=Europe/Berlin:20270519T160000
DTEND;TZID=Europe/Berlin:20270519T180000
DTSTAMP:20260424T173324
CREATED:20230622T110653Z
LAST-MODIFIED:20230622T110653Z
UID:10001885-1810742400-1810749600@s130056251.online.de
SUMMARY:Outdoorküche
DESCRIPTION:Wir kochen unterschiedliche und leckere Gerichte\, draußen\, im Dutch Oven über/in der Feuerschale.
URL:http://s130056251.online.de/event/outdoorkueche/2027-05-19/
LOCATION:Senfte 10\, Senftenberger Straße 10\, Berlin\, Berlin\, 12627
END:VEVENT
BEGIN:VEVENT
DTSTART;TZID=Europe/Berlin:20270520T170000
DTEND;TZID=Europe/Berlin:20270520T183000
DTSTAMP:20260424T173324
CREATED:20230622T110720Z
LAST-MODIFIED:20230622T110720Z
UID:10001568-1810832400-1810837800@s130056251.online.de
SUMMARY:Fit AG
DESCRIPTION:Sportliche Betätigung (altersgerecht) unter Aufsicht und Anleitung eines Trainers im Fitnessraum der Senfte 10.
URL:http://s130056251.online.de/event/fit-ag/2027-05-20/
LOCATION:Senfte 10\, Senftenberger Straße 10\, Berlin\, Berlin\, 12627
END:VEVENT
BEGIN:VEVENT
DTSTART;TZID=Europe/Berlin:20270525T170000
DTEND;TZID=Europe/Berlin:20270525T183000
DTSTAMP:20260424T173324
CREATED:20230622T110720Z
LAST-MODIFIED:20230622T110720Z
UID:10001569-1811264400-1811269800@s130056251.online.de
SUMMARY:Fit AG
DESCRIPTION:Sportliche Betätigung (altersgerecht) unter Aufsicht und Anleitung eines Trainers im Fitnessraum der Senfte 10.
URL:http://s130056251.online.de/event/fit-ag/2027-05-25/
LOCATION:Senfte 10\, Senftenberger Straße 10\, Berlin\, Berlin\, 12627
END:VEVENT
BEGIN:VEVENT
DTSTART;TZID=Europe/Berlin:20270526T160000
DTEND;TZID=Europe/Berlin:20270526T180000
DTSTAMP:20260424T173324
CREATED:20230622T110653Z
LAST-MODIFIED:20230622T110653Z
UID:10001886-1811347200-1811354400@s130056251.online.de
SUMMARY:Outdoorküche
DESCRIPTION:Wir kochen unterschiedliche und leckere Gerichte\, draußen\, im Dutch Oven über/in der Feuerschale.
URL:http://s130056251.online.de/event/outdoorkueche/2027-05-26/
LOCATION:Senfte 10\, Senftenberger Straße 10\, Berlin\, Berlin\, 12627
END:VEVENT
BEGIN:VEVENT
DTSTART;TZID=Europe/Berlin:20270527T170000
DTEND;TZID=Europe/Berlin:20270527T183000
DTSTAMP:20260424T173324
CREATED:20230622T110720Z
LAST-MODIFIED:20230622T110720Z
UID:10001570-1811437200-1811442600@s130056251.online.de
SUMMARY:Fit AG
DESCRIPTION:Sportliche Betätigung (altersgerecht) unter Aufsicht und Anleitung eines Trainers im Fitnessraum der Senfte 10.
URL:http://s130056251.online.de/event/fit-ag/2027-05-27/
LOCATION:Senfte 10\, Senftenberger Straße 10\, Berlin\, Berlin\, 12627
END:VEVENT
BEGIN:VEVENT
DTSTART;TZID=Europe/Berlin:20270601T170000
DTEND;TZID=Europe/Berlin:20270601T183000
DTSTAMP:20260424T173324
CREATED:20230622T110720Z
LAST-MODIFIED:20230622T110720Z
UID:10001571-1811869200-1811874600@s130056251.online.de
SUMMARY:Fit AG
DESCRIPTION:Sportliche Betätigung (altersgerecht) unter Aufsicht und Anleitung eines Trainers im Fitnessraum der Senfte 10.
URL:http://s130056251.online.de/event/fit-ag/2027-06-01/
LOCATION:Senfte 10\, Senftenberger Straße 10\, Berlin\, Berlin\, 12627
END:VEVENT
BEGIN:VEVENT
DTSTART;TZID=Europe/Berlin:20270602T160000
DTEND;TZID=Europe/Berlin:20270602T180000
DTSTAMP:20260424T173324
CREATED:20230622T110653Z
LAST-MODIFIED:20230622T110653Z
UID:10001887-1811952000-1811959200@s130056251.online.de
SUMMARY:Outdoorküche
DESCRIPTION:Wir kochen unterschiedliche und leckere Gerichte\, draußen\, im Dutch Oven über/in der Feuerschale.
URL:http://s130056251.online.de/event/outdoorkueche/2027-06-02/
LOCATION:Senfte 10\, Senftenberger Straße 10\, Berlin\, Berlin\, 12627
END:VEVENT
BEGIN:VEVENT
DTSTART;TZID=Europe/Berlin:20270603T170000
DTEND;TZID=Europe/Berlin:20270603T183000
DTSTAMP:20260424T173324
CREATED:20230622T110720Z
LAST-MODIFIED:20230622T110720Z
UID:10001572-1812042000-1812047400@s130056251.online.de
SUMMARY:Fit AG
DESCRIPTION:Sportliche Betätigung (altersgerecht) unter Aufsicht und Anleitung eines Trainers im Fitnessraum der Senfte 10.
URL:http://s130056251.online.de/event/fit-ag/2027-06-03/
LOCATION:Senfte 10\, Senftenberger Straße 10\, Berlin\, Berlin\, 12627
END:VEVENT
BEGIN:VEVENT
DTSTART;TZID=Europe/Berlin:20270608T170000
DTEND;TZID=Europe/Berlin:20270608T183000
DTSTAMP:20260424T173324
CREATED:20230622T110720Z
LAST-MODIFIED:20230622T110720Z
UID:10001573-1812474000-1812479400@s130056251.online.de
SUMMARY:Fit AG
DESCRIPTION:Sportliche Betätigung (altersgerecht) unter Aufsicht und Anleitung eines Trainers im Fitnessraum der Senfte 10.
URL:http://s130056251.online.de/event/fit-ag/2027-06-08/
LOCATION:Senfte 10\, Senftenberger Straße 10\, Berlin\, Berlin\, 12627
END:VEVENT
BEGIN:VEVENT
DTSTART;TZID=Europe/Berlin:20270609T160000
DTEND;TZID=Europe/Berlin:20270609T180000
DTSTAMP:20260424T173324
CREATED:20230622T110653Z
LAST-MODIFIED:20230622T110653Z
UID:10001888-1812556800-1812564000@s130056251.online.de
SUMMARY:Outdoorküche
DESCRIPTION:Wir kochen unterschiedliche und leckere Gerichte\, draußen\, im Dutch Oven über/in der Feuerschale.
URL:http://s130056251.online.de/event/outdoorkueche/2027-06-09/
LOCATION:Senfte 10\, Senftenberger Straße 10\, Berlin\, Berlin\, 12627
END:VEVENT
BEGIN:VEVENT
DTSTART;TZID=Europe/Berlin:20270610T170000
DTEND;TZID=Europe/Berlin:20270610T183000
DTSTAMP:20260424T173324
CREATED:20230622T110720Z
LAST-MODIFIED:20230622T110720Z
UID:10001574-1812646800-1812652200@s130056251.online.de
SUMMARY:Fit AG
DESCRIPTION:Sportliche Betätigung (altersgerecht) unter Aufsicht und Anleitung eines Trainers im Fitnessraum der Senfte 10.
URL:http://s130056251.online.de/event/fit-ag/2027-06-10/
LOCATION:Senfte 10\, Senftenberger Straße 10\, Berlin\, Berlin\, 12627
END:VEVENT
BEGIN:VEVENT
DTSTART;TZID=Europe/Berlin:20270615T170000
DTEND;TZID=Europe/Berlin:20270615T183000
DTSTAMP:20260424T173324
CREATED:20230622T110720Z
LAST-MODIFIED:20230622T110720Z
UID:10001575-1813078800-1813084200@s130056251.online.de
SUMMARY:Fit AG
DESCRIPTION:Sportliche Betätigung (altersgerecht) unter Aufsicht und Anleitung eines Trainers im Fitnessraum der Senfte 10.
URL:http://s130056251.online.de/event/fit-ag/2027-06-15/
LOCATION:Senfte 10\, Senftenberger Straße 10\, Berlin\, Berlin\, 12627
END:VEVENT
BEGIN:VEVENT
DTSTART;TZID=Europe/Berlin:20270616T160000
DTEND;TZID=Europe/Berlin:20270616T180000
DTSTAMP:20260424T173324
CREATED:20230622T110653Z
LAST-MODIFIED:20230622T110653Z
UID:10001889-1813161600-1813168800@s130056251.online.de
SUMMARY:Outdoorküche
DESCRIPTION:Wir kochen unterschiedliche und leckere Gerichte\, draußen\, im Dutch Oven über/in der Feuerschale.
URL:http://s130056251.online.de/event/outdoorkueche/2027-06-16/
LOCATION:Senfte 10\, Senftenberger Straße 10\, Berlin\, Berlin\, 12627
END:VEVENT
BEGIN:VEVENT
DTSTART;TZID=Europe/Berlin:20270617T170000
DTEND;TZID=Europe/Berlin:20270617T183000
DTSTAMP:20260424T173324
CREATED:20230622T110720Z
LAST-MODIFIED:20230622T110720Z
UID:10001576-1813251600-1813257000@s130056251.online.de
SUMMARY:Fit AG
DESCRIPTION:Sportliche Betätigung (altersgerecht) unter Aufsicht und Anleitung eines Trainers im Fitnessraum der Senfte 10.
URL:http://s130056251.online.de/event/fit-ag/2027-06-17/
LOCATION:Senfte 10\, Senftenberger Straße 10\, Berlin\, Berlin\, 12627
END:VEVENT
BEGIN:VEVENT
DTSTART;TZID=Europe/Berlin:20270622T170000
DTEND;TZID=Europe/Berlin:20270622T183000
DTSTAMP:20260424T173324
CREATED:20230622T110720Z
LAST-MODIFIED:20230622T110720Z
UID:10001577-1813683600-1813689000@s130056251.online.de
SUMMARY:Fit AG
DESCRIPTION:Sportliche Betätigung (altersgerecht) unter Aufsicht und Anleitung eines Trainers im Fitnessraum der Senfte 10.
URL:http://s130056251.online.de/event/fit-ag/2027-06-22/
LOCATION:Senfte 10\, Senftenberger Straße 10\, Berlin\, Berlin\, 12627
END:VEVENT
BEGIN:VEVENT
DTSTART;TZID=Europe/Berlin:20270623T160000
DTEND;TZID=Europe/Berlin:20270623T180000
DTSTAMP:20260424T173324
CREATED:20230622T110653Z
LAST-MODIFIED:20230622T110653Z
UID:10001890-1813766400-1813773600@s130056251.online.de
SUMMARY:Outdoorküche
DESCRIPTION:Wir kochen unterschiedliche und leckere Gerichte\, draußen\, im Dutch Oven über/in der Feuerschale.
URL:http://s130056251.online.de/event/outdoorkueche/2027-06-23/
LOCATION:Senfte 10\, Senftenberger Straße 10\, Berlin\, Berlin\, 12627
END:VEVENT
BEGIN:VEVENT
DTSTART;TZID=Europe/Berlin:20270624T170000
DTEND;TZID=Europe/Berlin:20270624T183000
DTSTAMP:20260424T173324
CREATED:20230622T110720Z
LAST-MODIFIED:20230622T110720Z
UID:10001578-1813856400-1813861800@s130056251.online.de
SUMMARY:Fit AG
DESCRIPTION:Sportliche Betätigung (altersgerecht) unter Aufsicht und Anleitung eines Trainers im Fitnessraum der Senfte 10.
URL:http://s130056251.online.de/event/fit-ag/2027-06-24/
LOCATION:Senfte 10\, Senftenberger Straße 10\, Berlin\, Berlin\, 12627
END:VEVENT
BEGIN:VEVENT
DTSTART;TZID=Europe/Berlin:20270629T170000
DTEND;TZID=Europe/Berlin:20270629T183000
DTSTAMP:20260424T173324
CREATED:20230622T110720Z
LAST-MODIFIED:20230622T110720Z
UID:10001579-1814288400-1814293800@s130056251.online.de
SUMMARY:Fit AG
DESCRIPTION:Sportliche Betätigung (altersgerecht) unter Aufsicht und Anleitung eines Trainers im Fitnessraum der Senfte 10.
URL:http://s130056251.online.de/event/fit-ag/2027-06-29/
LOCATION:Senfte 10\, Senftenberger Straße 10\, Berlin\, Berlin\, 12627
END:VEVENT
BEGIN:VEVENT
DTSTART;TZID=Europe/Berlin:20270630T160000
DTEND;TZID=Europe/Berlin:20270630T180000
DTSTAMP:20260424T173324
CREATED:20230622T110653Z
LAST-MODIFIED:20230622T110653Z
UID:10001891-1814371200-1814378400@s130056251.online.de
SUMMARY:Outdoorküche
DESCRIPTION:Wir kochen unterschiedliche und leckere Gerichte\, draußen\, im Dutch Oven über/in der Feuerschale.
URL:http://s130056251.online.de/event/outdoorkueche/2027-06-30/
LOCATION:Senfte 10\, Senftenberger Straße 10\, Berlin\, Berlin\, 12627
END:VEVENT
BEGIN:VEVENT
DTSTART;TZID=Europe/Berlin:20270701T170000
DTEND;TZID=Europe/Berlin:20270701T183000
DTSTAMP:20260424T173324
CREATED:20230622T110720Z
LAST-MODIFIED:20230622T110720Z
UID:10001580-1814461200-1814466600@s130056251.online.de
SUMMARY:Fit AG
DESCRIPTION:Sportliche Betätigung (altersgerecht) unter Aufsicht und Anleitung eines Trainers im Fitnessraum der Senfte 10.
URL:http://s130056251.online.de/event/fit-ag/2027-07-01/
LOCATION:Senfte 10\, Senftenberger Straße 10\, Berlin\, Berlin\, 12627
END:VEVENT
END:VCALENDAR