BEGIN:VCALENDAR
VERSION:2.0
PRODID:-//Was geht in Hellersdorf - ECPv6.1.2.2//NONSGML v1.0//EN
CALSCALE:GREGORIAN
METHOD:PUBLISH
X-WR-CALNAME:Was geht in Hellersdorf
X-ORIGINAL-URL:http://s130056251.online.de
X-WR-CALDESC:Veranstaltungen für Was geht in Hellersdorf
REFRESH-INTERVAL;VALUE=DURATION:PT1H
X-Robots-Tag:noindex
X-PUBLISHED-TTL:PT1H
BEGIN:VTIMEZONE
TZID:Europe/Berlin
BEGIN:DAYLIGHT
TZOFFSETFROM:+0100
TZOFFSETTO:+0200
TZNAME:CEST
DTSTART:20260329T010000
END:DAYLIGHT
BEGIN:STANDARD
TZOFFSETFROM:+0200
TZOFFSETTO:+0100
TZNAME:CET
DTSTART:20261025T010000
END:STANDARD
END:VTIMEZONE
BEGIN:VEVENT
DTSTART;TZID=Europe/Berlin:20261006T170000
DTEND;TZID=Europe/Berlin:20261006T183000
DTSTAMP:20260420T224922
CREATED:20230622T110720Z
LAST-MODIFIED:20230622T110720Z
UID:10001503-1791306000-1791311400@s130056251.online.de
SUMMARY:Fit AG
DESCRIPTION:Sportliche Betätigung (altersgerecht) unter Aufsicht und Anleitung eines Trainers im Fitnessraum der Senfte 10.
URL:http://s130056251.online.de/event/fit-ag/2026-10-06/
LOCATION:Senfte 10\, Senftenberger Straße 10\, Berlin\, Berlin\, 12627
END:VEVENT
BEGIN:VEVENT
DTSTART;TZID=Europe/Berlin:20261007T160000
DTEND;TZID=Europe/Berlin:20261007T180000
DTSTAMP:20260420T224922
CREATED:20230622T110653Z
LAST-MODIFIED:20230622T110653Z
UID:10001853-1791388800-1791396000@s130056251.online.de
SUMMARY:Outdoorküche
DESCRIPTION:Wir kochen unterschiedliche und leckere Gerichte\, draußen\, im Dutch Oven über/in der Feuerschale.
URL:http://s130056251.online.de/event/outdoorkueche/2026-10-07/
LOCATION:Senfte 10\, Senftenberger Straße 10\, Berlin\, Berlin\, 12627
END:VEVENT
BEGIN:VEVENT
DTSTART;TZID=Europe/Berlin:20261008T170000
DTEND;TZID=Europe/Berlin:20261008T183000
DTSTAMP:20260420T224922
CREATED:20230622T110720Z
LAST-MODIFIED:20230622T110720Z
UID:10001504-1791478800-1791484200@s130056251.online.de
SUMMARY:Fit AG
DESCRIPTION:Sportliche Betätigung (altersgerecht) unter Aufsicht und Anleitung eines Trainers im Fitnessraum der Senfte 10.
URL:http://s130056251.online.de/event/fit-ag/2026-10-08/
LOCATION:Senfte 10\, Senftenberger Straße 10\, Berlin\, Berlin\, 12627
END:VEVENT
BEGIN:VEVENT
DTSTART;TZID=Europe/Berlin:20261013T170000
DTEND;TZID=Europe/Berlin:20261013T183000
DTSTAMP:20260420T224922
CREATED:20230622T110720Z
LAST-MODIFIED:20230622T110720Z
UID:10001505-1791910800-1791916200@s130056251.online.de
SUMMARY:Fit AG
DESCRIPTION:Sportliche Betätigung (altersgerecht) unter Aufsicht und Anleitung eines Trainers im Fitnessraum der Senfte 10.
URL:http://s130056251.online.de/event/fit-ag/2026-10-13/
LOCATION:Senfte 10\, Senftenberger Straße 10\, Berlin\, Berlin\, 12627
END:VEVENT
BEGIN:VEVENT
DTSTART;TZID=Europe/Berlin:20261014T160000
DTEND;TZID=Europe/Berlin:20261014T180000
DTSTAMP:20260420T224922
CREATED:20230622T110653Z
LAST-MODIFIED:20230622T110653Z
UID:10001854-1791993600-1792000800@s130056251.online.de
SUMMARY:Outdoorküche
DESCRIPTION:Wir kochen unterschiedliche und leckere Gerichte\, draußen\, im Dutch Oven über/in der Feuerschale.
URL:http://s130056251.online.de/event/outdoorkueche/2026-10-14/
LOCATION:Senfte 10\, Senftenberger Straße 10\, Berlin\, Berlin\, 12627
END:VEVENT
BEGIN:VEVENT
DTSTART;TZID=Europe/Berlin:20261015T170000
DTEND;TZID=Europe/Berlin:20261015T183000
DTSTAMP:20260420T224922
CREATED:20230622T110720Z
LAST-MODIFIED:20230622T110720Z
UID:10001506-1792083600-1792089000@s130056251.online.de
SUMMARY:Fit AG
DESCRIPTION:Sportliche Betätigung (altersgerecht) unter Aufsicht und Anleitung eines Trainers im Fitnessraum der Senfte 10.
URL:http://s130056251.online.de/event/fit-ag/2026-10-15/
LOCATION:Senfte 10\, Senftenberger Straße 10\, Berlin\, Berlin\, 12627
END:VEVENT
BEGIN:VEVENT
DTSTART;TZID=Europe/Berlin:20261020T170000
DTEND;TZID=Europe/Berlin:20261020T183000
DTSTAMP:20260420T224922
CREATED:20230622T110720Z
LAST-MODIFIED:20230622T110720Z
UID:10001507-1792515600-1792521000@s130056251.online.de
SUMMARY:Fit AG
DESCRIPTION:Sportliche Betätigung (altersgerecht) unter Aufsicht und Anleitung eines Trainers im Fitnessraum der Senfte 10.
URL:http://s130056251.online.de/event/fit-ag/2026-10-20/
LOCATION:Senfte 10\, Senftenberger Straße 10\, Berlin\, Berlin\, 12627
END:VEVENT
BEGIN:VEVENT
DTSTART;TZID=Europe/Berlin:20261021T160000
DTEND;TZID=Europe/Berlin:20261021T180000
DTSTAMP:20260420T224922
CREATED:20230622T110653Z
LAST-MODIFIED:20230622T110653Z
UID:10001855-1792598400-1792605600@s130056251.online.de
SUMMARY:Outdoorküche
DESCRIPTION:Wir kochen unterschiedliche und leckere Gerichte\, draußen\, im Dutch Oven über/in der Feuerschale.
URL:http://s130056251.online.de/event/outdoorkueche/2026-10-21/
LOCATION:Senfte 10\, Senftenberger Straße 10\, Berlin\, Berlin\, 12627
END:VEVENT
BEGIN:VEVENT
DTSTART;TZID=Europe/Berlin:20261022T170000
DTEND;TZID=Europe/Berlin:20261022T183000
DTSTAMP:20260420T224922
CREATED:20230622T110720Z
LAST-MODIFIED:20230622T110720Z
UID:10001508-1792688400-1792693800@s130056251.online.de
SUMMARY:Fit AG
DESCRIPTION:Sportliche Betätigung (altersgerecht) unter Aufsicht und Anleitung eines Trainers im Fitnessraum der Senfte 10.
URL:http://s130056251.online.de/event/fit-ag/2026-10-22/
LOCATION:Senfte 10\, Senftenberger Straße 10\, Berlin\, Berlin\, 12627
END:VEVENT
BEGIN:VEVENT
DTSTART;TZID=Europe/Berlin:20261027T170000
DTEND;TZID=Europe/Berlin:20261027T183000
DTSTAMP:20260420T224922
CREATED:20230622T110720Z
LAST-MODIFIED:20230622T110720Z
UID:10001509-1793120400-1793125800@s130056251.online.de
SUMMARY:Fit AG
DESCRIPTION:Sportliche Betätigung (altersgerecht) unter Aufsicht und Anleitung eines Trainers im Fitnessraum der Senfte 10.
URL:http://s130056251.online.de/event/fit-ag/2026-10-27/
LOCATION:Senfte 10\, Senftenberger Straße 10\, Berlin\, Berlin\, 12627
END:VEVENT
BEGIN:VEVENT
DTSTART;TZID=Europe/Berlin:20261028T160000
DTEND;TZID=Europe/Berlin:20261028T180000
DTSTAMP:20260420T224922
CREATED:20230622T110653Z
LAST-MODIFIED:20230622T110653Z
UID:10001856-1793203200-1793210400@s130056251.online.de
SUMMARY:Outdoorküche
DESCRIPTION:Wir kochen unterschiedliche und leckere Gerichte\, draußen\, im Dutch Oven über/in der Feuerschale.
URL:http://s130056251.online.de/event/outdoorkueche/2026-10-28/
LOCATION:Senfte 10\, Senftenberger Straße 10\, Berlin\, Berlin\, 12627
END:VEVENT
BEGIN:VEVENT
DTSTART;TZID=Europe/Berlin:20261029T170000
DTEND;TZID=Europe/Berlin:20261029T183000
DTSTAMP:20260420T224922
CREATED:20230622T110720Z
LAST-MODIFIED:20230622T110720Z
UID:10001510-1793293200-1793298600@s130056251.online.de
SUMMARY:Fit AG
DESCRIPTION:Sportliche Betätigung (altersgerecht) unter Aufsicht und Anleitung eines Trainers im Fitnessraum der Senfte 10.
URL:http://s130056251.online.de/event/fit-ag/2026-10-29/
LOCATION:Senfte 10\, Senftenberger Straße 10\, Berlin\, Berlin\, 12627
END:VEVENT
BEGIN:VEVENT
DTSTART;TZID=Europe/Berlin:20261103T170000
DTEND;TZID=Europe/Berlin:20261103T183000
DTSTAMP:20260420T224922
CREATED:20230622T110720Z
LAST-MODIFIED:20230622T110720Z
UID:10001511-1793725200-1793730600@s130056251.online.de
SUMMARY:Fit AG
DESCRIPTION:Sportliche Betätigung (altersgerecht) unter Aufsicht und Anleitung eines Trainers im Fitnessraum der Senfte 10.
URL:http://s130056251.online.de/event/fit-ag/2026-11-03/
LOCATION:Senfte 10\, Senftenberger Straße 10\, Berlin\, Berlin\, 12627
END:VEVENT
BEGIN:VEVENT
DTSTART;TZID=Europe/Berlin:20261104T160000
DTEND;TZID=Europe/Berlin:20261104T180000
DTSTAMP:20260420T224922
CREATED:20230622T110653Z
LAST-MODIFIED:20230622T110653Z
UID:10001857-1793808000-1793815200@s130056251.online.de
SUMMARY:Outdoorküche
DESCRIPTION:Wir kochen unterschiedliche und leckere Gerichte\, draußen\, im Dutch Oven über/in der Feuerschale.
URL:http://s130056251.online.de/event/outdoorkueche/2026-11-04/
LOCATION:Senfte 10\, Senftenberger Straße 10\, Berlin\, Berlin\, 12627
END:VEVENT
BEGIN:VEVENT
DTSTART;TZID=Europe/Berlin:20261105T170000
DTEND;TZID=Europe/Berlin:20261105T183000
DTSTAMP:20260420T224922
CREATED:20230622T110720Z
LAST-MODIFIED:20230622T110720Z
UID:10001512-1793898000-1793903400@s130056251.online.de
SUMMARY:Fit AG
DESCRIPTION:Sportliche Betätigung (altersgerecht) unter Aufsicht und Anleitung eines Trainers im Fitnessraum der Senfte 10.
URL:http://s130056251.online.de/event/fit-ag/2026-11-05/
LOCATION:Senfte 10\, Senftenberger Straße 10\, Berlin\, Berlin\, 12627
END:VEVENT
BEGIN:VEVENT
DTSTART;TZID=Europe/Berlin:20261110T170000
DTEND;TZID=Europe/Berlin:20261110T183000
DTSTAMP:20260420T224922
CREATED:20230622T110720Z
LAST-MODIFIED:20230622T110720Z
UID:10001513-1794330000-1794335400@s130056251.online.de
SUMMARY:Fit AG
DESCRIPTION:Sportliche Betätigung (altersgerecht) unter Aufsicht und Anleitung eines Trainers im Fitnessraum der Senfte 10.
URL:http://s130056251.online.de/event/fit-ag/2026-11-10/
LOCATION:Senfte 10\, Senftenberger Straße 10\, Berlin\, Berlin\, 12627
END:VEVENT
BEGIN:VEVENT
DTSTART;TZID=Europe/Berlin:20261111T160000
DTEND;TZID=Europe/Berlin:20261111T180000
DTSTAMP:20260420T224922
CREATED:20230622T110653Z
LAST-MODIFIED:20230622T110653Z
UID:10001858-1794412800-1794420000@s130056251.online.de
SUMMARY:Outdoorküche
DESCRIPTION:Wir kochen unterschiedliche und leckere Gerichte\, draußen\, im Dutch Oven über/in der Feuerschale.
URL:http://s130056251.online.de/event/outdoorkueche/2026-11-11/
LOCATION:Senfte 10\, Senftenberger Straße 10\, Berlin\, Berlin\, 12627
END:VEVENT
BEGIN:VEVENT
DTSTART;TZID=Europe/Berlin:20261112T170000
DTEND;TZID=Europe/Berlin:20261112T183000
DTSTAMP:20260420T224922
CREATED:20230622T110720Z
LAST-MODIFIED:20230622T110720Z
UID:10001514-1794502800-1794508200@s130056251.online.de
SUMMARY:Fit AG
DESCRIPTION:Sportliche Betätigung (altersgerecht) unter Aufsicht und Anleitung eines Trainers im Fitnessraum der Senfte 10.
URL:http://s130056251.online.de/event/fit-ag/2026-11-12/
LOCATION:Senfte 10\, Senftenberger Straße 10\, Berlin\, Berlin\, 12627
END:VEVENT
BEGIN:VEVENT
DTSTART;TZID=Europe/Berlin:20261117T170000
DTEND;TZID=Europe/Berlin:20261117T183000
DTSTAMP:20260420T224922
CREATED:20230622T110720Z
LAST-MODIFIED:20230622T110720Z
UID:10001515-1794934800-1794940200@s130056251.online.de
SUMMARY:Fit AG
DESCRIPTION:Sportliche Betätigung (altersgerecht) unter Aufsicht und Anleitung eines Trainers im Fitnessraum der Senfte 10.
URL:http://s130056251.online.de/event/fit-ag/2026-11-17/
LOCATION:Senfte 10\, Senftenberger Straße 10\, Berlin\, Berlin\, 12627
END:VEVENT
BEGIN:VEVENT
DTSTART;TZID=Europe/Berlin:20261118T160000
DTEND;TZID=Europe/Berlin:20261118T180000
DTSTAMP:20260420T224922
CREATED:20230622T110653Z
LAST-MODIFIED:20230622T110653Z
UID:10001859-1795017600-1795024800@s130056251.online.de
SUMMARY:Outdoorküche
DESCRIPTION:Wir kochen unterschiedliche und leckere Gerichte\, draußen\, im Dutch Oven über/in der Feuerschale.
URL:http://s130056251.online.de/event/outdoorkueche/2026-11-18/
LOCATION:Senfte 10\, Senftenberger Straße 10\, Berlin\, Berlin\, 12627
END:VEVENT
BEGIN:VEVENT
DTSTART;TZID=Europe/Berlin:20261119T170000
DTEND;TZID=Europe/Berlin:20261119T183000
DTSTAMP:20260420T224922
CREATED:20230622T110720Z
LAST-MODIFIED:20230622T110720Z
UID:10001516-1795107600-1795113000@s130056251.online.de
SUMMARY:Fit AG
DESCRIPTION:Sportliche Betätigung (altersgerecht) unter Aufsicht und Anleitung eines Trainers im Fitnessraum der Senfte 10.
URL:http://s130056251.online.de/event/fit-ag/2026-11-19/
LOCATION:Senfte 10\, Senftenberger Straße 10\, Berlin\, Berlin\, 12627
END:VEVENT
BEGIN:VEVENT
DTSTART;TZID=Europe/Berlin:20261124T170000
DTEND;TZID=Europe/Berlin:20261124T183000
DTSTAMP:20260420T224922
CREATED:20230622T110720Z
LAST-MODIFIED:20230622T110720Z
UID:10001517-1795539600-1795545000@s130056251.online.de
SUMMARY:Fit AG
DESCRIPTION:Sportliche Betätigung (altersgerecht) unter Aufsicht und Anleitung eines Trainers im Fitnessraum der Senfte 10.
URL:http://s130056251.online.de/event/fit-ag/2026-11-24/
LOCATION:Senfte 10\, Senftenberger Straße 10\, Berlin\, Berlin\, 12627
END:VEVENT
BEGIN:VEVENT
DTSTART;TZID=Europe/Berlin:20261125T160000
DTEND;TZID=Europe/Berlin:20261125T180000
DTSTAMP:20260420T224922
CREATED:20230622T110653Z
LAST-MODIFIED:20230622T110653Z
UID:10001860-1795622400-1795629600@s130056251.online.de
SUMMARY:Outdoorküche
DESCRIPTION:Wir kochen unterschiedliche und leckere Gerichte\, draußen\, im Dutch Oven über/in der Feuerschale.
URL:http://s130056251.online.de/event/outdoorkueche/2026-11-25/
LOCATION:Senfte 10\, Senftenberger Straße 10\, Berlin\, Berlin\, 12627
END:VEVENT
BEGIN:VEVENT
DTSTART;TZID=Europe/Berlin:20261126T170000
DTEND;TZID=Europe/Berlin:20261126T183000
DTSTAMP:20260420T224922
CREATED:20230622T110720Z
LAST-MODIFIED:20230622T110720Z
UID:10001518-1795712400-1795717800@s130056251.online.de
SUMMARY:Fit AG
DESCRIPTION:Sportliche Betätigung (altersgerecht) unter Aufsicht und Anleitung eines Trainers im Fitnessraum der Senfte 10.
URL:http://s130056251.online.de/event/fit-ag/2026-11-26/
LOCATION:Senfte 10\, Senftenberger Straße 10\, Berlin\, Berlin\, 12627
END:VEVENT
BEGIN:VEVENT
DTSTART;TZID=Europe/Berlin:20261201T170000
DTEND;TZID=Europe/Berlin:20261201T183000
DTSTAMP:20260420T224922
CREATED:20230622T110720Z
LAST-MODIFIED:20230622T110720Z
UID:10001519-1796144400-1796149800@s130056251.online.de
SUMMARY:Fit AG
DESCRIPTION:Sportliche Betätigung (altersgerecht) unter Aufsicht und Anleitung eines Trainers im Fitnessraum der Senfte 10.
URL:http://s130056251.online.de/event/fit-ag/2026-12-01/
LOCATION:Senfte 10\, Senftenberger Straße 10\, Berlin\, Berlin\, 12627
END:VEVENT
BEGIN:VEVENT
DTSTART;TZID=Europe/Berlin:20261202T160000
DTEND;TZID=Europe/Berlin:20261202T180000
DTSTAMP:20260420T224922
CREATED:20230622T110653Z
LAST-MODIFIED:20230622T110653Z
UID:10001861-1796227200-1796234400@s130056251.online.de
SUMMARY:Outdoorküche
DESCRIPTION:Wir kochen unterschiedliche und leckere Gerichte\, draußen\, im Dutch Oven über/in der Feuerschale.
URL:http://s130056251.online.de/event/outdoorkueche/2026-12-02/
LOCATION:Senfte 10\, Senftenberger Straße 10\, Berlin\, Berlin\, 12627
END:VEVENT
BEGIN:VEVENT
DTSTART;TZID=Europe/Berlin:20261203T170000
DTEND;TZID=Europe/Berlin:20261203T183000
DTSTAMP:20260420T224922
CREATED:20230622T110720Z
LAST-MODIFIED:20230622T110720Z
UID:10001520-1796317200-1796322600@s130056251.online.de
SUMMARY:Fit AG
DESCRIPTION:Sportliche Betätigung (altersgerecht) unter Aufsicht und Anleitung eines Trainers im Fitnessraum der Senfte 10.
URL:http://s130056251.online.de/event/fit-ag/2026-12-03/
LOCATION:Senfte 10\, Senftenberger Straße 10\, Berlin\, Berlin\, 12627
END:VEVENT
BEGIN:VEVENT
DTSTART;TZID=Europe/Berlin:20261208T170000
DTEND;TZID=Europe/Berlin:20261208T183000
DTSTAMP:20260420T224922
CREATED:20230622T110720Z
LAST-MODIFIED:20230622T110720Z
UID:10001521-1796749200-1796754600@s130056251.online.de
SUMMARY:Fit AG
DESCRIPTION:Sportliche Betätigung (altersgerecht) unter Aufsicht und Anleitung eines Trainers im Fitnessraum der Senfte 10.
URL:http://s130056251.online.de/event/fit-ag/2026-12-08/
LOCATION:Senfte 10\, Senftenberger Straße 10\, Berlin\, Berlin\, 12627
END:VEVENT
BEGIN:VEVENT
DTSTART;TZID=Europe/Berlin:20261209T160000
DTEND;TZID=Europe/Berlin:20261209T180000
DTSTAMP:20260420T224922
CREATED:20230622T110653Z
LAST-MODIFIED:20230622T110653Z
UID:10001862-1796832000-1796839200@s130056251.online.de
SUMMARY:Outdoorküche
DESCRIPTION:Wir kochen unterschiedliche und leckere Gerichte\, draußen\, im Dutch Oven über/in der Feuerschale.
URL:http://s130056251.online.de/event/outdoorkueche/2026-12-09/
LOCATION:Senfte 10\, Senftenberger Straße 10\, Berlin\, Berlin\, 12627
END:VEVENT
BEGIN:VEVENT
DTSTART;TZID=Europe/Berlin:20261210T170000
DTEND;TZID=Europe/Berlin:20261210T183000
DTSTAMP:20260420T224922
CREATED:20230622T110720Z
LAST-MODIFIED:20230622T110720Z
UID:10001522-1796922000-1796927400@s130056251.online.de
SUMMARY:Fit AG
DESCRIPTION:Sportliche Betätigung (altersgerecht) unter Aufsicht und Anleitung eines Trainers im Fitnessraum der Senfte 10.
URL:http://s130056251.online.de/event/fit-ag/2026-12-10/
LOCATION:Senfte 10\, Senftenberger Straße 10\, Berlin\, Berlin\, 12627
END:VEVENT
END:VCALENDAR