BEGIN:VCALENDAR
VERSION:2.0
PRODID:-//Was geht in Hellersdorf - ECPv6.1.2.2//NONSGML v1.0//EN
CALSCALE:GREGORIAN
METHOD:PUBLISH
X-WR-CALNAME:Was geht in Hellersdorf
X-ORIGINAL-URL:http://s130056251.online.de
X-WR-CALDESC:Veranstaltungen für Was geht in Hellersdorf
REFRESH-INTERVAL;VALUE=DURATION:PT1H
X-Robots-Tag:noindex
X-PUBLISHED-TTL:PT1H
BEGIN:VTIMEZONE
TZID:Europe/Berlin
BEGIN:DAYLIGHT
TZOFFSETFROM:+0100
TZOFFSETTO:+0200
TZNAME:CEST
DTSTART:20250330T010000
END:DAYLIGHT
BEGIN:STANDARD
TZOFFSETFROM:+0200
TZOFFSETTO:+0100
TZNAME:CET
DTSTART:20251026T010000
END:STANDARD
END:VTIMEZONE
BEGIN:VEVENT
DTSTART;TZID=Europe/Berlin:20250715T163000
DTEND;TZID=Europe/Berlin:20250715T180000
DTSTAMP:20260424T113609
CREATED:20240123T122103Z
LAST-MODIFIED:20250128T134748Z
UID:10007256-1752597000-1752602400@s130056251.online.de
SUMMARY:Boxtraining
DESCRIPTION:Jeden Dienstag findet um 16:30 Uhr das Boxtraining mit Eric statt.
URL:http://s130056251.online.de/event/boxtraining-2/2025-07-15/
LOCATION:U5\, Auerbacher Ring 25\, Berlin\, Berlin\, 12619\, Germany
ATTACH;FMTTYPE=image/png:http://s130056251.online.de/wp-content/uploads/2024/01/Boxing-Night-Instagram-Story.png
ORGANIZER;CN="U5":MAILTO:u5@eastend-berlin.com
END:VEVENT
BEGIN:VEVENT
DTSTART;TZID=Europe/Berlin:20250715T150000
DTEND;TZID=Europe/Berlin:20250715T170000
DTSTAMP:20260424T113609
CREATED:20250121T181802Z
LAST-MODIFIED:20250121T181802Z
UID:10007165-1752591600-1752598800@s130056251.online.de
SUMMARY:Gesundes Kochen
DESCRIPTION:Wir probieren eure Rezeptwünsche aus.
URL:http://s130056251.online.de/event/gesundes-kochen/2025-07-15/
LOCATION:U5\, Auerbacher Ring 25\, Berlin\, Berlin\, 12619\, Germany
ORGANIZER;CN="U5":MAILTO:u5@eastend-berlin.com
END:VEVENT
BEGIN:VEVENT
DTSTART;TZID=Europe/Berlin:20250708T163000
DTEND;TZID=Europe/Berlin:20250708T180000
DTSTAMP:20260424T113609
CREATED:20240123T122103Z
LAST-MODIFIED:20250128T134748Z
UID:10007255-1751992200-1751997600@s130056251.online.de
SUMMARY:Boxtraining
DESCRIPTION:Jeden Dienstag findet um 16:30 Uhr das Boxtraining mit Eric statt.
URL:http://s130056251.online.de/event/boxtraining-2/2025-07-08/
LOCATION:U5\, Auerbacher Ring 25\, Berlin\, Berlin\, 12619\, Germany
ATTACH;FMTTYPE=image/png:http://s130056251.online.de/wp-content/uploads/2024/01/Boxing-Night-Instagram-Story.png
ORGANIZER;CN="U5":MAILTO:u5@eastend-berlin.com
END:VEVENT
BEGIN:VEVENT
DTSTART;TZID=Europe/Berlin:20250708T150000
DTEND;TZID=Europe/Berlin:20250708T170000
DTSTAMP:20260424T113609
CREATED:20250121T181802Z
LAST-MODIFIED:20250121T181802Z
UID:10007164-1751986800-1751994000@s130056251.online.de
SUMMARY:Gesundes Kochen
DESCRIPTION:Wir probieren eure Rezeptwünsche aus.
URL:http://s130056251.online.de/event/gesundes-kochen/2025-07-08/
LOCATION:U5\, Auerbacher Ring 25\, Berlin\, Berlin\, 12619\, Germany
ORGANIZER;CN="U5":MAILTO:u5@eastend-berlin.com
END:VEVENT
BEGIN:VEVENT
DTSTART;TZID=Europe/Berlin:20250701T163000
DTEND;TZID=Europe/Berlin:20250701T180000
DTSTAMP:20260424T113609
CREATED:20240123T122103Z
LAST-MODIFIED:20250128T134748Z
UID:10007254-1751387400-1751392800@s130056251.online.de
SUMMARY:Boxtraining
DESCRIPTION:Jeden Dienstag findet um 16:30 Uhr das Boxtraining mit Eric statt.
URL:http://s130056251.online.de/event/boxtraining-2/2025-07-01/
LOCATION:U5\, Auerbacher Ring 25\, Berlin\, Berlin\, 12619\, Germany
ATTACH;FMTTYPE=image/png:http://s130056251.online.de/wp-content/uploads/2024/01/Boxing-Night-Instagram-Story.png
ORGANIZER;CN="U5":MAILTO:u5@eastend-berlin.com
END:VEVENT
BEGIN:VEVENT
DTSTART;TZID=Europe/Berlin:20250701T150000
DTEND;TZID=Europe/Berlin:20250701T170000
DTSTAMP:20260424T113609
CREATED:20250121T181802Z
LAST-MODIFIED:20250121T181802Z
UID:10007163-1751382000-1751389200@s130056251.online.de
SUMMARY:Gesundes Kochen
DESCRIPTION:Wir probieren eure Rezeptwünsche aus.
URL:http://s130056251.online.de/event/gesundes-kochen/2025-07-01/
LOCATION:U5\, Auerbacher Ring 25\, Berlin\, Berlin\, 12619\, Germany
ORGANIZER;CN="U5":MAILTO:u5@eastend-berlin.com
END:VEVENT
BEGIN:VEVENT
DTSTART;TZID=Europe/Berlin:20250624T163000
DTEND;TZID=Europe/Berlin:20250624T180000
DTSTAMP:20260424T113609
CREATED:20240123T122103Z
LAST-MODIFIED:20250128T134748Z
UID:10007253-1750782600-1750788000@s130056251.online.de
SUMMARY:Boxtraining
DESCRIPTION:Jeden Dienstag findet um 16:30 Uhr das Boxtraining mit Eric statt.
URL:http://s130056251.online.de/event/boxtraining-2/2025-06-24/
LOCATION:U5\, Auerbacher Ring 25\, Berlin\, Berlin\, 12619\, Germany
ATTACH;FMTTYPE=image/png:http://s130056251.online.de/wp-content/uploads/2024/01/Boxing-Night-Instagram-Story.png
ORGANIZER;CN="U5":MAILTO:u5@eastend-berlin.com
END:VEVENT
BEGIN:VEVENT
DTSTART;TZID=Europe/Berlin:20250624T150000
DTEND;TZID=Europe/Berlin:20250624T170000
DTSTAMP:20260424T113610
CREATED:20250121T181802Z
LAST-MODIFIED:20250121T181802Z
UID:10007162-1750777200-1750784400@s130056251.online.de
SUMMARY:Gesundes Kochen
DESCRIPTION:Wir probieren eure Rezeptwünsche aus.
URL:http://s130056251.online.de/event/gesundes-kochen/2025-06-24/
LOCATION:U5\, Auerbacher Ring 25\, Berlin\, Berlin\, 12619\, Germany
ORGANIZER;CN="U5":MAILTO:u5@eastend-berlin.com
END:VEVENT
BEGIN:VEVENT
DTSTART;TZID=Europe/Berlin:20250617T163000
DTEND;TZID=Europe/Berlin:20250617T180000
DTSTAMP:20260424T113610
CREATED:20240123T122103Z
LAST-MODIFIED:20250128T134748Z
UID:10007252-1750177800-1750183200@s130056251.online.de
SUMMARY:Boxtraining
DESCRIPTION:Jeden Dienstag findet um 16:30 Uhr das Boxtraining mit Eric statt.
URL:http://s130056251.online.de/event/boxtraining-2/2025-06-17/
LOCATION:U5\, Auerbacher Ring 25\, Berlin\, Berlin\, 12619\, Germany
ATTACH;FMTTYPE=image/png:http://s130056251.online.de/wp-content/uploads/2024/01/Boxing-Night-Instagram-Story.png
ORGANIZER;CN="U5":MAILTO:u5@eastend-berlin.com
END:VEVENT
BEGIN:VEVENT
DTSTART;TZID=Europe/Berlin:20250617T150000
DTEND;TZID=Europe/Berlin:20250617T170000
DTSTAMP:20260424T113610
CREATED:20250121T181802Z
LAST-MODIFIED:20250121T181802Z
UID:10007161-1750172400-1750179600@s130056251.online.de
SUMMARY:Gesundes Kochen
DESCRIPTION:Wir probieren eure Rezeptwünsche aus.
URL:http://s130056251.online.de/event/gesundes-kochen/2025-06-17/
LOCATION:U5\, Auerbacher Ring 25\, Berlin\, Berlin\, 12619\, Germany
ORGANIZER;CN="U5":MAILTO:u5@eastend-berlin.com
END:VEVENT
BEGIN:VEVENT
DTSTART;TZID=Europe/Berlin:20250610T163000
DTEND;TZID=Europe/Berlin:20250610T180000
DTSTAMP:20260424T113610
CREATED:20240123T122103Z
LAST-MODIFIED:20250128T134748Z
UID:10007251-1749573000-1749578400@s130056251.online.de
SUMMARY:Boxtraining
DESCRIPTION:Jeden Dienstag findet um 16:30 Uhr das Boxtraining mit Eric statt.
URL:http://s130056251.online.de/event/boxtraining-2/2025-06-10/
LOCATION:U5\, Auerbacher Ring 25\, Berlin\, Berlin\, 12619\, Germany
ATTACH;FMTTYPE=image/png:http://s130056251.online.de/wp-content/uploads/2024/01/Boxing-Night-Instagram-Story.png
ORGANIZER;CN="U5":MAILTO:u5@eastend-berlin.com
END:VEVENT
BEGIN:VEVENT
DTSTART;TZID=Europe/Berlin:20250610T150000
DTEND;TZID=Europe/Berlin:20250610T170000
DTSTAMP:20260424T113610
CREATED:20250121T181802Z
LAST-MODIFIED:20250121T181802Z
UID:10007160-1749567600-1749574800@s130056251.online.de
SUMMARY:Gesundes Kochen
DESCRIPTION:Wir probieren eure Rezeptwünsche aus.
URL:http://s130056251.online.de/event/gesundes-kochen/2025-06-10/
LOCATION:U5\, Auerbacher Ring 25\, Berlin\, Berlin\, 12619\, Germany
ORGANIZER;CN="U5":MAILTO:u5@eastend-berlin.com
END:VEVENT
BEGIN:VEVENT
DTSTART;TZID=Europe/Berlin:20250603T163000
DTEND;TZID=Europe/Berlin:20250603T180000
DTSTAMP:20260424T113610
CREATED:20240123T122103Z
LAST-MODIFIED:20250128T134748Z
UID:10007250-1748968200-1748973600@s130056251.online.de
SUMMARY:Boxtraining
DESCRIPTION:Jeden Dienstag findet um 16:30 Uhr das Boxtraining mit Eric statt.
URL:http://s130056251.online.de/event/boxtraining-2/2025-06-03/
LOCATION:U5\, Auerbacher Ring 25\, Berlin\, Berlin\, 12619\, Germany
ATTACH;FMTTYPE=image/png:http://s130056251.online.de/wp-content/uploads/2024/01/Boxing-Night-Instagram-Story.png
ORGANIZER;CN="U5":MAILTO:u5@eastend-berlin.com
END:VEVENT
BEGIN:VEVENT
DTSTART;TZID=Europe/Berlin:20250603T150000
DTEND;TZID=Europe/Berlin:20250603T170000
DTSTAMP:20260424T113610
CREATED:20250121T181802Z
LAST-MODIFIED:20250121T181802Z
UID:10007159-1748962800-1748970000@s130056251.online.de
SUMMARY:Gesundes Kochen
DESCRIPTION:Wir probieren eure Rezeptwünsche aus.
URL:http://s130056251.online.de/event/gesundes-kochen/2025-06-03/
LOCATION:U5\, Auerbacher Ring 25\, Berlin\, Berlin\, 12619\, Germany
ORGANIZER;CN="U5":MAILTO:u5@eastend-berlin.com
END:VEVENT
BEGIN:VEVENT
DTSTART;TZID=Europe/Berlin:20250527T163000
DTEND;TZID=Europe/Berlin:20250527T180000
DTSTAMP:20260424T113610
CREATED:20240123T122103Z
LAST-MODIFIED:20250128T134748Z
UID:10007249-1748363400-1748368800@s130056251.online.de
SUMMARY:Boxtraining
DESCRIPTION:Jeden Dienstag findet um 16:30 Uhr das Boxtraining mit Eric statt.
URL:http://s130056251.online.de/event/boxtraining-2/2025-05-27/
LOCATION:U5\, Auerbacher Ring 25\, Berlin\, Berlin\, 12619\, Germany
ATTACH;FMTTYPE=image/png:http://s130056251.online.de/wp-content/uploads/2024/01/Boxing-Night-Instagram-Story.png
ORGANIZER;CN="U5":MAILTO:u5@eastend-berlin.com
END:VEVENT
BEGIN:VEVENT
DTSTART;TZID=Europe/Berlin:20250527T150000
DTEND;TZID=Europe/Berlin:20250527T170000
DTSTAMP:20260424T113610
CREATED:20250121T181802Z
LAST-MODIFIED:20250121T181802Z
UID:10007158-1748358000-1748365200@s130056251.online.de
SUMMARY:Gesundes Kochen
DESCRIPTION:Wir probieren eure Rezeptwünsche aus.
URL:http://s130056251.online.de/event/gesundes-kochen/2025-05-27/
LOCATION:U5\, Auerbacher Ring 25\, Berlin\, Berlin\, 12619\, Germany
ORGANIZER;CN="U5":MAILTO:u5@eastend-berlin.com
END:VEVENT
BEGIN:VEVENT
DTSTART;TZID=Europe/Berlin:20250520T163000
DTEND;TZID=Europe/Berlin:20250520T180000
DTSTAMP:20260424T113610
CREATED:20240123T122103Z
LAST-MODIFIED:20250128T134748Z
UID:10007248-1747758600-1747764000@s130056251.online.de
SUMMARY:Boxtraining
DESCRIPTION:Jeden Dienstag findet um 16:30 Uhr das Boxtraining mit Eric statt.
URL:http://s130056251.online.de/event/boxtraining-2/2025-05-20/
LOCATION:U5\, Auerbacher Ring 25\, Berlin\, Berlin\, 12619\, Germany
ATTACH;FMTTYPE=image/png:http://s130056251.online.de/wp-content/uploads/2024/01/Boxing-Night-Instagram-Story.png
ORGANIZER;CN="U5":MAILTO:u5@eastend-berlin.com
END:VEVENT
BEGIN:VEVENT
DTSTART;TZID=Europe/Berlin:20250520T150000
DTEND;TZID=Europe/Berlin:20250520T170000
DTSTAMP:20260424T113610
CREATED:20250121T181802Z
LAST-MODIFIED:20250121T181802Z
UID:10007157-1747753200-1747760400@s130056251.online.de
SUMMARY:Gesundes Kochen
DESCRIPTION:Wir probieren eure Rezeptwünsche aus.
URL:http://s130056251.online.de/event/gesundes-kochen/2025-05-20/
LOCATION:U5\, Auerbacher Ring 25\, Berlin\, Berlin\, 12619\, Germany
ORGANIZER;CN="U5":MAILTO:u5@eastend-berlin.com
END:VEVENT
BEGIN:VEVENT
DTSTART;TZID=Europe/Berlin:20250513T163000
DTEND;TZID=Europe/Berlin:20250513T180000
DTSTAMP:20260424T113610
CREATED:20240123T122103Z
LAST-MODIFIED:20250128T134748Z
UID:10007247-1747153800-1747159200@s130056251.online.de
SUMMARY:Boxtraining
DESCRIPTION:Jeden Dienstag findet um 16:30 Uhr das Boxtraining mit Eric statt.
URL:http://s130056251.online.de/event/boxtraining-2/2025-05-13/
LOCATION:U5\, Auerbacher Ring 25\, Berlin\, Berlin\, 12619\, Germany
ATTACH;FMTTYPE=image/png:http://s130056251.online.de/wp-content/uploads/2024/01/Boxing-Night-Instagram-Story.png
ORGANIZER;CN="U5":MAILTO:u5@eastend-berlin.com
END:VEVENT
BEGIN:VEVENT
DTSTART;TZID=Europe/Berlin:20250513T150000
DTEND;TZID=Europe/Berlin:20250513T170000
DTSTAMP:20260424T113610
CREATED:20250121T181802Z
LAST-MODIFIED:20250121T181802Z
UID:10007156-1747148400-1747155600@s130056251.online.de
SUMMARY:Gesundes Kochen
DESCRIPTION:Wir probieren eure Rezeptwünsche aus.
URL:http://s130056251.online.de/event/gesundes-kochen/2025-05-13/
LOCATION:U5\, Auerbacher Ring 25\, Berlin\, Berlin\, 12619\, Germany
ORGANIZER;CN="U5":MAILTO:u5@eastend-berlin.com
END:VEVENT
BEGIN:VEVENT
DTSTART;TZID=Europe/Berlin:20250506T163000
DTEND;TZID=Europe/Berlin:20250506T180000
DTSTAMP:20260424T113610
CREATED:20240123T122103Z
LAST-MODIFIED:20250128T134748Z
UID:10007246-1746549000-1746554400@s130056251.online.de
SUMMARY:Boxtraining
DESCRIPTION:Jeden Dienstag findet um 16:30 Uhr das Boxtraining mit Eric statt.
URL:http://s130056251.online.de/event/boxtraining-2/2025-05-06/
LOCATION:U5\, Auerbacher Ring 25\, Berlin\, Berlin\, 12619\, Germany
ATTACH;FMTTYPE=image/png:http://s130056251.online.de/wp-content/uploads/2024/01/Boxing-Night-Instagram-Story.png
ORGANIZER;CN="U5":MAILTO:u5@eastend-berlin.com
END:VEVENT
BEGIN:VEVENT
DTSTART;TZID=Europe/Berlin:20250506T150000
DTEND;TZID=Europe/Berlin:20250506T170000
DTSTAMP:20260424T113610
CREATED:20250121T181802Z
LAST-MODIFIED:20250121T181802Z
UID:10007155-1746543600-1746550800@s130056251.online.de
SUMMARY:Gesundes Kochen
DESCRIPTION:Wir probieren eure Rezeptwünsche aus.
URL:http://s130056251.online.de/event/gesundes-kochen/2025-05-06/
LOCATION:U5\, Auerbacher Ring 25\, Berlin\, Berlin\, 12619\, Germany
ORGANIZER;CN="U5":MAILTO:u5@eastend-berlin.com
END:VEVENT
BEGIN:VEVENT
DTSTART;TZID=Europe/Berlin:20250429T163000
DTEND;TZID=Europe/Berlin:20250429T180000
DTSTAMP:20260424T113610
CREATED:20240123T122103Z
LAST-MODIFIED:20250128T134748Z
UID:10007245-1745944200-1745949600@s130056251.online.de
SUMMARY:Boxtraining
DESCRIPTION:Jeden Dienstag findet um 16:30 Uhr das Boxtraining mit Eric statt.
URL:http://s130056251.online.de/event/boxtraining-2/2025-04-29/
LOCATION:U5\, Auerbacher Ring 25\, Berlin\, Berlin\, 12619\, Germany
ATTACH;FMTTYPE=image/png:http://s130056251.online.de/wp-content/uploads/2024/01/Boxing-Night-Instagram-Story.png
ORGANIZER;CN="U5":MAILTO:u5@eastend-berlin.com
END:VEVENT
BEGIN:VEVENT
DTSTART;TZID=Europe/Berlin:20250429T150000
DTEND;TZID=Europe/Berlin:20250429T170000
DTSTAMP:20260424T113610
CREATED:20250121T181802Z
LAST-MODIFIED:20250121T181802Z
UID:10007154-1745938800-1745946000@s130056251.online.de
SUMMARY:Gesundes Kochen
DESCRIPTION:Wir probieren eure Rezeptwünsche aus.
URL:http://s130056251.online.de/event/gesundes-kochen/2025-04-29/
LOCATION:U5\, Auerbacher Ring 25\, Berlin\, Berlin\, 12619\, Germany
ORGANIZER;CN="U5":MAILTO:u5@eastend-berlin.com
END:VEVENT
BEGIN:VEVENT
DTSTART;TZID=Europe/Berlin:20250422T163000
DTEND;TZID=Europe/Berlin:20250422T180000
DTSTAMP:20260424T113610
CREATED:20240123T122103Z
LAST-MODIFIED:20250128T134748Z
UID:10007244-1745339400-1745344800@s130056251.online.de
SUMMARY:Boxtraining
DESCRIPTION:Jeden Dienstag findet um 16:30 Uhr das Boxtraining mit Eric statt.
URL:http://s130056251.online.de/event/boxtraining-2/2025-04-22/
LOCATION:U5\, Auerbacher Ring 25\, Berlin\, Berlin\, 12619\, Germany
ATTACH;FMTTYPE=image/png:http://s130056251.online.de/wp-content/uploads/2024/01/Boxing-Night-Instagram-Story.png
ORGANIZER;CN="U5":MAILTO:u5@eastend-berlin.com
END:VEVENT
BEGIN:VEVENT
DTSTART;TZID=Europe/Berlin:20250422T150000
DTEND;TZID=Europe/Berlin:20250422T170000
DTSTAMP:20260424T113610
CREATED:20250121T181802Z
LAST-MODIFIED:20250121T181802Z
UID:10007153-1745334000-1745341200@s130056251.online.de
SUMMARY:Gesundes Kochen
DESCRIPTION:Wir probieren eure Rezeptwünsche aus.
URL:http://s130056251.online.de/event/gesundes-kochen/2025-04-22/
LOCATION:U5\, Auerbacher Ring 25\, Berlin\, Berlin\, 12619\, Germany
ORGANIZER;CN="U5":MAILTO:u5@eastend-berlin.com
END:VEVENT
BEGIN:VEVENT
DTSTART;TZID=Europe/Berlin:20250415T163000
DTEND;TZID=Europe/Berlin:20250415T180000
DTSTAMP:20260424T113610
CREATED:20240123T122103Z
LAST-MODIFIED:20250128T134748Z
UID:10007243-1744734600-1744740000@s130056251.online.de
SUMMARY:Boxtraining
DESCRIPTION:Jeden Dienstag findet um 16:30 Uhr das Boxtraining mit Eric statt.
URL:http://s130056251.online.de/event/boxtraining-2/2025-04-15/
LOCATION:U5\, Auerbacher Ring 25\, Berlin\, Berlin\, 12619\, Germany
ATTACH;FMTTYPE=image/png:http://s130056251.online.de/wp-content/uploads/2024/01/Boxing-Night-Instagram-Story.png
ORGANIZER;CN="U5":MAILTO:u5@eastend-berlin.com
END:VEVENT
BEGIN:VEVENT
DTSTART;TZID=Europe/Berlin:20250415T150000
DTEND;TZID=Europe/Berlin:20250415T170000
DTSTAMP:20260424T113610
CREATED:20250121T181802Z
LAST-MODIFIED:20250121T181802Z
UID:10007152-1744729200-1744736400@s130056251.online.de
SUMMARY:Gesundes Kochen
DESCRIPTION:Wir probieren eure Rezeptwünsche aus.
URL:http://s130056251.online.de/event/gesundes-kochen/2025-04-15/
LOCATION:U5\, Auerbacher Ring 25\, Berlin\, Berlin\, 12619\, Germany
ORGANIZER;CN="U5":MAILTO:u5@eastend-berlin.com
END:VEVENT
BEGIN:VEVENT
DTSTART;TZID=Europe/Berlin:20250408T163000
DTEND;TZID=Europe/Berlin:20250408T180000
DTSTAMP:20260424T113610
CREATED:20240123T122103Z
LAST-MODIFIED:20250128T134748Z
UID:10007242-1744129800-1744135200@s130056251.online.de
SUMMARY:Boxtraining
DESCRIPTION:Jeden Dienstag findet um 16:30 Uhr das Boxtraining mit Eric statt.
URL:http://s130056251.online.de/event/boxtraining-2/2025-04-08/
LOCATION:U5\, Auerbacher Ring 25\, Berlin\, Berlin\, 12619\, Germany
ATTACH;FMTTYPE=image/png:http://s130056251.online.de/wp-content/uploads/2024/01/Boxing-Night-Instagram-Story.png
ORGANIZER;CN="U5":MAILTO:u5@eastend-berlin.com
END:VEVENT
BEGIN:VEVENT
DTSTART;TZID=Europe/Berlin:20250408T150000
DTEND;TZID=Europe/Berlin:20250408T170000
DTSTAMP:20260424T113610
CREATED:20250121T181802Z
LAST-MODIFIED:20250121T181802Z
UID:10007151-1744124400-1744131600@s130056251.online.de
SUMMARY:Gesundes Kochen
DESCRIPTION:Wir probieren eure Rezeptwünsche aus.
URL:http://s130056251.online.de/event/gesundes-kochen/2025-04-08/
LOCATION:U5\, Auerbacher Ring 25\, Berlin\, Berlin\, 12619\, Germany
ORGANIZER;CN="U5":MAILTO:u5@eastend-berlin.com
END:VEVENT
END:VCALENDAR