BEGIN:VCALENDAR
VERSION:2.0
PRODID:-//Was geht in Hellersdorf - ECPv6.1.2.2//NONSGML v1.0//EN
CALSCALE:GREGORIAN
METHOD:PUBLISH
X-WR-CALNAME:Was geht in Hellersdorf
X-ORIGINAL-URL:http://s130056251.online.de
X-WR-CALDESC:Veranstaltungen für Was geht in Hellersdorf
REFRESH-INTERVAL;VALUE=DURATION:PT1H
X-Robots-Tag:noindex
X-PUBLISHED-TTL:PT1H
BEGIN:VTIMEZONE
TZID:Europe/Berlin
BEGIN:DAYLIGHT
TZOFFSETFROM:+0100
TZOFFSETTO:+0200
TZNAME:CEST
DTSTART:20230326T010000
END:DAYLIGHT
BEGIN:STANDARD
TZOFFSETFROM:+0200
TZOFFSETTO:+0100
TZNAME:CET
DTSTART:20231029T010000
END:STANDARD
END:VTIMEZONE
BEGIN:VEVENT
DTSTART;TZID=Europe/Berlin:20230406T130000
DTEND;TZID=Europe/Berlin:20230406T170000
DTSTAMP:20260424T180126
CREATED:20230328T125008Z
LAST-MODIFIED:20230328T130255Z
UID:10000348-1680786000-1680800400@s130056251.online.de
SUMMARY:Tischtennisspiel
DESCRIPTION:Tischtennisspielen für gross und klein
URL:http://s130056251.online.de/event/tischtennisspiel/2023-04-06/
LOCATION:Buntes Haus\, Hellersdorfer Promenade 14\, Berlin\, Berlin\, 12627\, Germany
END:VEVENT
BEGIN:VEVENT
DTSTART;TZID=Europe/Berlin:20230417T130000
DTEND;TZID=Europe/Berlin:20230417T160000
DTSTAMP:20260424T180126
CREATED:20230331T114331Z
LAST-MODIFIED:20230331T114331Z
UID:10000399-1681736400-1681747200@s130056251.online.de
SUMMARY:Kreativnachmittag
DESCRIPTION:Basteln\, Malen\, Experimentieren und mehr.
URL:http://s130056251.online.de/event/kreativnachmittag/2023-04-17/
LOCATION:Buntes Haus\, Hellersdorfer Promenade 14\, Berlin\, Berlin\, 12627\, Germany
END:VEVENT
BEGIN:VEVENT
DTSTART;TZID=Europe/Berlin:20230421T150000
DTEND;TZID=Europe/Berlin:20230421T170000
DTSTAMP:20260424T180126
CREATED:20230331T114105Z
LAST-MODIFIED:20230331T114105Z
UID:10000349-1682089200-1682096400@s130056251.online.de
SUMMARY:Kochen oder Backen im Bunten Haus
DESCRIPTION:Heute kochen oder backen wir gemeinsam\, vegetarisch und lecker.
URL:http://s130056251.online.de/event/kochen-oder-backen-im-bunten-haus/2023-04-21/
LOCATION:Buntes Haus\, Hellersdorfer Promenade 14\, Berlin\, Berlin\, 12627\, Germany
END:VEVENT
BEGIN:VEVENT
DTSTART;TZID=Europe/Berlin:20230424T130000
DTEND;TZID=Europe/Berlin:20230424T160000
DTSTAMP:20260424T180126
CREATED:20230331T114331Z
LAST-MODIFIED:20230331T114331Z
UID:10000400-1682341200-1682352000@s130056251.online.de
SUMMARY:Kreativnachmittag
DESCRIPTION:Basteln\, Malen\, Experimentieren und mehr.
URL:http://s130056251.online.de/event/kreativnachmittag/2023-04-24/
LOCATION:Buntes Haus\, Hellersdorfer Promenade 14\, Berlin\, Berlin\, 12627\, Germany
END:VEVENT
BEGIN:VEVENT
DTSTART;TZID=Europe/Berlin:20230428T150000
DTEND;TZID=Europe/Berlin:20230428T170000
DTSTAMP:20260424T180126
CREATED:20230331T114105Z
LAST-MODIFIED:20230331T114105Z
UID:10000350-1682694000-1682701200@s130056251.online.de
SUMMARY:Kochen oder Backen im Bunten Haus
DESCRIPTION:Heute kochen oder backen wir gemeinsam\, vegetarisch und lecker.
URL:http://s130056251.online.de/event/kochen-oder-backen-im-bunten-haus/2023-04-28/
LOCATION:Buntes Haus\, Hellersdorfer Promenade 14\, Berlin\, Berlin\, 12627\, Germany
END:VEVENT
BEGIN:VEVENT
DTSTART;TZID=Europe/Berlin:20230501T130000
DTEND;TZID=Europe/Berlin:20230501T160000
DTSTAMP:20260424T180126
CREATED:20230331T114331Z
LAST-MODIFIED:20230331T114331Z
UID:10000401-1682946000-1682956800@s130056251.online.de
SUMMARY:Kreativnachmittag
DESCRIPTION:Basteln\, Malen\, Experimentieren und mehr.
URL:http://s130056251.online.de/event/kreativnachmittag/2023-05-01/
LOCATION:Buntes Haus\, Hellersdorfer Promenade 14\, Berlin\, Berlin\, 12627\, Germany
END:VEVENT
BEGIN:VEVENT
DTSTART;TZID=Europe/Berlin:20230505T150000
DTEND;TZID=Europe/Berlin:20230505T170000
DTSTAMP:20260424T180126
CREATED:20230331T114105Z
LAST-MODIFIED:20230331T114105Z
UID:10000351-1683298800-1683306000@s130056251.online.de
SUMMARY:Kochen oder Backen im Bunten Haus
DESCRIPTION:Heute kochen oder backen wir gemeinsam\, vegetarisch und lecker.
URL:http://s130056251.online.de/event/kochen-oder-backen-im-bunten-haus/2023-05-05/
LOCATION:Buntes Haus\, Hellersdorfer Promenade 14\, Berlin\, Berlin\, 12627\, Germany
END:VEVENT
BEGIN:VEVENT
DTSTART;TZID=Europe/Berlin:20230508T130000
DTEND;TZID=Europe/Berlin:20230508T160000
DTSTAMP:20260424T180126
CREATED:20230331T114331Z
LAST-MODIFIED:20230331T114331Z
UID:10000402-1683550800-1683561600@s130056251.online.de
SUMMARY:Kreativnachmittag
DESCRIPTION:Basteln\, Malen\, Experimentieren und mehr.
URL:http://s130056251.online.de/event/kreativnachmittag/2023-05-08/
LOCATION:Buntes Haus\, Hellersdorfer Promenade 14\, Berlin\, Berlin\, 12627\, Germany
END:VEVENT
BEGIN:VEVENT
DTSTART;TZID=Europe/Berlin:20230512T150000
DTEND;TZID=Europe/Berlin:20230512T170000
DTSTAMP:20260424T180126
CREATED:20230331T114105Z
LAST-MODIFIED:20230331T114105Z
UID:10000352-1683903600-1683910800@s130056251.online.de
SUMMARY:Kochen oder Backen im Bunten Haus
DESCRIPTION:Heute kochen oder backen wir gemeinsam\, vegetarisch und lecker.
URL:http://s130056251.online.de/event/kochen-oder-backen-im-bunten-haus/2023-05-12/
LOCATION:Buntes Haus\, Hellersdorfer Promenade 14\, Berlin\, Berlin\, 12627\, Germany
END:VEVENT
BEGIN:VEVENT
DTSTART;TZID=Europe/Berlin:20230515T130000
DTEND;TZID=Europe/Berlin:20230515T160000
DTSTAMP:20260424T180126
CREATED:20230331T114331Z
LAST-MODIFIED:20230331T114331Z
UID:10000403-1684155600-1684166400@s130056251.online.de
SUMMARY:Kreativnachmittag
DESCRIPTION:Basteln\, Malen\, Experimentieren und mehr.
URL:http://s130056251.online.de/event/kreativnachmittag/2023-05-15/
LOCATION:Buntes Haus\, Hellersdorfer Promenade 14\, Berlin\, Berlin\, 12627\, Germany
END:VEVENT
BEGIN:VEVENT
DTSTART;TZID=Europe/Berlin:20230519T150000
DTEND;TZID=Europe/Berlin:20230519T170000
DTSTAMP:20260424T180126
CREATED:20230331T114105Z
LAST-MODIFIED:20230331T114105Z
UID:10000353-1684508400-1684515600@s130056251.online.de
SUMMARY:Kochen oder Backen im Bunten Haus
DESCRIPTION:Heute kochen oder backen wir gemeinsam\, vegetarisch und lecker.
URL:http://s130056251.online.de/event/kochen-oder-backen-im-bunten-haus/2023-05-19/
LOCATION:Buntes Haus\, Hellersdorfer Promenade 14\, Berlin\, Berlin\, 12627\, Germany
END:VEVENT
BEGIN:VEVENT
DTSTART;TZID=Europe/Berlin:20230522T130000
DTEND;TZID=Europe/Berlin:20230522T160000
DTSTAMP:20260424T180126
CREATED:20230331T114331Z
LAST-MODIFIED:20230331T114331Z
UID:10000404-1684760400-1684771200@s130056251.online.de
SUMMARY:Kreativnachmittag
DESCRIPTION:Basteln\, Malen\, Experimentieren und mehr.
URL:http://s130056251.online.de/event/kreativnachmittag/2023-05-22/
LOCATION:Buntes Haus\, Hellersdorfer Promenade 14\, Berlin\, Berlin\, 12627\, Germany
END:VEVENT
BEGIN:VEVENT
DTSTART;TZID=Europe/Berlin:20230526T150000
DTEND;TZID=Europe/Berlin:20230526T170000
DTSTAMP:20260424T180126
CREATED:20230331T114105Z
LAST-MODIFIED:20230331T114105Z
UID:10000354-1685113200-1685120400@s130056251.online.de
SUMMARY:Kochen oder Backen im Bunten Haus
DESCRIPTION:Heute kochen oder backen wir gemeinsam\, vegetarisch und lecker.
URL:http://s130056251.online.de/event/kochen-oder-backen-im-bunten-haus/2023-05-26/
LOCATION:Buntes Haus\, Hellersdorfer Promenade 14\, Berlin\, Berlin\, 12627\, Germany
END:VEVENT
BEGIN:VEVENT
DTSTART;TZID=Europe/Berlin:20230529T130000
DTEND;TZID=Europe/Berlin:20230529T160000
DTSTAMP:20260424T180126
CREATED:20230331T114331Z
LAST-MODIFIED:20230331T114331Z
UID:10000405-1685365200-1685376000@s130056251.online.de
SUMMARY:Kreativnachmittag
DESCRIPTION:Basteln\, Malen\, Experimentieren und mehr.
URL:http://s130056251.online.de/event/kreativnachmittag/2023-05-29/
LOCATION:Buntes Haus\, Hellersdorfer Promenade 14\, Berlin\, Berlin\, 12627\, Germany
END:VEVENT
BEGIN:VEVENT
DTSTART;TZID=Europe/Berlin:20230602T150000
DTEND;TZID=Europe/Berlin:20230602T170000
DTSTAMP:20260424T180126
CREATED:20230331T114105Z
LAST-MODIFIED:20230331T114105Z
UID:10000355-1685718000-1685725200@s130056251.online.de
SUMMARY:Kochen oder Backen im Bunten Haus
DESCRIPTION:Heute kochen oder backen wir gemeinsam\, vegetarisch und lecker.
URL:http://s130056251.online.de/event/kochen-oder-backen-im-bunten-haus/2023-06-02/
LOCATION:Buntes Haus\, Hellersdorfer Promenade 14\, Berlin\, Berlin\, 12627\, Germany
END:VEVENT
BEGIN:VEVENT
DTSTART;TZID=Europe/Berlin:20230605T130000
DTEND;TZID=Europe/Berlin:20230605T160000
DTSTAMP:20260424T180126
CREATED:20230331T114331Z
LAST-MODIFIED:20230331T114331Z
UID:10000406-1685970000-1685980800@s130056251.online.de
SUMMARY:Kreativnachmittag
DESCRIPTION:Basteln\, Malen\, Experimentieren und mehr.
URL:http://s130056251.online.de/event/kreativnachmittag/2023-06-05/
LOCATION:Buntes Haus\, Hellersdorfer Promenade 14\, Berlin\, Berlin\, 12627\, Germany
END:VEVENT
BEGIN:VEVENT
DTSTART;TZID=Europe/Berlin:20230609T150000
DTEND;TZID=Europe/Berlin:20230609T170000
DTSTAMP:20260424T180126
CREATED:20230331T114105Z
LAST-MODIFIED:20230331T114105Z
UID:10000356-1686322800-1686330000@s130056251.online.de
SUMMARY:Kochen oder Backen im Bunten Haus
DESCRIPTION:Heute kochen oder backen wir gemeinsam\, vegetarisch und lecker.
URL:http://s130056251.online.de/event/kochen-oder-backen-im-bunten-haus/2023-06-09/
LOCATION:Buntes Haus\, Hellersdorfer Promenade 14\, Berlin\, Berlin\, 12627\, Germany
END:VEVENT
BEGIN:VEVENT
DTSTART;TZID=Europe/Berlin:20230612T130000
DTEND;TZID=Europe/Berlin:20230612T160000
DTSTAMP:20260424T180126
CREATED:20230331T114331Z
LAST-MODIFIED:20230331T114331Z
UID:10000407-1686574800-1686585600@s130056251.online.de
SUMMARY:Kreativnachmittag
DESCRIPTION:Basteln\, Malen\, Experimentieren und mehr.
URL:http://s130056251.online.de/event/kreativnachmittag/2023-06-12/
LOCATION:Buntes Haus\, Hellersdorfer Promenade 14\, Berlin\, Berlin\, 12627\, Germany
END:VEVENT
BEGIN:VEVENT
DTSTART;TZID=Europe/Berlin:20230616T150000
DTEND;TZID=Europe/Berlin:20230616T170000
DTSTAMP:20260424T180126
CREATED:20230331T114105Z
LAST-MODIFIED:20230331T114105Z
UID:10000357-1686927600-1686934800@s130056251.online.de
SUMMARY:Kochen oder Backen im Bunten Haus
DESCRIPTION:Heute kochen oder backen wir gemeinsam\, vegetarisch und lecker.
URL:http://s130056251.online.de/event/kochen-oder-backen-im-bunten-haus/2023-06-16/
LOCATION:Buntes Haus\, Hellersdorfer Promenade 14\, Berlin\, Berlin\, 12627\, Germany
END:VEVENT
BEGIN:VEVENT
DTSTART;TZID=Europe/Berlin:20230619T130000
DTEND;TZID=Europe/Berlin:20230619T160000
DTSTAMP:20260424T180126
CREATED:20230331T114331Z
LAST-MODIFIED:20230331T114331Z
UID:10000408-1687179600-1687190400@s130056251.online.de
SUMMARY:Kreativnachmittag
DESCRIPTION:Basteln\, Malen\, Experimentieren und mehr.
URL:http://s130056251.online.de/event/kreativnachmittag/2023-06-19/
LOCATION:Buntes Haus\, Hellersdorfer Promenade 14\, Berlin\, Berlin\, 12627\, Germany
END:VEVENT
BEGIN:VEVENT
DTSTART;TZID=Europe/Berlin:20230623T150000
DTEND;TZID=Europe/Berlin:20230623T170000
DTSTAMP:20260424T180126
CREATED:20230331T114105Z
LAST-MODIFIED:20230331T114105Z
UID:10000358-1687532400-1687539600@s130056251.online.de
SUMMARY:Kochen oder Backen im Bunten Haus
DESCRIPTION:Heute kochen oder backen wir gemeinsam\, vegetarisch und lecker.
URL:http://s130056251.online.de/event/kochen-oder-backen-im-bunten-haus/2023-06-23/
LOCATION:Buntes Haus\, Hellersdorfer Promenade 14\, Berlin\, Berlin\, 12627\, Germany
END:VEVENT
BEGIN:VEVENT
DTSTART;TZID=Europe/Berlin:20230626T130000
DTEND;TZID=Europe/Berlin:20230626T160000
DTSTAMP:20260424T180126
CREATED:20230331T114331Z
LAST-MODIFIED:20230331T114331Z
UID:10000409-1687784400-1687795200@s130056251.online.de
SUMMARY:Kreativnachmittag
DESCRIPTION:Basteln\, Malen\, Experimentieren und mehr.
URL:http://s130056251.online.de/event/kreativnachmittag/2023-06-26/
LOCATION:Buntes Haus\, Hellersdorfer Promenade 14\, Berlin\, Berlin\, 12627\, Germany
END:VEVENT
BEGIN:VEVENT
DTSTART;TZID=Europe/Berlin:20230630T150000
DTEND;TZID=Europe/Berlin:20230630T170000
DTSTAMP:20260424T180126
CREATED:20230331T114105Z
LAST-MODIFIED:20230331T114105Z
UID:10000359-1688137200-1688144400@s130056251.online.de
SUMMARY:Kochen oder Backen im Bunten Haus
DESCRIPTION:Heute kochen oder backen wir gemeinsam\, vegetarisch und lecker.
URL:http://s130056251.online.de/event/kochen-oder-backen-im-bunten-haus/2023-06-30/
LOCATION:Buntes Haus\, Hellersdorfer Promenade 14\, Berlin\, Berlin\, 12627\, Germany
END:VEVENT
BEGIN:VEVENT
DTSTART;TZID=Europe/Berlin:20230703T130000
DTEND;TZID=Europe/Berlin:20230703T160000
DTSTAMP:20260424T180126
CREATED:20230331T114331Z
LAST-MODIFIED:20230331T114331Z
UID:10000410-1688389200-1688400000@s130056251.online.de
SUMMARY:Kreativnachmittag
DESCRIPTION:Basteln\, Malen\, Experimentieren und mehr.
URL:http://s130056251.online.de/event/kreativnachmittag/2023-07-03/
LOCATION:Buntes Haus\, Hellersdorfer Promenade 14\, Berlin\, Berlin\, 12627\, Germany
END:VEVENT
BEGIN:VEVENT
DTSTART;TZID=Europe/Berlin:20230707T150000
DTEND;TZID=Europe/Berlin:20230707T170000
DTSTAMP:20260424T180126
CREATED:20230331T114105Z
LAST-MODIFIED:20230331T114105Z
UID:10000360-1688742000-1688749200@s130056251.online.de
SUMMARY:Kochen oder Backen im Bunten Haus
DESCRIPTION:Heute kochen oder backen wir gemeinsam\, vegetarisch und lecker.
URL:http://s130056251.online.de/event/kochen-oder-backen-im-bunten-haus/2023-07-07/
LOCATION:Buntes Haus\, Hellersdorfer Promenade 14\, Berlin\, Berlin\, 12627\, Germany
END:VEVENT
BEGIN:VEVENT
DTSTART;TZID=Europe/Berlin:20230710T130000
DTEND;TZID=Europe/Berlin:20230710T160000
DTSTAMP:20260424T180126
CREATED:20230331T114331Z
LAST-MODIFIED:20230331T114331Z
UID:10000411-1688994000-1689004800@s130056251.online.de
SUMMARY:Kreativnachmittag
DESCRIPTION:Basteln\, Malen\, Experimentieren und mehr.
URL:http://s130056251.online.de/event/kreativnachmittag/2023-07-10/
LOCATION:Buntes Haus\, Hellersdorfer Promenade 14\, Berlin\, Berlin\, 12627\, Germany
END:VEVENT
BEGIN:VEVENT
DTSTART;TZID=Europe/Berlin:20230714T150000
DTEND;TZID=Europe/Berlin:20230714T170000
DTSTAMP:20260424T180126
CREATED:20230331T114105Z
LAST-MODIFIED:20230331T114105Z
UID:10000361-1689346800-1689354000@s130056251.online.de
SUMMARY:Kochen oder Backen im Bunten Haus
DESCRIPTION:Heute kochen oder backen wir gemeinsam\, vegetarisch und lecker.
URL:http://s130056251.online.de/event/kochen-oder-backen-im-bunten-haus/2023-07-14/
LOCATION:Buntes Haus\, Hellersdorfer Promenade 14\, Berlin\, Berlin\, 12627\, Germany
END:VEVENT
BEGIN:VEVENT
DTSTART;TZID=Europe/Berlin:20230717T130000
DTEND;TZID=Europe/Berlin:20230717T160000
DTSTAMP:20260424T180126
CREATED:20230331T114331Z
LAST-MODIFIED:20230331T114331Z
UID:10000412-1689598800-1689609600@s130056251.online.de
SUMMARY:Kreativnachmittag
DESCRIPTION:Basteln\, Malen\, Experimentieren und mehr.
URL:http://s130056251.online.de/event/kreativnachmittag/2023-07-17/
LOCATION:Buntes Haus\, Hellersdorfer Promenade 14\, Berlin\, Berlin\, 12627\, Germany
END:VEVENT
BEGIN:VEVENT
DTSTART;TZID=Europe/Berlin:20230721T150000
DTEND;TZID=Europe/Berlin:20230721T170000
DTSTAMP:20260424T180126
CREATED:20230331T114105Z
LAST-MODIFIED:20230331T114105Z
UID:10000362-1689951600-1689958800@s130056251.online.de
SUMMARY:Kochen oder Backen im Bunten Haus
DESCRIPTION:Heute kochen oder backen wir gemeinsam\, vegetarisch und lecker.
URL:http://s130056251.online.de/event/kochen-oder-backen-im-bunten-haus/2023-07-21/
LOCATION:Buntes Haus\, Hellersdorfer Promenade 14\, Berlin\, Berlin\, 12627\, Germany
END:VEVENT
BEGIN:VEVENT
DTSTART;TZID=Europe/Berlin:20230724T130000
DTEND;TZID=Europe/Berlin:20230724T160000
DTSTAMP:20260424T180126
CREATED:20230331T114331Z
LAST-MODIFIED:20230331T114331Z
UID:10000413-1690203600-1690214400@s130056251.online.de
SUMMARY:Kreativnachmittag
DESCRIPTION:Basteln\, Malen\, Experimentieren und mehr.
URL:http://s130056251.online.de/event/kreativnachmittag/2023-07-24/
LOCATION:Buntes Haus\, Hellersdorfer Promenade 14\, Berlin\, Berlin\, 12627\, Germany
END:VEVENT
END:VCALENDAR