BEGIN:VCALENDAR
VERSION:2.0
PRODID:-//Was geht in Hellersdorf - ECPv6.1.2.2//NONSGML v1.0//EN
CALSCALE:GREGORIAN
METHOD:PUBLISH
X-ORIGINAL-URL:http://s130056251.online.de
X-WR-CALDESC:Veranstaltungen für Was geht in Hellersdorf
REFRESH-INTERVAL;VALUE=DURATION:PT1H
X-Robots-Tag:noindex
X-PUBLISHED-TTL:PT1H
BEGIN:VTIMEZONE
TZID:Europe/Berlin
BEGIN:DAYLIGHT
TZOFFSETFROM:+0100
TZOFFSETTO:+0200
TZNAME:CEST
DTSTART:20230326T010000
END:DAYLIGHT
BEGIN:STANDARD
TZOFFSETFROM:+0200
TZOFFSETTO:+0100
TZNAME:CET
DTSTART:20231029T010000
END:STANDARD
END:VTIMEZONE
BEGIN:VEVENT
DTSTART;TZID=Europe/Berlin:20230726T143000
DTEND;TZID=Europe/Berlin:20230726T170000
DTSTAMP:20260422T162322
CREATED:20230621T134742Z
LAST-MODIFIED:20230621T135835Z
UID:10002985-1690381800-1690390800@s130056251.online.de
SUMMARY:Filmnachmittag im CDF Schülerklub
DESCRIPTION:Lust gemeinsam Filme zu schauen? Dann komm doch einfach mal vorbei! Einmal die Woche veranstaltet der CDF Schülerklub einen Filmnachmittag\, hier können gemeinsam Filme geschaut werden und auch darüber geredet werden! Die Filme wechseln jede Woche und du kannst auch eigene Filmideen vorschlagen! Interessiert? Dann freuen wir uns dich und deine Freunde im CDF Schülerklub zum Filmnachmittag begrüßen zu dürfen!
URL:http://s130056251.online.de/event/filmnachmittag-im-cdf-schuelerklub/2023-07-26/
LOCATION:CDF Schülerklub\, Alte Hellersdorfer Straße 7\, Hellersdorf Nord\, 12629
END:VEVENT
BEGIN:VEVENT
DTSTART;TZID=Europe/Berlin:20230728T143000
DTEND;TZID=Europe/Berlin:20230728T170000
DTSTAMP:20260422T162322
CREATED:20230621T135642Z
LAST-MODIFIED:20230621T140644Z
UID:10002726-1690554600-1690563600@s130056251.online.de
SUMMARY:Gemeinsames Kochen im CDF Schülerklub
DESCRIPTION:Das Wochenende kann kommen und wir wollen es gemeinsam mit dir Begrüßen! Um das Wochenende einzuleiten\, wollen wir gemeinsam mit dir und deinen Freunden kochen und Essen. Wenn du jetzt also Hungrig geworden bist und Lust bekommen hast zu kochen dann komm doch einfach mal Freitags bei uns vorbei. Wenn du ausgefallene Ideen für Gerichte hast\, dann lass es uns gerne wissen. Also wir freuen uns darauf ich bei uns begrüßen zu dürfen!
URL:http://s130056251.online.de/event/gemeinsames-kochen-im-cdf-schuelerklub/2023-07-28/
LOCATION:CDF Schülerklub\, Alte Hellersdorfer Straße 7\, Hellersdorf Nord\, 12629
END:VEVENT
BEGIN:VEVENT
DTSTART;TZID=Europe/Berlin:20230731T143000
DTEND;TZID=Europe/Berlin:20230731T170000
DTSTAMP:20260422T162322
CREATED:20230621T133703Z
LAST-MODIFIED:20230621T135955Z
UID:10003246-1690813800-1690822800@s130056251.online.de
SUMMARY:Spielenachmittag im CDF Schülerklub
DESCRIPTION:Ihr habt Lust auf Dart\, Billard\, Kicker oder verschiedene Spiele? Dann seit ihr hier genau richtig! An unserem Spielenachmittag laden wir euch herzlich ein mit uns zu spielen. Start ist um 14:30 Uhr. Kommt gerne mit euren Freunden vorbei und verbringt einen schönen Nachmittag im Schülerklub der CDF.
URL:http://s130056251.online.de/event/spielenachmittag-im-cdf-schuelerklub/2023-07-31/
LOCATION:CDF Schülerklub\, Alte Hellersdorfer Straße 7\, Hellersdorf Nord\, 12629
END:VEVENT
BEGIN:VEVENT
DTSTART;TZID=Europe/Berlin:20230802T143000
DTEND;TZID=Europe/Berlin:20230802T170000
DTSTAMP:20260422T162322
CREATED:20230621T134742Z
LAST-MODIFIED:20230621T135835Z
UID:10002986-1690986600-1690995600@s130056251.online.de
SUMMARY:Filmnachmittag im CDF Schülerklub
DESCRIPTION:Lust gemeinsam Filme zu schauen? Dann komm doch einfach mal vorbei! Einmal die Woche veranstaltet der CDF Schülerklub einen Filmnachmittag\, hier können gemeinsam Filme geschaut werden und auch darüber geredet werden! Die Filme wechseln jede Woche und du kannst auch eigene Filmideen vorschlagen! Interessiert? Dann freuen wir uns dich und deine Freunde im CDF Schülerklub zum Filmnachmittag begrüßen zu dürfen!
URL:http://s130056251.online.de/event/filmnachmittag-im-cdf-schuelerklub/2023-08-02/
LOCATION:CDF Schülerklub\, Alte Hellersdorfer Straße 7\, Hellersdorf Nord\, 12629
END:VEVENT
BEGIN:VEVENT
DTSTART;TZID=Europe/Berlin:20230804T143000
DTEND;TZID=Europe/Berlin:20230804T170000
DTSTAMP:20260422T162322
CREATED:20230621T135642Z
LAST-MODIFIED:20230621T140644Z
UID:10002727-1691159400-1691168400@s130056251.online.de
SUMMARY:Gemeinsames Kochen im CDF Schülerklub
DESCRIPTION:Das Wochenende kann kommen und wir wollen es gemeinsam mit dir Begrüßen! Um das Wochenende einzuleiten\, wollen wir gemeinsam mit dir und deinen Freunden kochen und Essen. Wenn du jetzt also Hungrig geworden bist und Lust bekommen hast zu kochen dann komm doch einfach mal Freitags bei uns vorbei. Wenn du ausgefallene Ideen für Gerichte hast\, dann lass es uns gerne wissen. Also wir freuen uns darauf ich bei uns begrüßen zu dürfen!
URL:http://s130056251.online.de/event/gemeinsames-kochen-im-cdf-schuelerklub/2023-08-04/
LOCATION:CDF Schülerklub\, Alte Hellersdorfer Straße 7\, Hellersdorf Nord\, 12629
END:VEVENT
BEGIN:VEVENT
DTSTART;TZID=Europe/Berlin:20230807T143000
DTEND;TZID=Europe/Berlin:20230807T170000
DTSTAMP:20260422T162322
CREATED:20230621T133703Z
LAST-MODIFIED:20230621T135955Z
UID:10003247-1691418600-1691427600@s130056251.online.de
SUMMARY:Spielenachmittag im CDF Schülerklub
DESCRIPTION:Ihr habt Lust auf Dart\, Billard\, Kicker oder verschiedene Spiele? Dann seit ihr hier genau richtig! An unserem Spielenachmittag laden wir euch herzlich ein mit uns zu spielen. Start ist um 14:30 Uhr. Kommt gerne mit euren Freunden vorbei und verbringt einen schönen Nachmittag im Schülerklub der CDF.
URL:http://s130056251.online.de/event/spielenachmittag-im-cdf-schuelerklub/2023-08-07/
LOCATION:CDF Schülerklub\, Alte Hellersdorfer Straße 7\, Hellersdorf Nord\, 12629
END:VEVENT
BEGIN:VEVENT
DTSTART;TZID=Europe/Berlin:20230809T143000
DTEND;TZID=Europe/Berlin:20230809T170000
DTSTAMP:20260422T162322
CREATED:20230621T134742Z
LAST-MODIFIED:20230621T135835Z
UID:10002987-1691591400-1691600400@s130056251.online.de
SUMMARY:Filmnachmittag im CDF Schülerklub
DESCRIPTION:Lust gemeinsam Filme zu schauen? Dann komm doch einfach mal vorbei! Einmal die Woche veranstaltet der CDF Schülerklub einen Filmnachmittag\, hier können gemeinsam Filme geschaut werden und auch darüber geredet werden! Die Filme wechseln jede Woche und du kannst auch eigene Filmideen vorschlagen! Interessiert? Dann freuen wir uns dich und deine Freunde im CDF Schülerklub zum Filmnachmittag begrüßen zu dürfen!
URL:http://s130056251.online.de/event/filmnachmittag-im-cdf-schuelerklub/2023-08-09/
LOCATION:CDF Schülerklub\, Alte Hellersdorfer Straße 7\, Hellersdorf Nord\, 12629
END:VEVENT
BEGIN:VEVENT
DTSTART;TZID=Europe/Berlin:20230811T143000
DTEND;TZID=Europe/Berlin:20230811T170000
DTSTAMP:20260422T162322
CREATED:20230621T135642Z
LAST-MODIFIED:20230621T140644Z
UID:10002728-1691764200-1691773200@s130056251.online.de
SUMMARY:Gemeinsames Kochen im CDF Schülerklub
DESCRIPTION:Das Wochenende kann kommen und wir wollen es gemeinsam mit dir Begrüßen! Um das Wochenende einzuleiten\, wollen wir gemeinsam mit dir und deinen Freunden kochen und Essen. Wenn du jetzt also Hungrig geworden bist und Lust bekommen hast zu kochen dann komm doch einfach mal Freitags bei uns vorbei. Wenn du ausgefallene Ideen für Gerichte hast\, dann lass es uns gerne wissen. Also wir freuen uns darauf ich bei uns begrüßen zu dürfen!
URL:http://s130056251.online.de/event/gemeinsames-kochen-im-cdf-schuelerklub/2023-08-11/
LOCATION:CDF Schülerklub\, Alte Hellersdorfer Straße 7\, Hellersdorf Nord\, 12629
END:VEVENT
BEGIN:VEVENT
DTSTART;TZID=Europe/Berlin:20230814T143000
DTEND;TZID=Europe/Berlin:20230814T170000
DTSTAMP:20260422T162322
CREATED:20230621T133703Z
LAST-MODIFIED:20230621T135955Z
UID:10003248-1692023400-1692032400@s130056251.online.de
SUMMARY:Spielenachmittag im CDF Schülerklub
DESCRIPTION:Ihr habt Lust auf Dart\, Billard\, Kicker oder verschiedene Spiele? Dann seit ihr hier genau richtig! An unserem Spielenachmittag laden wir euch herzlich ein mit uns zu spielen. Start ist um 14:30 Uhr. Kommt gerne mit euren Freunden vorbei und verbringt einen schönen Nachmittag im Schülerklub der CDF.
URL:http://s130056251.online.de/event/spielenachmittag-im-cdf-schuelerklub/2023-08-14/
LOCATION:CDF Schülerklub\, Alte Hellersdorfer Straße 7\, Hellersdorf Nord\, 12629
END:VEVENT
BEGIN:VEVENT
DTSTART;TZID=Europe/Berlin:20230816T143000
DTEND;TZID=Europe/Berlin:20230816T170000
DTSTAMP:20260422T162322
CREATED:20230621T134742Z
LAST-MODIFIED:20230621T135835Z
UID:10002988-1692196200-1692205200@s130056251.online.de
SUMMARY:Filmnachmittag im CDF Schülerklub
DESCRIPTION:Lust gemeinsam Filme zu schauen? Dann komm doch einfach mal vorbei! Einmal die Woche veranstaltet der CDF Schülerklub einen Filmnachmittag\, hier können gemeinsam Filme geschaut werden und auch darüber geredet werden! Die Filme wechseln jede Woche und du kannst auch eigene Filmideen vorschlagen! Interessiert? Dann freuen wir uns dich und deine Freunde im CDF Schülerklub zum Filmnachmittag begrüßen zu dürfen!
URL:http://s130056251.online.de/event/filmnachmittag-im-cdf-schuelerklub/2023-08-16/
LOCATION:CDF Schülerklub\, Alte Hellersdorfer Straße 7\, Hellersdorf Nord\, 12629
END:VEVENT
BEGIN:VEVENT
DTSTART;TZID=Europe/Berlin:20230818T143000
DTEND;TZID=Europe/Berlin:20230818T170000
DTSTAMP:20260422T162322
CREATED:20230621T135642Z
LAST-MODIFIED:20230621T140644Z
UID:10002729-1692369000-1692378000@s130056251.online.de
SUMMARY:Gemeinsames Kochen im CDF Schülerklub
DESCRIPTION:Das Wochenende kann kommen und wir wollen es gemeinsam mit dir Begrüßen! Um das Wochenende einzuleiten\, wollen wir gemeinsam mit dir und deinen Freunden kochen und Essen. Wenn du jetzt also Hungrig geworden bist und Lust bekommen hast zu kochen dann komm doch einfach mal Freitags bei uns vorbei. Wenn du ausgefallene Ideen für Gerichte hast\, dann lass es uns gerne wissen. Also wir freuen uns darauf ich bei uns begrüßen zu dürfen!
URL:http://s130056251.online.de/event/gemeinsames-kochen-im-cdf-schuelerklub/2023-08-18/
LOCATION:CDF Schülerklub\, Alte Hellersdorfer Straße 7\, Hellersdorf Nord\, 12629
END:VEVENT
BEGIN:VEVENT
DTSTART;TZID=Europe/Berlin:20230821T143000
DTEND;TZID=Europe/Berlin:20230821T170000
DTSTAMP:20260422T162322
CREATED:20230621T133703Z
LAST-MODIFIED:20230621T135955Z
UID:10003249-1692628200-1692637200@s130056251.online.de
SUMMARY:Spielenachmittag im CDF Schülerklub
DESCRIPTION:Ihr habt Lust auf Dart\, Billard\, Kicker oder verschiedene Spiele? Dann seit ihr hier genau richtig! An unserem Spielenachmittag laden wir euch herzlich ein mit uns zu spielen. Start ist um 14:30 Uhr. Kommt gerne mit euren Freunden vorbei und verbringt einen schönen Nachmittag im Schülerklub der CDF.
URL:http://s130056251.online.de/event/spielenachmittag-im-cdf-schuelerklub/2023-08-21/
LOCATION:CDF Schülerklub\, Alte Hellersdorfer Straße 7\, Hellersdorf Nord\, 12629
END:VEVENT
BEGIN:VEVENT
DTSTART;TZID=Europe/Berlin:20230823T143000
DTEND;TZID=Europe/Berlin:20230823T170000
DTSTAMP:20260422T162322
CREATED:20230621T134742Z
LAST-MODIFIED:20230621T135835Z
UID:10002989-1692801000-1692810000@s130056251.online.de
SUMMARY:Filmnachmittag im CDF Schülerklub
DESCRIPTION:Lust gemeinsam Filme zu schauen? Dann komm doch einfach mal vorbei! Einmal die Woche veranstaltet der CDF Schülerklub einen Filmnachmittag\, hier können gemeinsam Filme geschaut werden und auch darüber geredet werden! Die Filme wechseln jede Woche und du kannst auch eigene Filmideen vorschlagen! Interessiert? Dann freuen wir uns dich und deine Freunde im CDF Schülerklub zum Filmnachmittag begrüßen zu dürfen!
URL:http://s130056251.online.de/event/filmnachmittag-im-cdf-schuelerklub/2023-08-23/
LOCATION:CDF Schülerklub\, Alte Hellersdorfer Straße 7\, Hellersdorf Nord\, 12629
END:VEVENT
BEGIN:VEVENT
DTSTART;TZID=Europe/Berlin:20230825T143000
DTEND;TZID=Europe/Berlin:20230825T170000
DTSTAMP:20260422T162322
CREATED:20230621T135642Z
LAST-MODIFIED:20230621T140644Z
UID:10002730-1692973800-1692982800@s130056251.online.de
SUMMARY:Gemeinsames Kochen im CDF Schülerklub
DESCRIPTION:Das Wochenende kann kommen und wir wollen es gemeinsam mit dir Begrüßen! Um das Wochenende einzuleiten\, wollen wir gemeinsam mit dir und deinen Freunden kochen und Essen. Wenn du jetzt also Hungrig geworden bist und Lust bekommen hast zu kochen dann komm doch einfach mal Freitags bei uns vorbei. Wenn du ausgefallene Ideen für Gerichte hast\, dann lass es uns gerne wissen. Also wir freuen uns darauf ich bei uns begrüßen zu dürfen!
URL:http://s130056251.online.de/event/gemeinsames-kochen-im-cdf-schuelerklub/2023-08-25/
LOCATION:CDF Schülerklub\, Alte Hellersdorfer Straße 7\, Hellersdorf Nord\, 12629
END:VEVENT
BEGIN:VEVENT
DTSTART;TZID=Europe/Berlin:20230828T143000
DTEND;TZID=Europe/Berlin:20230828T170000
DTSTAMP:20260422T162322
CREATED:20230621T133703Z
LAST-MODIFIED:20230621T135955Z
UID:10003250-1693233000-1693242000@s130056251.online.de
SUMMARY:Spielenachmittag im CDF Schülerklub
DESCRIPTION:Ihr habt Lust auf Dart\, Billard\, Kicker oder verschiedene Spiele? Dann seit ihr hier genau richtig! An unserem Spielenachmittag laden wir euch herzlich ein mit uns zu spielen. Start ist um 14:30 Uhr. Kommt gerne mit euren Freunden vorbei und verbringt einen schönen Nachmittag im Schülerklub der CDF.
URL:http://s130056251.online.de/event/spielenachmittag-im-cdf-schuelerklub/2023-08-28/
LOCATION:CDF Schülerklub\, Alte Hellersdorfer Straße 7\, Hellersdorf Nord\, 12629
END:VEVENT
BEGIN:VEVENT
DTSTART;TZID=Europe/Berlin:20230830T143000
DTEND;TZID=Europe/Berlin:20230830T170000
DTSTAMP:20260422T162322
CREATED:20230621T134742Z
LAST-MODIFIED:20230621T135835Z
UID:10002990-1693405800-1693414800@s130056251.online.de
SUMMARY:Filmnachmittag im CDF Schülerklub
DESCRIPTION:Lust gemeinsam Filme zu schauen? Dann komm doch einfach mal vorbei! Einmal die Woche veranstaltet der CDF Schülerklub einen Filmnachmittag\, hier können gemeinsam Filme geschaut werden und auch darüber geredet werden! Die Filme wechseln jede Woche und du kannst auch eigene Filmideen vorschlagen! Interessiert? Dann freuen wir uns dich und deine Freunde im CDF Schülerklub zum Filmnachmittag begrüßen zu dürfen!
URL:http://s130056251.online.de/event/filmnachmittag-im-cdf-schuelerklub/2023-08-30/
LOCATION:CDF Schülerklub\, Alte Hellersdorfer Straße 7\, Hellersdorf Nord\, 12629
END:VEVENT
BEGIN:VEVENT
DTSTART;TZID=Europe/Berlin:20230901T143000
DTEND;TZID=Europe/Berlin:20230901T170000
DTSTAMP:20260422T162322
CREATED:20230621T135642Z
LAST-MODIFIED:20230621T140644Z
UID:10002731-1693578600-1693587600@s130056251.online.de
SUMMARY:Gemeinsames Kochen im CDF Schülerklub
DESCRIPTION:Das Wochenende kann kommen und wir wollen es gemeinsam mit dir Begrüßen! Um das Wochenende einzuleiten\, wollen wir gemeinsam mit dir und deinen Freunden kochen und Essen. Wenn du jetzt also Hungrig geworden bist und Lust bekommen hast zu kochen dann komm doch einfach mal Freitags bei uns vorbei. Wenn du ausgefallene Ideen für Gerichte hast\, dann lass es uns gerne wissen. Also wir freuen uns darauf ich bei uns begrüßen zu dürfen!
URL:http://s130056251.online.de/event/gemeinsames-kochen-im-cdf-schuelerklub/2023-09-01/
LOCATION:CDF Schülerklub\, Alte Hellersdorfer Straße 7\, Hellersdorf Nord\, 12629
END:VEVENT
BEGIN:VEVENT
DTSTART;TZID=Europe/Berlin:20230904T143000
DTEND;TZID=Europe/Berlin:20230904T170000
DTSTAMP:20260422T162322
CREATED:20230621T133703Z
LAST-MODIFIED:20230621T135955Z
UID:10003251-1693837800-1693846800@s130056251.online.de
SUMMARY:Spielenachmittag im CDF Schülerklub
DESCRIPTION:Ihr habt Lust auf Dart\, Billard\, Kicker oder verschiedene Spiele? Dann seit ihr hier genau richtig! An unserem Spielenachmittag laden wir euch herzlich ein mit uns zu spielen. Start ist um 14:30 Uhr. Kommt gerne mit euren Freunden vorbei und verbringt einen schönen Nachmittag im Schülerklub der CDF.
URL:http://s130056251.online.de/event/spielenachmittag-im-cdf-schuelerklub/2023-09-04/
LOCATION:CDF Schülerklub\, Alte Hellersdorfer Straße 7\, Hellersdorf Nord\, 12629
END:VEVENT
BEGIN:VEVENT
DTSTART;TZID=Europe/Berlin:20230906T143000
DTEND;TZID=Europe/Berlin:20230906T170000
DTSTAMP:20260422T162322
CREATED:20230621T134742Z
LAST-MODIFIED:20230621T135835Z
UID:10002991-1694010600-1694019600@s130056251.online.de
SUMMARY:Filmnachmittag im CDF Schülerklub
DESCRIPTION:Lust gemeinsam Filme zu schauen? Dann komm doch einfach mal vorbei! Einmal die Woche veranstaltet der CDF Schülerklub einen Filmnachmittag\, hier können gemeinsam Filme geschaut werden und auch darüber geredet werden! Die Filme wechseln jede Woche und du kannst auch eigene Filmideen vorschlagen! Interessiert? Dann freuen wir uns dich und deine Freunde im CDF Schülerklub zum Filmnachmittag begrüßen zu dürfen!
URL:http://s130056251.online.de/event/filmnachmittag-im-cdf-schuelerklub/2023-09-06/
LOCATION:CDF Schülerklub\, Alte Hellersdorfer Straße 7\, Hellersdorf Nord\, 12629
END:VEVENT
BEGIN:VEVENT
DTSTART;TZID=Europe/Berlin:20230908T143000
DTEND;TZID=Europe/Berlin:20230908T170000
DTSTAMP:20260422T162322
CREATED:20230621T135642Z
LAST-MODIFIED:20230621T140644Z
UID:10002732-1694183400-1694192400@s130056251.online.de
SUMMARY:Gemeinsames Kochen im CDF Schülerklub
DESCRIPTION:Das Wochenende kann kommen und wir wollen es gemeinsam mit dir Begrüßen! Um das Wochenende einzuleiten\, wollen wir gemeinsam mit dir und deinen Freunden kochen und Essen. Wenn du jetzt also Hungrig geworden bist und Lust bekommen hast zu kochen dann komm doch einfach mal Freitags bei uns vorbei. Wenn du ausgefallene Ideen für Gerichte hast\, dann lass es uns gerne wissen. Also wir freuen uns darauf ich bei uns begrüßen zu dürfen!
URL:http://s130056251.online.de/event/gemeinsames-kochen-im-cdf-schuelerklub/2023-09-08/
LOCATION:CDF Schülerklub\, Alte Hellersdorfer Straße 7\, Hellersdorf Nord\, 12629
END:VEVENT
BEGIN:VEVENT
DTSTART;TZID=Europe/Berlin:20230911T143000
DTEND;TZID=Europe/Berlin:20230911T170000
DTSTAMP:20260422T162322
CREATED:20230621T133703Z
LAST-MODIFIED:20230621T135955Z
UID:10003252-1694442600-1694451600@s130056251.online.de
SUMMARY:Spielenachmittag im CDF Schülerklub
DESCRIPTION:Ihr habt Lust auf Dart\, Billard\, Kicker oder verschiedene Spiele? Dann seit ihr hier genau richtig! An unserem Spielenachmittag laden wir euch herzlich ein mit uns zu spielen. Start ist um 14:30 Uhr. Kommt gerne mit euren Freunden vorbei und verbringt einen schönen Nachmittag im Schülerklub der CDF.
URL:http://s130056251.online.de/event/spielenachmittag-im-cdf-schuelerklub/2023-09-11/
LOCATION:CDF Schülerklub\, Alte Hellersdorfer Straße 7\, Hellersdorf Nord\, 12629
END:VEVENT
BEGIN:VEVENT
DTSTART;TZID=Europe/Berlin:20230913T143000
DTEND;TZID=Europe/Berlin:20230913T170000
DTSTAMP:20260422T162322
CREATED:20230621T134742Z
LAST-MODIFIED:20230621T135835Z
UID:10002992-1694615400-1694624400@s130056251.online.de
SUMMARY:Filmnachmittag im CDF Schülerklub
DESCRIPTION:Lust gemeinsam Filme zu schauen? Dann komm doch einfach mal vorbei! Einmal die Woche veranstaltet der CDF Schülerklub einen Filmnachmittag\, hier können gemeinsam Filme geschaut werden und auch darüber geredet werden! Die Filme wechseln jede Woche und du kannst auch eigene Filmideen vorschlagen! Interessiert? Dann freuen wir uns dich und deine Freunde im CDF Schülerklub zum Filmnachmittag begrüßen zu dürfen!
URL:http://s130056251.online.de/event/filmnachmittag-im-cdf-schuelerklub/2023-09-13/
LOCATION:CDF Schülerklub\, Alte Hellersdorfer Straße 7\, Hellersdorf Nord\, 12629
END:VEVENT
BEGIN:VEVENT
DTSTART;TZID=Europe/Berlin:20230915T143000
DTEND;TZID=Europe/Berlin:20230915T170000
DTSTAMP:20260422T162322
CREATED:20230621T135642Z
LAST-MODIFIED:20230621T140644Z
UID:10002733-1694788200-1694797200@s130056251.online.de
SUMMARY:Gemeinsames Kochen im CDF Schülerklub
DESCRIPTION:Das Wochenende kann kommen und wir wollen es gemeinsam mit dir Begrüßen! Um das Wochenende einzuleiten\, wollen wir gemeinsam mit dir und deinen Freunden kochen und Essen. Wenn du jetzt also Hungrig geworden bist und Lust bekommen hast zu kochen dann komm doch einfach mal Freitags bei uns vorbei. Wenn du ausgefallene Ideen für Gerichte hast\, dann lass es uns gerne wissen. Also wir freuen uns darauf ich bei uns begrüßen zu dürfen!
URL:http://s130056251.online.de/event/gemeinsames-kochen-im-cdf-schuelerklub/2023-09-15/
LOCATION:CDF Schülerklub\, Alte Hellersdorfer Straße 7\, Hellersdorf Nord\, 12629
END:VEVENT
BEGIN:VEVENT
DTSTART;TZID=Europe/Berlin:20230918T143000
DTEND;TZID=Europe/Berlin:20230918T170000
DTSTAMP:20260422T162322
CREATED:20230621T133703Z
LAST-MODIFIED:20230621T135955Z
UID:10003253-1695047400-1695056400@s130056251.online.de
SUMMARY:Spielenachmittag im CDF Schülerklub
DESCRIPTION:Ihr habt Lust auf Dart\, Billard\, Kicker oder verschiedene Spiele? Dann seit ihr hier genau richtig! An unserem Spielenachmittag laden wir euch herzlich ein mit uns zu spielen. Start ist um 14:30 Uhr. Kommt gerne mit euren Freunden vorbei und verbringt einen schönen Nachmittag im Schülerklub der CDF.
URL:http://s130056251.online.de/event/spielenachmittag-im-cdf-schuelerklub/2023-09-18/
LOCATION:CDF Schülerklub\, Alte Hellersdorfer Straße 7\, Hellersdorf Nord\, 12629
END:VEVENT
BEGIN:VEVENT
DTSTART;TZID=Europe/Berlin:20230920T143000
DTEND;TZID=Europe/Berlin:20230920T170000
DTSTAMP:20260422T162322
CREATED:20230621T134742Z
LAST-MODIFIED:20230621T135835Z
UID:10002993-1695220200-1695229200@s130056251.online.de
SUMMARY:Filmnachmittag im CDF Schülerklub
DESCRIPTION:Lust gemeinsam Filme zu schauen? Dann komm doch einfach mal vorbei! Einmal die Woche veranstaltet der CDF Schülerklub einen Filmnachmittag\, hier können gemeinsam Filme geschaut werden und auch darüber geredet werden! Die Filme wechseln jede Woche und du kannst auch eigene Filmideen vorschlagen! Interessiert? Dann freuen wir uns dich und deine Freunde im CDF Schülerklub zum Filmnachmittag begrüßen zu dürfen!
URL:http://s130056251.online.de/event/filmnachmittag-im-cdf-schuelerklub/2023-09-20/
LOCATION:CDF Schülerklub\, Alte Hellersdorfer Straße 7\, Hellersdorf Nord\, 12629
END:VEVENT
BEGIN:VEVENT
DTSTART;TZID=Europe/Berlin:20230922T143000
DTEND;TZID=Europe/Berlin:20230922T170000
DTSTAMP:20260422T162322
CREATED:20230621T135642Z
LAST-MODIFIED:20230621T140644Z
UID:10002734-1695393000-1695402000@s130056251.online.de
SUMMARY:Gemeinsames Kochen im CDF Schülerklub
DESCRIPTION:Das Wochenende kann kommen und wir wollen es gemeinsam mit dir Begrüßen! Um das Wochenende einzuleiten\, wollen wir gemeinsam mit dir und deinen Freunden kochen und Essen. Wenn du jetzt also Hungrig geworden bist und Lust bekommen hast zu kochen dann komm doch einfach mal Freitags bei uns vorbei. Wenn du ausgefallene Ideen für Gerichte hast\, dann lass es uns gerne wissen. Also wir freuen uns darauf ich bei uns begrüßen zu dürfen!
URL:http://s130056251.online.de/event/gemeinsames-kochen-im-cdf-schuelerklub/2023-09-22/
LOCATION:CDF Schülerklub\, Alte Hellersdorfer Straße 7\, Hellersdorf Nord\, 12629
END:VEVENT
BEGIN:VEVENT
DTSTART;TZID=Europe/Berlin:20230925T143000
DTEND;TZID=Europe/Berlin:20230925T170000
DTSTAMP:20260422T162322
CREATED:20230621T133703Z
LAST-MODIFIED:20230621T135955Z
UID:10003254-1695652200-1695661200@s130056251.online.de
SUMMARY:Spielenachmittag im CDF Schülerklub
DESCRIPTION:Ihr habt Lust auf Dart\, Billard\, Kicker oder verschiedene Spiele? Dann seit ihr hier genau richtig! An unserem Spielenachmittag laden wir euch herzlich ein mit uns zu spielen. Start ist um 14:30 Uhr. Kommt gerne mit euren Freunden vorbei und verbringt einen schönen Nachmittag im Schülerklub der CDF.
URL:http://s130056251.online.de/event/spielenachmittag-im-cdf-schuelerklub/2023-09-25/
LOCATION:CDF Schülerklub\, Alte Hellersdorfer Straße 7\, Hellersdorf Nord\, 12629
END:VEVENT
BEGIN:VEVENT
DTSTART;TZID=Europe/Berlin:20230927T143000
DTEND;TZID=Europe/Berlin:20230927T170000
DTSTAMP:20260422T162322
CREATED:20230621T134742Z
LAST-MODIFIED:20230621T135835Z
UID:10002994-1695825000-1695834000@s130056251.online.de
SUMMARY:Filmnachmittag im CDF Schülerklub
DESCRIPTION:Lust gemeinsam Filme zu schauen? Dann komm doch einfach mal vorbei! Einmal die Woche veranstaltet der CDF Schülerklub einen Filmnachmittag\, hier können gemeinsam Filme geschaut werden und auch darüber geredet werden! Die Filme wechseln jede Woche und du kannst auch eigene Filmideen vorschlagen! Interessiert? Dann freuen wir uns dich und deine Freunde im CDF Schülerklub zum Filmnachmittag begrüßen zu dürfen!
URL:http://s130056251.online.de/event/filmnachmittag-im-cdf-schuelerklub/2023-09-27/
LOCATION:CDF Schülerklub\, Alte Hellersdorfer Straße 7\, Hellersdorf Nord\, 12629
END:VEVENT
BEGIN:VEVENT
DTSTART;TZID=Europe/Berlin:20230929T143000
DTEND;TZID=Europe/Berlin:20230929T170000
DTSTAMP:20260422T162322
CREATED:20230621T135642Z
LAST-MODIFIED:20230621T140644Z
UID:10002735-1695997800-1696006800@s130056251.online.de
SUMMARY:Gemeinsames Kochen im CDF Schülerklub
DESCRIPTION:Das Wochenende kann kommen und wir wollen es gemeinsam mit dir Begrüßen! Um das Wochenende einzuleiten\, wollen wir gemeinsam mit dir und deinen Freunden kochen und Essen. Wenn du jetzt also Hungrig geworden bist und Lust bekommen hast zu kochen dann komm doch einfach mal Freitags bei uns vorbei. Wenn du ausgefallene Ideen für Gerichte hast\, dann lass es uns gerne wissen. Also wir freuen uns darauf ich bei uns begrüßen zu dürfen!
URL:http://s130056251.online.de/event/gemeinsames-kochen-im-cdf-schuelerklub/2023-09-29/
LOCATION:CDF Schülerklub\, Alte Hellersdorfer Straße 7\, Hellersdorf Nord\, 12629
END:VEVENT
BEGIN:VEVENT
DTSTART;TZID=Europe/Berlin:20231002T143000
DTEND;TZID=Europe/Berlin:20231002T170000
DTSTAMP:20260422T162322
CREATED:20230621T133703Z
LAST-MODIFIED:20230621T135955Z
UID:10003255-1696257000-1696266000@s130056251.online.de
SUMMARY:Spielenachmittag im CDF Schülerklub
DESCRIPTION:Ihr habt Lust auf Dart\, Billard\, Kicker oder verschiedene Spiele? Dann seit ihr hier genau richtig! An unserem Spielenachmittag laden wir euch herzlich ein mit uns zu spielen. Start ist um 14:30 Uhr. Kommt gerne mit euren Freunden vorbei und verbringt einen schönen Nachmittag im Schülerklub der CDF.
URL:http://s130056251.online.de/event/spielenachmittag-im-cdf-schuelerklub/2023-10-02/
LOCATION:CDF Schülerklub\, Alte Hellersdorfer Straße 7\, Hellersdorf Nord\, 12629
END:VEVENT
END:VCALENDAR