BEGIN:VCALENDAR
VERSION:2.0
PRODID:-//Was geht in Hellersdorf - ECPv6.1.2.2//NONSGML v1.0//EN
CALSCALE:GREGORIAN
METHOD:PUBLISH
X-ORIGINAL-URL:http://s130056251.online.de
X-WR-CALDESC:Veranstaltungen für Was geht in Hellersdorf
REFRESH-INTERVAL;VALUE=DURATION:PT1H
X-Robots-Tag:noindex
X-PUBLISHED-TTL:PT1H
BEGIN:VTIMEZONE
TZID:Europe/Berlin
BEGIN:DAYLIGHT
TZOFFSETFROM:+0100
TZOFFSETTO:+0200
TZNAME:CEST
DTSTART:20230326T010000
END:DAYLIGHT
BEGIN:STANDARD
TZOFFSETFROM:+0200
TZOFFSETTO:+0100
TZNAME:CET
DTSTART:20231029T010000
END:STANDARD
END:VTIMEZONE
BEGIN:VEVENT
DTSTART;TZID=Europe/Berlin:20230920T143000
DTEND;TZID=Europe/Berlin:20230920T170000
DTSTAMP:20260422T193327
CREATED:20230621T134742Z
LAST-MODIFIED:20230621T135835Z
UID:10002993-1695220200-1695229200@s130056251.online.de
SUMMARY:Filmnachmittag im CDF Schülerklub
DESCRIPTION:Lust gemeinsam Filme zu schauen? Dann komm doch einfach mal vorbei! Einmal die Woche veranstaltet der CDF Schülerklub einen Filmnachmittag\, hier können gemeinsam Filme geschaut werden und auch darüber geredet werden! Die Filme wechseln jede Woche und du kannst auch eigene Filmideen vorschlagen! Interessiert? Dann freuen wir uns dich und deine Freunde im CDF Schülerklub zum Filmnachmittag begrüßen zu dürfen!
URL:http://s130056251.online.de/event/filmnachmittag-im-cdf-schuelerklub/2023-09-20/
LOCATION:CDF Schülerklub\, Alte Hellersdorfer Straße 7\, Hellersdorf Nord\, 12629
END:VEVENT
BEGIN:VEVENT
DTSTART;TZID=Europe/Berlin:20230922T143000
DTEND;TZID=Europe/Berlin:20230922T170000
DTSTAMP:20260422T193327
CREATED:20230621T135642Z
LAST-MODIFIED:20230621T140644Z
UID:10002734-1695393000-1695402000@s130056251.online.de
SUMMARY:Gemeinsames Kochen im CDF Schülerklub
DESCRIPTION:Das Wochenende kann kommen und wir wollen es gemeinsam mit dir Begrüßen! Um das Wochenende einzuleiten\, wollen wir gemeinsam mit dir und deinen Freunden kochen und Essen. Wenn du jetzt also Hungrig geworden bist und Lust bekommen hast zu kochen dann komm doch einfach mal Freitags bei uns vorbei. Wenn du ausgefallene Ideen für Gerichte hast\, dann lass es uns gerne wissen. Also wir freuen uns darauf ich bei uns begrüßen zu dürfen!
URL:http://s130056251.online.de/event/gemeinsames-kochen-im-cdf-schuelerklub/2023-09-22/
LOCATION:CDF Schülerklub\, Alte Hellersdorfer Straße 7\, Hellersdorf Nord\, 12629
END:VEVENT
BEGIN:VEVENT
DTSTART;TZID=Europe/Berlin:20230925T143000
DTEND;TZID=Europe/Berlin:20230925T170000
DTSTAMP:20260422T193327
CREATED:20230621T133703Z
LAST-MODIFIED:20230621T135955Z
UID:10003254-1695652200-1695661200@s130056251.online.de
SUMMARY:Spielenachmittag im CDF Schülerklub
DESCRIPTION:Ihr habt Lust auf Dart\, Billard\, Kicker oder verschiedene Spiele? Dann seit ihr hier genau richtig! An unserem Spielenachmittag laden wir euch herzlich ein mit uns zu spielen. Start ist um 14:30 Uhr. Kommt gerne mit euren Freunden vorbei und verbringt einen schönen Nachmittag im Schülerklub der CDF.
URL:http://s130056251.online.de/event/spielenachmittag-im-cdf-schuelerklub/2023-09-25/
LOCATION:CDF Schülerklub\, Alte Hellersdorfer Straße 7\, Hellersdorf Nord\, 12629
END:VEVENT
BEGIN:VEVENT
DTSTART;TZID=Europe/Berlin:20230927T143000
DTEND;TZID=Europe/Berlin:20230927T170000
DTSTAMP:20260422T193327
CREATED:20230621T134742Z
LAST-MODIFIED:20230621T135835Z
UID:10002994-1695825000-1695834000@s130056251.online.de
SUMMARY:Filmnachmittag im CDF Schülerklub
DESCRIPTION:Lust gemeinsam Filme zu schauen? Dann komm doch einfach mal vorbei! Einmal die Woche veranstaltet der CDF Schülerklub einen Filmnachmittag\, hier können gemeinsam Filme geschaut werden und auch darüber geredet werden! Die Filme wechseln jede Woche und du kannst auch eigene Filmideen vorschlagen! Interessiert? Dann freuen wir uns dich und deine Freunde im CDF Schülerklub zum Filmnachmittag begrüßen zu dürfen!
URL:http://s130056251.online.de/event/filmnachmittag-im-cdf-schuelerklub/2023-09-27/
LOCATION:CDF Schülerklub\, Alte Hellersdorfer Straße 7\, Hellersdorf Nord\, 12629
END:VEVENT
BEGIN:VEVENT
DTSTART;TZID=Europe/Berlin:20230929T143000
DTEND;TZID=Europe/Berlin:20230929T170000
DTSTAMP:20260422T193327
CREATED:20230621T135642Z
LAST-MODIFIED:20230621T140644Z
UID:10002735-1695997800-1696006800@s130056251.online.de
SUMMARY:Gemeinsames Kochen im CDF Schülerklub
DESCRIPTION:Das Wochenende kann kommen und wir wollen es gemeinsam mit dir Begrüßen! Um das Wochenende einzuleiten\, wollen wir gemeinsam mit dir und deinen Freunden kochen und Essen. Wenn du jetzt also Hungrig geworden bist und Lust bekommen hast zu kochen dann komm doch einfach mal Freitags bei uns vorbei. Wenn du ausgefallene Ideen für Gerichte hast\, dann lass es uns gerne wissen. Also wir freuen uns darauf ich bei uns begrüßen zu dürfen!
URL:http://s130056251.online.de/event/gemeinsames-kochen-im-cdf-schuelerklub/2023-09-29/
LOCATION:CDF Schülerklub\, Alte Hellersdorfer Straße 7\, Hellersdorf Nord\, 12629
END:VEVENT
BEGIN:VEVENT
DTSTART;TZID=Europe/Berlin:20231002T143000
DTEND;TZID=Europe/Berlin:20231002T170000
DTSTAMP:20260422T193327
CREATED:20230621T133703Z
LAST-MODIFIED:20230621T135955Z
UID:10003255-1696257000-1696266000@s130056251.online.de
SUMMARY:Spielenachmittag im CDF Schülerklub
DESCRIPTION:Ihr habt Lust auf Dart\, Billard\, Kicker oder verschiedene Spiele? Dann seit ihr hier genau richtig! An unserem Spielenachmittag laden wir euch herzlich ein mit uns zu spielen. Start ist um 14:30 Uhr. Kommt gerne mit euren Freunden vorbei und verbringt einen schönen Nachmittag im Schülerklub der CDF.
URL:http://s130056251.online.de/event/spielenachmittag-im-cdf-schuelerklub/2023-10-02/
LOCATION:CDF Schülerklub\, Alte Hellersdorfer Straße 7\, Hellersdorf Nord\, 12629
END:VEVENT
BEGIN:VEVENT
DTSTART;TZID=Europe/Berlin:20231004T143000
DTEND;TZID=Europe/Berlin:20231004T170000
DTSTAMP:20260422T193327
CREATED:20230621T134742Z
LAST-MODIFIED:20230621T135835Z
UID:10002995-1696429800-1696438800@s130056251.online.de
SUMMARY:Filmnachmittag im CDF Schülerklub
DESCRIPTION:Lust gemeinsam Filme zu schauen? Dann komm doch einfach mal vorbei! Einmal die Woche veranstaltet der CDF Schülerklub einen Filmnachmittag\, hier können gemeinsam Filme geschaut werden und auch darüber geredet werden! Die Filme wechseln jede Woche und du kannst auch eigene Filmideen vorschlagen! Interessiert? Dann freuen wir uns dich und deine Freunde im CDF Schülerklub zum Filmnachmittag begrüßen zu dürfen!
URL:http://s130056251.online.de/event/filmnachmittag-im-cdf-schuelerklub/2023-10-04/
LOCATION:CDF Schülerklub\, Alte Hellersdorfer Straße 7\, Hellersdorf Nord\, 12629
END:VEVENT
BEGIN:VEVENT
DTSTART;TZID=Europe/Berlin:20231006T143000
DTEND;TZID=Europe/Berlin:20231006T170000
DTSTAMP:20260422T193327
CREATED:20230621T135642Z
LAST-MODIFIED:20230621T140644Z
UID:10002736-1696602600-1696611600@s130056251.online.de
SUMMARY:Gemeinsames Kochen im CDF Schülerklub
DESCRIPTION:Das Wochenende kann kommen und wir wollen es gemeinsam mit dir Begrüßen! Um das Wochenende einzuleiten\, wollen wir gemeinsam mit dir und deinen Freunden kochen und Essen. Wenn du jetzt also Hungrig geworden bist und Lust bekommen hast zu kochen dann komm doch einfach mal Freitags bei uns vorbei. Wenn du ausgefallene Ideen für Gerichte hast\, dann lass es uns gerne wissen. Also wir freuen uns darauf ich bei uns begrüßen zu dürfen!
URL:http://s130056251.online.de/event/gemeinsames-kochen-im-cdf-schuelerklub/2023-10-06/
LOCATION:CDF Schülerklub\, Alte Hellersdorfer Straße 7\, Hellersdorf Nord\, 12629
END:VEVENT
BEGIN:VEVENT
DTSTART;TZID=Europe/Berlin:20231009T143000
DTEND;TZID=Europe/Berlin:20231009T170000
DTSTAMP:20260422T193327
CREATED:20230621T133703Z
LAST-MODIFIED:20230621T135955Z
UID:10003256-1696861800-1696870800@s130056251.online.de
SUMMARY:Spielenachmittag im CDF Schülerklub
DESCRIPTION:Ihr habt Lust auf Dart\, Billard\, Kicker oder verschiedene Spiele? Dann seit ihr hier genau richtig! An unserem Spielenachmittag laden wir euch herzlich ein mit uns zu spielen. Start ist um 14:30 Uhr. Kommt gerne mit euren Freunden vorbei und verbringt einen schönen Nachmittag im Schülerklub der CDF.
URL:http://s130056251.online.de/event/spielenachmittag-im-cdf-schuelerklub/2023-10-09/
LOCATION:CDF Schülerklub\, Alte Hellersdorfer Straße 7\, Hellersdorf Nord\, 12629
END:VEVENT
BEGIN:VEVENT
DTSTART;TZID=Europe/Berlin:20231011T143000
DTEND;TZID=Europe/Berlin:20231011T170000
DTSTAMP:20260422T193327
CREATED:20230621T134742Z
LAST-MODIFIED:20230621T135835Z
UID:10002996-1697034600-1697043600@s130056251.online.de
SUMMARY:Filmnachmittag im CDF Schülerklub
DESCRIPTION:Lust gemeinsam Filme zu schauen? Dann komm doch einfach mal vorbei! Einmal die Woche veranstaltet der CDF Schülerklub einen Filmnachmittag\, hier können gemeinsam Filme geschaut werden und auch darüber geredet werden! Die Filme wechseln jede Woche und du kannst auch eigene Filmideen vorschlagen! Interessiert? Dann freuen wir uns dich und deine Freunde im CDF Schülerklub zum Filmnachmittag begrüßen zu dürfen!
URL:http://s130056251.online.de/event/filmnachmittag-im-cdf-schuelerklub/2023-10-11/
LOCATION:CDF Schülerklub\, Alte Hellersdorfer Straße 7\, Hellersdorf Nord\, 12629
END:VEVENT
BEGIN:VEVENT
DTSTART;TZID=Europe/Berlin:20231013T143000
DTEND;TZID=Europe/Berlin:20231013T170000
DTSTAMP:20260422T193327
CREATED:20230621T135642Z
LAST-MODIFIED:20230621T140644Z
UID:10002737-1697207400-1697216400@s130056251.online.de
SUMMARY:Gemeinsames Kochen im CDF Schülerklub
DESCRIPTION:Das Wochenende kann kommen und wir wollen es gemeinsam mit dir Begrüßen! Um das Wochenende einzuleiten\, wollen wir gemeinsam mit dir und deinen Freunden kochen und Essen. Wenn du jetzt also Hungrig geworden bist und Lust bekommen hast zu kochen dann komm doch einfach mal Freitags bei uns vorbei. Wenn du ausgefallene Ideen für Gerichte hast\, dann lass es uns gerne wissen. Also wir freuen uns darauf ich bei uns begrüßen zu dürfen!
URL:http://s130056251.online.de/event/gemeinsames-kochen-im-cdf-schuelerklub/2023-10-13/
LOCATION:CDF Schülerklub\, Alte Hellersdorfer Straße 7\, Hellersdorf Nord\, 12629
END:VEVENT
BEGIN:VEVENT
DTSTART;TZID=Europe/Berlin:20231016T143000
DTEND;TZID=Europe/Berlin:20231016T170000
DTSTAMP:20260422T193327
CREATED:20230621T133703Z
LAST-MODIFIED:20230621T135955Z
UID:10003257-1697466600-1697475600@s130056251.online.de
SUMMARY:Spielenachmittag im CDF Schülerklub
DESCRIPTION:Ihr habt Lust auf Dart\, Billard\, Kicker oder verschiedene Spiele? Dann seit ihr hier genau richtig! An unserem Spielenachmittag laden wir euch herzlich ein mit uns zu spielen. Start ist um 14:30 Uhr. Kommt gerne mit euren Freunden vorbei und verbringt einen schönen Nachmittag im Schülerklub der CDF.
URL:http://s130056251.online.de/event/spielenachmittag-im-cdf-schuelerklub/2023-10-16/
LOCATION:CDF Schülerklub\, Alte Hellersdorfer Straße 7\, Hellersdorf Nord\, 12629
END:VEVENT
BEGIN:VEVENT
DTSTART;TZID=Europe/Berlin:20231018T143000
DTEND;TZID=Europe/Berlin:20231018T170000
DTSTAMP:20260422T193327
CREATED:20230621T134742Z
LAST-MODIFIED:20230621T135835Z
UID:10002997-1697639400-1697648400@s130056251.online.de
SUMMARY:Filmnachmittag im CDF Schülerklub
DESCRIPTION:Lust gemeinsam Filme zu schauen? Dann komm doch einfach mal vorbei! Einmal die Woche veranstaltet der CDF Schülerklub einen Filmnachmittag\, hier können gemeinsam Filme geschaut werden und auch darüber geredet werden! Die Filme wechseln jede Woche und du kannst auch eigene Filmideen vorschlagen! Interessiert? Dann freuen wir uns dich und deine Freunde im CDF Schülerklub zum Filmnachmittag begrüßen zu dürfen!
URL:http://s130056251.online.de/event/filmnachmittag-im-cdf-schuelerklub/2023-10-18/
LOCATION:CDF Schülerklub\, Alte Hellersdorfer Straße 7\, Hellersdorf Nord\, 12629
END:VEVENT
BEGIN:VEVENT
DTSTART;TZID=Europe/Berlin:20231020T143000
DTEND;TZID=Europe/Berlin:20231020T170000
DTSTAMP:20260422T193327
CREATED:20230621T135642Z
LAST-MODIFIED:20230621T140644Z
UID:10002738-1697812200-1697821200@s130056251.online.de
SUMMARY:Gemeinsames Kochen im CDF Schülerklub
DESCRIPTION:Das Wochenende kann kommen und wir wollen es gemeinsam mit dir Begrüßen! Um das Wochenende einzuleiten\, wollen wir gemeinsam mit dir und deinen Freunden kochen und Essen. Wenn du jetzt also Hungrig geworden bist und Lust bekommen hast zu kochen dann komm doch einfach mal Freitags bei uns vorbei. Wenn du ausgefallene Ideen für Gerichte hast\, dann lass es uns gerne wissen. Also wir freuen uns darauf ich bei uns begrüßen zu dürfen!
URL:http://s130056251.online.de/event/gemeinsames-kochen-im-cdf-schuelerklub/2023-10-20/
LOCATION:CDF Schülerklub\, Alte Hellersdorfer Straße 7\, Hellersdorf Nord\, 12629
END:VEVENT
BEGIN:VEVENT
DTSTART;TZID=Europe/Berlin:20231023T143000
DTEND;TZID=Europe/Berlin:20231023T170000
DTSTAMP:20260422T193327
CREATED:20230621T133703Z
LAST-MODIFIED:20230621T135955Z
UID:10003258-1698071400-1698080400@s130056251.online.de
SUMMARY:Spielenachmittag im CDF Schülerklub
DESCRIPTION:Ihr habt Lust auf Dart\, Billard\, Kicker oder verschiedene Spiele? Dann seit ihr hier genau richtig! An unserem Spielenachmittag laden wir euch herzlich ein mit uns zu spielen. Start ist um 14:30 Uhr. Kommt gerne mit euren Freunden vorbei und verbringt einen schönen Nachmittag im Schülerklub der CDF.
URL:http://s130056251.online.de/event/spielenachmittag-im-cdf-schuelerklub/2023-10-23/
LOCATION:CDF Schülerklub\, Alte Hellersdorfer Straße 7\, Hellersdorf Nord\, 12629
END:VEVENT
BEGIN:VEVENT
DTSTART;TZID=Europe/Berlin:20231025T143000
DTEND;TZID=Europe/Berlin:20231025T170000
DTSTAMP:20260422T193327
CREATED:20230621T134742Z
LAST-MODIFIED:20230621T135835Z
UID:10002998-1698244200-1698253200@s130056251.online.de
SUMMARY:Filmnachmittag im CDF Schülerklub
DESCRIPTION:Lust gemeinsam Filme zu schauen? Dann komm doch einfach mal vorbei! Einmal die Woche veranstaltet der CDF Schülerklub einen Filmnachmittag\, hier können gemeinsam Filme geschaut werden und auch darüber geredet werden! Die Filme wechseln jede Woche und du kannst auch eigene Filmideen vorschlagen! Interessiert? Dann freuen wir uns dich und deine Freunde im CDF Schülerklub zum Filmnachmittag begrüßen zu dürfen!
URL:http://s130056251.online.de/event/filmnachmittag-im-cdf-schuelerklub/2023-10-25/
LOCATION:CDF Schülerklub\, Alte Hellersdorfer Straße 7\, Hellersdorf Nord\, 12629
END:VEVENT
BEGIN:VEVENT
DTSTART;TZID=Europe/Berlin:20231027T143000
DTEND;TZID=Europe/Berlin:20231027T170000
DTSTAMP:20260422T193327
CREATED:20230621T135642Z
LAST-MODIFIED:20230621T140644Z
UID:10002739-1698417000-1698426000@s130056251.online.de
SUMMARY:Gemeinsames Kochen im CDF Schülerklub
DESCRIPTION:Das Wochenende kann kommen und wir wollen es gemeinsam mit dir Begrüßen! Um das Wochenende einzuleiten\, wollen wir gemeinsam mit dir und deinen Freunden kochen und Essen. Wenn du jetzt also Hungrig geworden bist und Lust bekommen hast zu kochen dann komm doch einfach mal Freitags bei uns vorbei. Wenn du ausgefallene Ideen für Gerichte hast\, dann lass es uns gerne wissen. Also wir freuen uns darauf ich bei uns begrüßen zu dürfen!
URL:http://s130056251.online.de/event/gemeinsames-kochen-im-cdf-schuelerklub/2023-10-27/
LOCATION:CDF Schülerklub\, Alte Hellersdorfer Straße 7\, Hellersdorf Nord\, 12629
END:VEVENT
BEGIN:VEVENT
DTSTART;TZID=Europe/Berlin:20231030T143000
DTEND;TZID=Europe/Berlin:20231030T170000
DTSTAMP:20260422T193327
CREATED:20230621T133703Z
LAST-MODIFIED:20230621T135955Z
UID:10003259-1698676200-1698685200@s130056251.online.de
SUMMARY:Spielenachmittag im CDF Schülerklub
DESCRIPTION:Ihr habt Lust auf Dart\, Billard\, Kicker oder verschiedene Spiele? Dann seit ihr hier genau richtig! An unserem Spielenachmittag laden wir euch herzlich ein mit uns zu spielen. Start ist um 14:30 Uhr. Kommt gerne mit euren Freunden vorbei und verbringt einen schönen Nachmittag im Schülerklub der CDF.
URL:http://s130056251.online.de/event/spielenachmittag-im-cdf-schuelerklub/2023-10-30/
LOCATION:CDF Schülerklub\, Alte Hellersdorfer Straße 7\, Hellersdorf Nord\, 12629
END:VEVENT
BEGIN:VEVENT
DTSTART;TZID=Europe/Berlin:20231101T143000
DTEND;TZID=Europe/Berlin:20231101T170000
DTSTAMP:20260422T193327
CREATED:20230621T134742Z
LAST-MODIFIED:20230621T135835Z
UID:10002999-1698849000-1698858000@s130056251.online.de
SUMMARY:Filmnachmittag im CDF Schülerklub
DESCRIPTION:Lust gemeinsam Filme zu schauen? Dann komm doch einfach mal vorbei! Einmal die Woche veranstaltet der CDF Schülerklub einen Filmnachmittag\, hier können gemeinsam Filme geschaut werden und auch darüber geredet werden! Die Filme wechseln jede Woche und du kannst auch eigene Filmideen vorschlagen! Interessiert? Dann freuen wir uns dich und deine Freunde im CDF Schülerklub zum Filmnachmittag begrüßen zu dürfen!
URL:http://s130056251.online.de/event/filmnachmittag-im-cdf-schuelerklub/2023-11-01/
LOCATION:CDF Schülerklub\, Alte Hellersdorfer Straße 7\, Hellersdorf Nord\, 12629
END:VEVENT
BEGIN:VEVENT
DTSTART;TZID=Europe/Berlin:20231103T143000
DTEND;TZID=Europe/Berlin:20231103T170000
DTSTAMP:20260422T193327
CREATED:20230621T135642Z
LAST-MODIFIED:20230621T140644Z
UID:10002740-1699021800-1699030800@s130056251.online.de
SUMMARY:Gemeinsames Kochen im CDF Schülerklub
DESCRIPTION:Das Wochenende kann kommen und wir wollen es gemeinsam mit dir Begrüßen! Um das Wochenende einzuleiten\, wollen wir gemeinsam mit dir und deinen Freunden kochen und Essen. Wenn du jetzt also Hungrig geworden bist und Lust bekommen hast zu kochen dann komm doch einfach mal Freitags bei uns vorbei. Wenn du ausgefallene Ideen für Gerichte hast\, dann lass es uns gerne wissen. Also wir freuen uns darauf ich bei uns begrüßen zu dürfen!
URL:http://s130056251.online.de/event/gemeinsames-kochen-im-cdf-schuelerklub/2023-11-03/
LOCATION:CDF Schülerklub\, Alte Hellersdorfer Straße 7\, Hellersdorf Nord\, 12629
END:VEVENT
BEGIN:VEVENT
DTSTART;TZID=Europe/Berlin:20231106T143000
DTEND;TZID=Europe/Berlin:20231106T170000
DTSTAMP:20260422T193327
CREATED:20230621T133703Z
LAST-MODIFIED:20230621T135955Z
UID:10003260-1699281000-1699290000@s130056251.online.de
SUMMARY:Spielenachmittag im CDF Schülerklub
DESCRIPTION:Ihr habt Lust auf Dart\, Billard\, Kicker oder verschiedene Spiele? Dann seit ihr hier genau richtig! An unserem Spielenachmittag laden wir euch herzlich ein mit uns zu spielen. Start ist um 14:30 Uhr. Kommt gerne mit euren Freunden vorbei und verbringt einen schönen Nachmittag im Schülerklub der CDF.
URL:http://s130056251.online.de/event/spielenachmittag-im-cdf-schuelerklub/2023-11-06/
LOCATION:CDF Schülerklub\, Alte Hellersdorfer Straße 7\, Hellersdorf Nord\, 12629
END:VEVENT
BEGIN:VEVENT
DTSTART;TZID=Europe/Berlin:20231108T143000
DTEND;TZID=Europe/Berlin:20231108T170000
DTSTAMP:20260422T193327
CREATED:20230621T134742Z
LAST-MODIFIED:20230621T135835Z
UID:10003000-1699453800-1699462800@s130056251.online.de
SUMMARY:Filmnachmittag im CDF Schülerklub
DESCRIPTION:Lust gemeinsam Filme zu schauen? Dann komm doch einfach mal vorbei! Einmal die Woche veranstaltet der CDF Schülerklub einen Filmnachmittag\, hier können gemeinsam Filme geschaut werden und auch darüber geredet werden! Die Filme wechseln jede Woche und du kannst auch eigene Filmideen vorschlagen! Interessiert? Dann freuen wir uns dich und deine Freunde im CDF Schülerklub zum Filmnachmittag begrüßen zu dürfen!
URL:http://s130056251.online.de/event/filmnachmittag-im-cdf-schuelerklub/2023-11-08/
LOCATION:CDF Schülerklub\, Alte Hellersdorfer Straße 7\, Hellersdorf Nord\, 12629
END:VEVENT
BEGIN:VEVENT
DTSTART;TZID=Europe/Berlin:20231110T143000
DTEND;TZID=Europe/Berlin:20231110T170000
DTSTAMP:20260422T193327
CREATED:20230621T135642Z
LAST-MODIFIED:20230621T140644Z
UID:10002741-1699626600-1699635600@s130056251.online.de
SUMMARY:Gemeinsames Kochen im CDF Schülerklub
DESCRIPTION:Das Wochenende kann kommen und wir wollen es gemeinsam mit dir Begrüßen! Um das Wochenende einzuleiten\, wollen wir gemeinsam mit dir und deinen Freunden kochen und Essen. Wenn du jetzt also Hungrig geworden bist und Lust bekommen hast zu kochen dann komm doch einfach mal Freitags bei uns vorbei. Wenn du ausgefallene Ideen für Gerichte hast\, dann lass es uns gerne wissen. Also wir freuen uns darauf ich bei uns begrüßen zu dürfen!
URL:http://s130056251.online.de/event/gemeinsames-kochen-im-cdf-schuelerklub/2023-11-10/
LOCATION:CDF Schülerklub\, Alte Hellersdorfer Straße 7\, Hellersdorf Nord\, 12629
END:VEVENT
BEGIN:VEVENT
DTSTART;TZID=Europe/Berlin:20231113T143000
DTEND;TZID=Europe/Berlin:20231113T170000
DTSTAMP:20260422T193327
CREATED:20230621T133703Z
LAST-MODIFIED:20230621T135955Z
UID:10003261-1699885800-1699894800@s130056251.online.de
SUMMARY:Spielenachmittag im CDF Schülerklub
DESCRIPTION:Ihr habt Lust auf Dart\, Billard\, Kicker oder verschiedene Spiele? Dann seit ihr hier genau richtig! An unserem Spielenachmittag laden wir euch herzlich ein mit uns zu spielen. Start ist um 14:30 Uhr. Kommt gerne mit euren Freunden vorbei und verbringt einen schönen Nachmittag im Schülerklub der CDF.
URL:http://s130056251.online.de/event/spielenachmittag-im-cdf-schuelerklub/2023-11-13/
LOCATION:CDF Schülerklub\, Alte Hellersdorfer Straße 7\, Hellersdorf Nord\, 12629
END:VEVENT
BEGIN:VEVENT
DTSTART;TZID=Europe/Berlin:20231115T143000
DTEND;TZID=Europe/Berlin:20231115T170000
DTSTAMP:20260422T193327
CREATED:20230621T134742Z
LAST-MODIFIED:20230621T135835Z
UID:10003001-1700058600-1700067600@s130056251.online.de
SUMMARY:Filmnachmittag im CDF Schülerklub
DESCRIPTION:Lust gemeinsam Filme zu schauen? Dann komm doch einfach mal vorbei! Einmal die Woche veranstaltet der CDF Schülerklub einen Filmnachmittag\, hier können gemeinsam Filme geschaut werden und auch darüber geredet werden! Die Filme wechseln jede Woche und du kannst auch eigene Filmideen vorschlagen! Interessiert? Dann freuen wir uns dich und deine Freunde im CDF Schülerklub zum Filmnachmittag begrüßen zu dürfen!
URL:http://s130056251.online.de/event/filmnachmittag-im-cdf-schuelerklub/2023-11-15/
LOCATION:CDF Schülerklub\, Alte Hellersdorfer Straße 7\, Hellersdorf Nord\, 12629
END:VEVENT
BEGIN:VEVENT
DTSTART;TZID=Europe/Berlin:20231117T143000
DTEND;TZID=Europe/Berlin:20231117T170000
DTSTAMP:20260422T193327
CREATED:20230621T135642Z
LAST-MODIFIED:20230621T140644Z
UID:10002742-1700231400-1700240400@s130056251.online.de
SUMMARY:Gemeinsames Kochen im CDF Schülerklub
DESCRIPTION:Das Wochenende kann kommen und wir wollen es gemeinsam mit dir Begrüßen! Um das Wochenende einzuleiten\, wollen wir gemeinsam mit dir und deinen Freunden kochen und Essen. Wenn du jetzt also Hungrig geworden bist und Lust bekommen hast zu kochen dann komm doch einfach mal Freitags bei uns vorbei. Wenn du ausgefallene Ideen für Gerichte hast\, dann lass es uns gerne wissen. Also wir freuen uns darauf ich bei uns begrüßen zu dürfen!
URL:http://s130056251.online.de/event/gemeinsames-kochen-im-cdf-schuelerklub/2023-11-17/
LOCATION:CDF Schülerklub\, Alte Hellersdorfer Straße 7\, Hellersdorf Nord\, 12629
END:VEVENT
BEGIN:VEVENT
DTSTART;TZID=Europe/Berlin:20231120T143000
DTEND;TZID=Europe/Berlin:20231120T170000
DTSTAMP:20260422T193327
CREATED:20230621T133703Z
LAST-MODIFIED:20230621T135955Z
UID:10003262-1700490600-1700499600@s130056251.online.de
SUMMARY:Spielenachmittag im CDF Schülerklub
DESCRIPTION:Ihr habt Lust auf Dart\, Billard\, Kicker oder verschiedene Spiele? Dann seit ihr hier genau richtig! An unserem Spielenachmittag laden wir euch herzlich ein mit uns zu spielen. Start ist um 14:30 Uhr. Kommt gerne mit euren Freunden vorbei und verbringt einen schönen Nachmittag im Schülerklub der CDF.
URL:http://s130056251.online.de/event/spielenachmittag-im-cdf-schuelerklub/2023-11-20/
LOCATION:CDF Schülerklub\, Alte Hellersdorfer Straße 7\, Hellersdorf Nord\, 12629
END:VEVENT
BEGIN:VEVENT
DTSTART;TZID=Europe/Berlin:20231122T143000
DTEND;TZID=Europe/Berlin:20231122T170000
DTSTAMP:20260422T193327
CREATED:20230621T134742Z
LAST-MODIFIED:20230621T135835Z
UID:10003002-1700663400-1700672400@s130056251.online.de
SUMMARY:Filmnachmittag im CDF Schülerklub
DESCRIPTION:Lust gemeinsam Filme zu schauen? Dann komm doch einfach mal vorbei! Einmal die Woche veranstaltet der CDF Schülerklub einen Filmnachmittag\, hier können gemeinsam Filme geschaut werden und auch darüber geredet werden! Die Filme wechseln jede Woche und du kannst auch eigene Filmideen vorschlagen! Interessiert? Dann freuen wir uns dich und deine Freunde im CDF Schülerklub zum Filmnachmittag begrüßen zu dürfen!
URL:http://s130056251.online.de/event/filmnachmittag-im-cdf-schuelerklub/2023-11-22/
LOCATION:CDF Schülerklub\, Alte Hellersdorfer Straße 7\, Hellersdorf Nord\, 12629
END:VEVENT
BEGIN:VEVENT
DTSTART;TZID=Europe/Berlin:20231124T143000
DTEND;TZID=Europe/Berlin:20231124T170000
DTSTAMP:20260422T193327
CREATED:20230621T135642Z
LAST-MODIFIED:20230621T140644Z
UID:10002743-1700836200-1700845200@s130056251.online.de
SUMMARY:Gemeinsames Kochen im CDF Schülerklub
DESCRIPTION:Das Wochenende kann kommen und wir wollen es gemeinsam mit dir Begrüßen! Um das Wochenende einzuleiten\, wollen wir gemeinsam mit dir und deinen Freunden kochen und Essen. Wenn du jetzt also Hungrig geworden bist und Lust bekommen hast zu kochen dann komm doch einfach mal Freitags bei uns vorbei. Wenn du ausgefallene Ideen für Gerichte hast\, dann lass es uns gerne wissen. Also wir freuen uns darauf ich bei uns begrüßen zu dürfen!
URL:http://s130056251.online.de/event/gemeinsames-kochen-im-cdf-schuelerklub/2023-11-24/
LOCATION:CDF Schülerklub\, Alte Hellersdorfer Straße 7\, Hellersdorf Nord\, 12629
END:VEVENT
BEGIN:VEVENT
DTSTART;TZID=Europe/Berlin:20231127T143000
DTEND;TZID=Europe/Berlin:20231127T170000
DTSTAMP:20260422T193327
CREATED:20230621T133703Z
LAST-MODIFIED:20230621T135955Z
UID:10003263-1701095400-1701104400@s130056251.online.de
SUMMARY:Spielenachmittag im CDF Schülerklub
DESCRIPTION:Ihr habt Lust auf Dart\, Billard\, Kicker oder verschiedene Spiele? Dann seit ihr hier genau richtig! An unserem Spielenachmittag laden wir euch herzlich ein mit uns zu spielen. Start ist um 14:30 Uhr. Kommt gerne mit euren Freunden vorbei und verbringt einen schönen Nachmittag im Schülerklub der CDF.
URL:http://s130056251.online.de/event/spielenachmittag-im-cdf-schuelerklub/2023-11-27/
LOCATION:CDF Schülerklub\, Alte Hellersdorfer Straße 7\, Hellersdorf Nord\, 12629
END:VEVENT
END:VCALENDAR