BEGIN:VCALENDAR
VERSION:2.0
PRODID:-//Was geht in Hellersdorf - ECPv6.1.2.2//NONSGML v1.0//EN
CALSCALE:GREGORIAN
METHOD:PUBLISH
X-WR-CALNAME:Was geht in Hellersdorf
X-ORIGINAL-URL:http://s130056251.online.de
X-WR-CALDESC:Veranstaltungen für Was geht in Hellersdorf
REFRESH-INTERVAL;VALUE=DURATION:PT1H
X-Robots-Tag:noindex
X-PUBLISHED-TTL:PT1H
BEGIN:VTIMEZONE
TZID:Europe/Berlin
BEGIN:DAYLIGHT
TZOFFSETFROM:+0100
TZOFFSETTO:+0200
TZNAME:CEST
DTSTART:20230326T010000
END:DAYLIGHT
BEGIN:STANDARD
TZOFFSETFROM:+0200
TZOFFSETTO:+0100
TZNAME:CET
DTSTART:20231029T010000
END:STANDARD
END:VTIMEZONE
BEGIN:VEVENT
DTSTART;TZID=Europe/Berlin:20230608T140000
DTEND;TZID=Europe/Berlin:20230608T200000
DTSTAMP:20260422T125254
CREATED:20230607T164009Z
LAST-MODIFIED:20230607T164311Z
UID:10000803-1686232800-1686254400@s130056251.online.de
SUMMARY:Kochen mit Flo
DESCRIPTION:Unsere Honorarkraft Flo kocht etwas zauberhaftes mit euch!
URL:http://s130056251.online.de/event/kochen-mit-flo-2/
LOCATION:Die Nische\, Louis-Lewin-Straße 40c\, Berlin\, Berlin\, 12627\, Germany
ATTACH;FMTTYPE=image/png:http://s130056251.online.de/wp-content/uploads/2023/06/Kochen.png
ORGANIZER;CN="Die%20Nische":MAILTO:die-nische@awo-spree-wuhle.de
END:VEVENT
BEGIN:VEVENT
DTSTART;TZID=Europe/Berlin:20230609T140000
DTEND;TZID=Europe/Berlin:20230609T160000
DTSTAMP:20260422T125254
CREATED:20230607T153106Z
LAST-MODIFIED:20230607T164246Z
UID:10000856-1686319200-1686326400@s130056251.online.de
SUMMARY:3D drucken mit Madeleine
DESCRIPTION:Entdeckt zusammen mit unserer Honorarkraft Madeleine die Welt des 3D druckens!
URL:http://s130056251.online.de/event/3d-drucken-mit-madeleine/2023-06-09/
LOCATION:Die Nische\, Louis-Lewin-Straße 40c\, Berlin\, Berlin\, 12627\, Germany
ATTACH;FMTTYPE=image/png:http://s130056251.online.de/wp-content/uploads/2023/06/3D-Drucker.png
ORGANIZER;CN="Die%20Nische":MAILTO:die-nische@awo-spree-wuhle.de
END:VEVENT
BEGIN:VEVENT
DTSTART;TZID=Europe/Berlin:20230610T140000
DTEND;TZID=Europe/Berlin:20230610T190000
DTSTAMP:20260422T125254
CREATED:20230322T170053Z
LAST-MODIFIED:20230505T125408Z
UID:10000089-1686405600-1686423600@s130056251.online.de
SUMMARY:Hallenfußball
DESCRIPTION:Jeden Samstag wird in der Turnhalle der Konrad Wachsmann- Oberschule Hallenfußball gespielt.\nAlter: 15-25 Jahren
URL:http://s130056251.online.de/event/hallenfussball/2023-06-10/
LOCATION:Die Nische\, Louis-Lewin-Straße 40c\, Berlin\, Berlin\, 12627\, Germany
ATTACH;FMTTYPE=image/jpeg:http://s130056251.online.de/wp-content/uploads/2023/03/Fussball-Ag-22.03.23-scaled-e1683291238251.jpg
END:VEVENT
BEGIN:VEVENT
DTSTART;TZID=Europe/Berlin:20230614T160000
DTEND;TZID=Europe/Berlin:20230614T180000
DTSTAMP:20260422T125254
CREATED:20230607T154953Z
LAST-MODIFIED:20230607T164148Z
UID:10000865-1686758400-1686765600@s130056251.online.de
SUMMARY:Theater mit Natalya
DESCRIPTION:Gemeinsam mit Natalya probiert ihr euch im Theater aus!
URL:http://s130056251.online.de/event/theater-mit-natalya/2023-06-14/
LOCATION:Die Nische\, Louis-Lewin-Straße 40c\, Berlin\, Berlin\, 12627\, Germany
ATTACH;FMTTYPE=image/jpeg:http://s130056251.online.de/wp-content/uploads/2023/06/istockphoto-628558186-612x612-1.jpg
ORGANIZER;CN="Die%20Nische":MAILTO:die-nische@awo-spree-wuhle.de
END:VEVENT
BEGIN:VEVENT
DTSTART;TZID=Europe/Berlin:20230615T140000
DTEND;TZID=Europe/Berlin:20230615T200000
DTSTAMP:20260422T125254
CREATED:20230607T150349Z
LAST-MODIFIED:20230607T164400Z
UID:10000804-1686837600-1686859200@s130056251.online.de
SUMMARY:Kochen mit Flo
DESCRIPTION:Unsere Honorarkraft Flo kocht etwas zauberhaftes mit euch!
URL:http://s130056251.online.de/event/kochen-mit-flo/2023-06-15/
LOCATION:Die Nische\, Louis-Lewin-Straße 40c\, Berlin\, Berlin\, 12627\, Germany
ATTACH;FMTTYPE=image/png:http://s130056251.online.de/wp-content/uploads/2023/06/Kochen.png
ORGANIZER;CN="Die%20Nische":MAILTO:die-nische@awo-spree-wuhle.de
END:VEVENT
BEGIN:VEVENT
DTSTART;TZID=Europe/Berlin:20230616T140000
DTEND;TZID=Europe/Berlin:20230616T160000
DTSTAMP:20260422T125254
CREATED:20230607T153106Z
LAST-MODIFIED:20230607T164246Z
UID:10000857-1686924000-1686931200@s130056251.online.de
SUMMARY:3D drucken mit Madeleine
DESCRIPTION:Entdeckt zusammen mit unserer Honorarkraft Madeleine die Welt des 3D druckens!
URL:http://s130056251.online.de/event/3d-drucken-mit-madeleine/2023-06-16/
LOCATION:Die Nische\, Louis-Lewin-Straße 40c\, Berlin\, Berlin\, 12627\, Germany
ATTACH;FMTTYPE=image/png:http://s130056251.online.de/wp-content/uploads/2023/06/3D-Drucker.png
ORGANIZER;CN="Die%20Nische":MAILTO:die-nische@awo-spree-wuhle.de
END:VEVENT
BEGIN:VEVENT
DTSTART;TZID=Europe/Berlin:20230617T140000
DTEND;TZID=Europe/Berlin:20230617T190000
DTSTAMP:20260422T125254
CREATED:20230322T170053Z
LAST-MODIFIED:20230505T125408Z
UID:10000091-1687010400-1687028400@s130056251.online.de
SUMMARY:Hallenfußball
DESCRIPTION:Jeden Samstag wird in der Turnhalle der Konrad Wachsmann- Oberschule Hallenfußball gespielt.\nAlter: 15-25 Jahren
URL:http://s130056251.online.de/event/hallenfussball/2023-06-17/
LOCATION:Die Nische\, Louis-Lewin-Straße 40c\, Berlin\, Berlin\, 12627\, Germany
ATTACH;FMTTYPE=image/jpeg:http://s130056251.online.de/wp-content/uploads/2023/03/Fussball-Ag-22.03.23-scaled-e1683291238251.jpg
END:VEVENT
BEGIN:VEVENT
DTSTART;TZID=Europe/Berlin:20230621T160000
DTEND;TZID=Europe/Berlin:20230621T180000
DTSTAMP:20260422T125254
CREATED:20230607T154953Z
LAST-MODIFIED:20230607T164148Z
UID:10000866-1687363200-1687370400@s130056251.online.de
SUMMARY:Theater mit Natalya
DESCRIPTION:Gemeinsam mit Natalya probiert ihr euch im Theater aus!
URL:http://s130056251.online.de/event/theater-mit-natalya/2023-06-21/
LOCATION:Die Nische\, Louis-Lewin-Straße 40c\, Berlin\, Berlin\, 12627\, Germany
ATTACH;FMTTYPE=image/jpeg:http://s130056251.online.de/wp-content/uploads/2023/06/istockphoto-628558186-612x612-1.jpg
ORGANIZER;CN="Die%20Nische":MAILTO:die-nische@awo-spree-wuhle.de
END:VEVENT
BEGIN:VEVENT
DTSTART;TZID=Europe/Berlin:20230622T140000
DTEND;TZID=Europe/Berlin:20230622T200000
DTSTAMP:20260422T125254
CREATED:20230607T150349Z
LAST-MODIFIED:20230607T164400Z
UID:10000805-1687442400-1687464000@s130056251.online.de
SUMMARY:Kochen mit Flo
DESCRIPTION:Unsere Honorarkraft Flo kocht etwas zauberhaftes mit euch!
URL:http://s130056251.online.de/event/kochen-mit-flo/2023-06-22/
LOCATION:Die Nische\, Louis-Lewin-Straße 40c\, Berlin\, Berlin\, 12627\, Germany
ATTACH;FMTTYPE=image/png:http://s130056251.online.de/wp-content/uploads/2023/06/Kochen.png
ORGANIZER;CN="Die%20Nische":MAILTO:die-nische@awo-spree-wuhle.de
END:VEVENT
BEGIN:VEVENT
DTSTART;TZID=Europe/Berlin:20230623T140000
DTEND;TZID=Europe/Berlin:20230623T160000
DTSTAMP:20260422T125254
CREATED:20230607T153106Z
LAST-MODIFIED:20230607T164246Z
UID:10000858-1687528800-1687536000@s130056251.online.de
SUMMARY:3D drucken mit Madeleine
DESCRIPTION:Entdeckt zusammen mit unserer Honorarkraft Madeleine die Welt des 3D druckens!
URL:http://s130056251.online.de/event/3d-drucken-mit-madeleine/2023-06-23/
LOCATION:Die Nische\, Louis-Lewin-Straße 40c\, Berlin\, Berlin\, 12627\, Germany
ATTACH;FMTTYPE=image/png:http://s130056251.online.de/wp-content/uploads/2023/06/3D-Drucker.png
ORGANIZER;CN="Die%20Nische":MAILTO:die-nische@awo-spree-wuhle.de
END:VEVENT
BEGIN:VEVENT
DTSTART;TZID=Europe/Berlin:20230624T140000
DTEND;TZID=Europe/Berlin:20230624T190000
DTSTAMP:20260422T125254
CREATED:20230322T170053Z
LAST-MODIFIED:20230505T125408Z
UID:10000093-1687615200-1687633200@s130056251.online.de
SUMMARY:Hallenfußball
DESCRIPTION:Jeden Samstag wird in der Turnhalle der Konrad Wachsmann- Oberschule Hallenfußball gespielt.\nAlter: 15-25 Jahren
URL:http://s130056251.online.de/event/hallenfussball/2023-06-24/
LOCATION:Die Nische\, Louis-Lewin-Straße 40c\, Berlin\, Berlin\, 12627\, Germany
ATTACH;FMTTYPE=image/jpeg:http://s130056251.online.de/wp-content/uploads/2023/03/Fussball-Ag-22.03.23-scaled-e1683291238251.jpg
END:VEVENT
BEGIN:VEVENT
DTSTART;TZID=Europe/Berlin:20230628T160000
DTEND;TZID=Europe/Berlin:20230628T180000
DTSTAMP:20260422T125254
CREATED:20230607T154953Z
LAST-MODIFIED:20230607T164148Z
UID:10000867-1687968000-1687975200@s130056251.online.de
SUMMARY:Theater mit Natalya
DESCRIPTION:Gemeinsam mit Natalya probiert ihr euch im Theater aus!
URL:http://s130056251.online.de/event/theater-mit-natalya/2023-06-28/
LOCATION:Die Nische\, Louis-Lewin-Straße 40c\, Berlin\, Berlin\, 12627\, Germany
ATTACH;FMTTYPE=image/jpeg:http://s130056251.online.de/wp-content/uploads/2023/06/istockphoto-628558186-612x612-1.jpg
ORGANIZER;CN="Die%20Nische":MAILTO:die-nische@awo-spree-wuhle.de
END:VEVENT
BEGIN:VEVENT
DTSTART;TZID=Europe/Berlin:20230629T140000
DTEND;TZID=Europe/Berlin:20230629T200000
DTSTAMP:20260422T125254
CREATED:20230607T150349Z
LAST-MODIFIED:20230607T164400Z
UID:10000806-1688047200-1688068800@s130056251.online.de
SUMMARY:Kochen mit Flo
DESCRIPTION:Unsere Honorarkraft Flo kocht etwas zauberhaftes mit euch!
URL:http://s130056251.online.de/event/kochen-mit-flo/2023-06-29/
LOCATION:Die Nische\, Louis-Lewin-Straße 40c\, Berlin\, Berlin\, 12627\, Germany
ATTACH;FMTTYPE=image/png:http://s130056251.online.de/wp-content/uploads/2023/06/Kochen.png
ORGANIZER;CN="Die%20Nische":MAILTO:die-nische@awo-spree-wuhle.de
END:VEVENT
BEGIN:VEVENT
DTSTART;TZID=Europe/Berlin:20230630T140000
DTEND;TZID=Europe/Berlin:20230630T160000
DTSTAMP:20260422T125254
CREATED:20230607T153106Z
LAST-MODIFIED:20230607T164246Z
UID:10000859-1688133600-1688140800@s130056251.online.de
SUMMARY:3D drucken mit Madeleine
DESCRIPTION:Entdeckt zusammen mit unserer Honorarkraft Madeleine die Welt des 3D druckens!
URL:http://s130056251.online.de/event/3d-drucken-mit-madeleine/2023-06-30/
LOCATION:Die Nische\, Louis-Lewin-Straße 40c\, Berlin\, Berlin\, 12627\, Germany
ATTACH;FMTTYPE=image/png:http://s130056251.online.de/wp-content/uploads/2023/06/3D-Drucker.png
ORGANIZER;CN="Die%20Nische":MAILTO:die-nische@awo-spree-wuhle.de
END:VEVENT
BEGIN:VEVENT
DTSTART;TZID=Europe/Berlin:20230701T140000
DTEND;TZID=Europe/Berlin:20230701T190000
DTSTAMP:20260422T125254
CREATED:20230322T170053Z
LAST-MODIFIED:20230505T125408Z
UID:10000095-1688220000-1688238000@s130056251.online.de
SUMMARY:Hallenfußball
DESCRIPTION:Jeden Samstag wird in der Turnhalle der Konrad Wachsmann- Oberschule Hallenfußball gespielt.\nAlter: 15-25 Jahren
URL:http://s130056251.online.de/event/hallenfussball/2023-07-01/
LOCATION:Die Nische\, Louis-Lewin-Straße 40c\, Berlin\, Berlin\, 12627\, Germany
ATTACH;FMTTYPE=image/jpeg:http://s130056251.online.de/wp-content/uploads/2023/03/Fussball-Ag-22.03.23-scaled-e1683291238251.jpg
END:VEVENT
BEGIN:VEVENT
DTSTART;TZID=Europe/Berlin:20230705T160000
DTEND;TZID=Europe/Berlin:20230705T180000
DTSTAMP:20260422T125254
CREATED:20230607T154953Z
LAST-MODIFIED:20230607T164148Z
UID:10000868-1688572800-1688580000@s130056251.online.de
SUMMARY:Theater mit Natalya
DESCRIPTION:Gemeinsam mit Natalya probiert ihr euch im Theater aus!
URL:http://s130056251.online.de/event/theater-mit-natalya/2023-07-05/
LOCATION:Die Nische\, Louis-Lewin-Straße 40c\, Berlin\, Berlin\, 12627\, Germany
ATTACH;FMTTYPE=image/jpeg:http://s130056251.online.de/wp-content/uploads/2023/06/istockphoto-628558186-612x612-1.jpg
ORGANIZER;CN="Die%20Nische":MAILTO:die-nische@awo-spree-wuhle.de
END:VEVENT
BEGIN:VEVENT
DTSTART;TZID=Europe/Berlin:20230706T140000
DTEND;TZID=Europe/Berlin:20230706T200000
DTSTAMP:20260422T125254
CREATED:20230607T150349Z
LAST-MODIFIED:20230607T164400Z
UID:10000807-1688652000-1688673600@s130056251.online.de
SUMMARY:Kochen mit Flo
DESCRIPTION:Unsere Honorarkraft Flo kocht etwas zauberhaftes mit euch!
URL:http://s130056251.online.de/event/kochen-mit-flo/2023-07-06/
LOCATION:Die Nische\, Louis-Lewin-Straße 40c\, Berlin\, Berlin\, 12627\, Germany
ATTACH;FMTTYPE=image/png:http://s130056251.online.de/wp-content/uploads/2023/06/Kochen.png
ORGANIZER;CN="Die%20Nische":MAILTO:die-nische@awo-spree-wuhle.de
END:VEVENT
BEGIN:VEVENT
DTSTART;TZID=Europe/Berlin:20230707T140000
DTEND;TZID=Europe/Berlin:20230707T160000
DTSTAMP:20260422T125254
CREATED:20230607T153106Z
LAST-MODIFIED:20230607T164246Z
UID:10000860-1688738400-1688745600@s130056251.online.de
SUMMARY:3D drucken mit Madeleine
DESCRIPTION:Entdeckt zusammen mit unserer Honorarkraft Madeleine die Welt des 3D druckens!
URL:http://s130056251.online.de/event/3d-drucken-mit-madeleine/2023-07-07/
LOCATION:Die Nische\, Louis-Lewin-Straße 40c\, Berlin\, Berlin\, 12627\, Germany
ATTACH;FMTTYPE=image/png:http://s130056251.online.de/wp-content/uploads/2023/06/3D-Drucker.png
ORGANIZER;CN="Die%20Nische":MAILTO:die-nische@awo-spree-wuhle.de
END:VEVENT
BEGIN:VEVENT
DTSTART;TZID=Europe/Berlin:20230708T140000
DTEND;TZID=Europe/Berlin:20230708T190000
DTSTAMP:20260422T125254
CREATED:20230322T170053Z
LAST-MODIFIED:20230505T125408Z
UID:10000097-1688824800-1688842800@s130056251.online.de
SUMMARY:Hallenfußball
DESCRIPTION:Jeden Samstag wird in der Turnhalle der Konrad Wachsmann- Oberschule Hallenfußball gespielt.\nAlter: 15-25 Jahren
URL:http://s130056251.online.de/event/hallenfussball/2023-07-08/
LOCATION:Die Nische\, Louis-Lewin-Straße 40c\, Berlin\, Berlin\, 12627\, Germany
ATTACH;FMTTYPE=image/jpeg:http://s130056251.online.de/wp-content/uploads/2023/03/Fussball-Ag-22.03.23-scaled-e1683291238251.jpg
END:VEVENT
BEGIN:VEVENT
DTSTART;TZID=Europe/Berlin:20230712T160000
DTEND;TZID=Europe/Berlin:20230712T180000
DTSTAMP:20260422T125254
CREATED:20230607T154953Z
LAST-MODIFIED:20230607T164148Z
UID:10000869-1689177600-1689184800@s130056251.online.de
SUMMARY:Theater mit Natalya
DESCRIPTION:Gemeinsam mit Natalya probiert ihr euch im Theater aus!
URL:http://s130056251.online.de/event/theater-mit-natalya/2023-07-12/
LOCATION:Die Nische\, Louis-Lewin-Straße 40c\, Berlin\, Berlin\, 12627\, Germany
ATTACH;FMTTYPE=image/jpeg:http://s130056251.online.de/wp-content/uploads/2023/06/istockphoto-628558186-612x612-1.jpg
ORGANIZER;CN="Die%20Nische":MAILTO:die-nische@awo-spree-wuhle.de
END:VEVENT
BEGIN:VEVENT
DTSTART;TZID=Europe/Berlin:20230713T140000
DTEND;TZID=Europe/Berlin:20230713T200000
DTSTAMP:20260422T125254
CREATED:20230607T150349Z
LAST-MODIFIED:20230607T164400Z
UID:10000808-1689256800-1689278400@s130056251.online.de
SUMMARY:Kochen mit Flo
DESCRIPTION:Unsere Honorarkraft Flo kocht etwas zauberhaftes mit euch!
URL:http://s130056251.online.de/event/kochen-mit-flo/2023-07-13/
LOCATION:Die Nische\, Louis-Lewin-Straße 40c\, Berlin\, Berlin\, 12627\, Germany
ATTACH;FMTTYPE=image/png:http://s130056251.online.de/wp-content/uploads/2023/06/Kochen.png
ORGANIZER;CN="Die%20Nische":MAILTO:die-nische@awo-spree-wuhle.de
END:VEVENT
BEGIN:VEVENT
DTSTART;TZID=Europe/Berlin:20230714T140000
DTEND;TZID=Europe/Berlin:20230714T160000
DTSTAMP:20260422T125254
CREATED:20230607T153106Z
LAST-MODIFIED:20230607T164246Z
UID:10000861-1689343200-1689350400@s130056251.online.de
SUMMARY:3D drucken mit Madeleine
DESCRIPTION:Entdeckt zusammen mit unserer Honorarkraft Madeleine die Welt des 3D druckens!
URL:http://s130056251.online.de/event/3d-drucken-mit-madeleine/2023-07-14/
LOCATION:Die Nische\, Louis-Lewin-Straße 40c\, Berlin\, Berlin\, 12627\, Germany
ATTACH;FMTTYPE=image/png:http://s130056251.online.de/wp-content/uploads/2023/06/3D-Drucker.png
ORGANIZER;CN="Die%20Nische":MAILTO:die-nische@awo-spree-wuhle.de
END:VEVENT
BEGIN:VEVENT
DTSTART;TZID=Europe/Berlin:20230715T140000
DTEND;TZID=Europe/Berlin:20230715T190000
DTSTAMP:20260422T125254
CREATED:20230322T170053Z
LAST-MODIFIED:20230505T125408Z
UID:10000099-1689429600-1689447600@s130056251.online.de
SUMMARY:Hallenfußball
DESCRIPTION:Jeden Samstag wird in der Turnhalle der Konrad Wachsmann- Oberschule Hallenfußball gespielt.\nAlter: 15-25 Jahren
URL:http://s130056251.online.de/event/hallenfussball/2023-07-15/
LOCATION:Die Nische\, Louis-Lewin-Straße 40c\, Berlin\, Berlin\, 12627\, Germany
ATTACH;FMTTYPE=image/jpeg:http://s130056251.online.de/wp-content/uploads/2023/03/Fussball-Ag-22.03.23-scaled-e1683291238251.jpg
END:VEVENT
BEGIN:VEVENT
DTSTART;TZID=Europe/Berlin:20230719T160000
DTEND;TZID=Europe/Berlin:20230719T180000
DTSTAMP:20260422T125254
CREATED:20230607T154953Z
LAST-MODIFIED:20230607T164148Z
UID:10000870-1689782400-1689789600@s130056251.online.de
SUMMARY:Theater mit Natalya
DESCRIPTION:Gemeinsam mit Natalya probiert ihr euch im Theater aus!
URL:http://s130056251.online.de/event/theater-mit-natalya/2023-07-19/
LOCATION:Die Nische\, Louis-Lewin-Straße 40c\, Berlin\, Berlin\, 12627\, Germany
ATTACH;FMTTYPE=image/jpeg:http://s130056251.online.de/wp-content/uploads/2023/06/istockphoto-628558186-612x612-1.jpg
ORGANIZER;CN="Die%20Nische":MAILTO:die-nische@awo-spree-wuhle.de
END:VEVENT
BEGIN:VEVENT
DTSTART;TZID=Europe/Berlin:20230720T140000
DTEND;TZID=Europe/Berlin:20230720T200000
DTSTAMP:20260422T125254
CREATED:20230607T150349Z
LAST-MODIFIED:20230607T164400Z
UID:10000809-1689861600-1689883200@s130056251.online.de
SUMMARY:Kochen mit Flo
DESCRIPTION:Unsere Honorarkraft Flo kocht etwas zauberhaftes mit euch!
URL:http://s130056251.online.de/event/kochen-mit-flo/2023-07-20/
LOCATION:Die Nische\, Louis-Lewin-Straße 40c\, Berlin\, Berlin\, 12627\, Germany
ATTACH;FMTTYPE=image/png:http://s130056251.online.de/wp-content/uploads/2023/06/Kochen.png
ORGANIZER;CN="Die%20Nische":MAILTO:die-nische@awo-spree-wuhle.de
END:VEVENT
BEGIN:VEVENT
DTSTART;TZID=Europe/Berlin:20230721T140000
DTEND;TZID=Europe/Berlin:20230721T160000
DTSTAMP:20260422T125254
CREATED:20230607T153106Z
LAST-MODIFIED:20230607T164246Z
UID:10000862-1689948000-1689955200@s130056251.online.de
SUMMARY:3D drucken mit Madeleine
DESCRIPTION:Entdeckt zusammen mit unserer Honorarkraft Madeleine die Welt des 3D druckens!
URL:http://s130056251.online.de/event/3d-drucken-mit-madeleine/2023-07-21/
LOCATION:Die Nische\, Louis-Lewin-Straße 40c\, Berlin\, Berlin\, 12627\, Germany
ATTACH;FMTTYPE=image/png:http://s130056251.online.de/wp-content/uploads/2023/06/3D-Drucker.png
ORGANIZER;CN="Die%20Nische":MAILTO:die-nische@awo-spree-wuhle.de
END:VEVENT
BEGIN:VEVENT
DTSTART;TZID=Europe/Berlin:20230722T140000
DTEND;TZID=Europe/Berlin:20230722T190000
DTSTAMP:20260422T125254
CREATED:20230322T170053Z
LAST-MODIFIED:20230505T125408Z
UID:10000101-1690034400-1690052400@s130056251.online.de
SUMMARY:Hallenfußball
DESCRIPTION:Jeden Samstag wird in der Turnhalle der Konrad Wachsmann- Oberschule Hallenfußball gespielt.\nAlter: 15-25 Jahren
URL:http://s130056251.online.de/event/hallenfussball/2023-07-22/
LOCATION:Die Nische\, Louis-Lewin-Straße 40c\, Berlin\, Berlin\, 12627\, Germany
ATTACH;FMTTYPE=image/jpeg:http://s130056251.online.de/wp-content/uploads/2023/03/Fussball-Ag-22.03.23-scaled-e1683291238251.jpg
END:VEVENT
BEGIN:VEVENT
DTSTART;TZID=Europe/Berlin:20230726T160000
DTEND;TZID=Europe/Berlin:20230726T180000
DTSTAMP:20260422T125254
CREATED:20230607T154953Z
LAST-MODIFIED:20230607T164148Z
UID:10000871-1690387200-1690394400@s130056251.online.de
SUMMARY:Theater mit Natalya
DESCRIPTION:Gemeinsam mit Natalya probiert ihr euch im Theater aus!
URL:http://s130056251.online.de/event/theater-mit-natalya/2023-07-26/
LOCATION:Die Nische\, Louis-Lewin-Straße 40c\, Berlin\, Berlin\, 12627\, Germany
ATTACH;FMTTYPE=image/jpeg:http://s130056251.online.de/wp-content/uploads/2023/06/istockphoto-628558186-612x612-1.jpg
ORGANIZER;CN="Die%20Nische":MAILTO:die-nische@awo-spree-wuhle.de
END:VEVENT
BEGIN:VEVENT
DTSTART;TZID=Europe/Berlin:20230727T140000
DTEND;TZID=Europe/Berlin:20230727T200000
DTSTAMP:20260422T125254
CREATED:20230607T150349Z
LAST-MODIFIED:20230607T164400Z
UID:10000810-1690466400-1690488000@s130056251.online.de
SUMMARY:Kochen mit Flo
DESCRIPTION:Unsere Honorarkraft Flo kocht etwas zauberhaftes mit euch!
URL:http://s130056251.online.de/event/kochen-mit-flo/2023-07-27/
LOCATION:Die Nische\, Louis-Lewin-Straße 40c\, Berlin\, Berlin\, 12627\, Germany
ATTACH;FMTTYPE=image/png:http://s130056251.online.de/wp-content/uploads/2023/06/Kochen.png
ORGANIZER;CN="Die%20Nische":MAILTO:die-nische@awo-spree-wuhle.de
END:VEVENT
BEGIN:VEVENT
DTSTART;TZID=Europe/Berlin:20230728T140000
DTEND;TZID=Europe/Berlin:20230728T160000
DTSTAMP:20260422T125254
CREATED:20230607T153106Z
LAST-MODIFIED:20230607T164246Z
UID:10000863-1690552800-1690560000@s130056251.online.de
SUMMARY:3D drucken mit Madeleine
DESCRIPTION:Entdeckt zusammen mit unserer Honorarkraft Madeleine die Welt des 3D druckens!
URL:http://s130056251.online.de/event/3d-drucken-mit-madeleine/2023-07-28/
LOCATION:Die Nische\, Louis-Lewin-Straße 40c\, Berlin\, Berlin\, 12627\, Germany
ATTACH;FMTTYPE=image/png:http://s130056251.online.de/wp-content/uploads/2023/06/3D-Drucker.png
ORGANIZER;CN="Die%20Nische":MAILTO:die-nische@awo-spree-wuhle.de
END:VEVENT
END:VCALENDAR