BEGIN:VCALENDAR
VERSION:2.0
PRODID:-//Was geht in Hellersdorf - ECPv6.1.2.2//NONSGML v1.0//EN
CALSCALE:GREGORIAN
METHOD:PUBLISH
X-ORIGINAL-URL:http://s130056251.online.de
X-WR-CALDESC:Veranstaltungen für Was geht in Hellersdorf
REFRESH-INTERVAL;VALUE=DURATION:PT1H
X-Robots-Tag:noindex
X-PUBLISHED-TTL:PT1H
BEGIN:VTIMEZONE
TZID:Europe/Berlin
BEGIN:DAYLIGHT
TZOFFSETFROM:+0100
TZOFFSETTO:+0200
TZNAME:CEST
DTSTART:20230326T010000
END:DAYLIGHT
BEGIN:STANDARD
TZOFFSETFROM:+0200
TZOFFSETTO:+0100
TZNAME:CET
DTSTART:20231029T010000
END:STANDARD
END:VTIMEZONE
BEGIN:VEVENT
DTSTART;TZID=Europe/Berlin:20230920T160000
DTEND;TZID=Europe/Berlin:20230920T180000
DTSTAMP:20260420T171515
CREATED:20230825T155122Z
LAST-MODIFIED:20230825T155122Z
UID:10003557-1695225600-1695232800@s130056251.online.de
SUMMARY:Hallensport
DESCRIPTION:Wir laden zum gemeinsamen Sporteln in der Turnhalle der CDF-Schule. Verschiedene Ballsportarten\, sowie Sportspiele werden je nach Lust & Laune angeboten.\nAußerdem findet eine Volleyball-AG zur gleichen Zeit statt.
URL:http://s130056251.online.de/event/hallensport/2023-09-20/
LOCATION:Jugendklub Joker\, Alte Hellersdorfer Str. 3\, Berlin\, Berlin\, 12629\, Germany
END:VEVENT
BEGIN:VEVENT
DTSTART;TZID=Europe/Berlin:20230922T140000
DTEND;TZID=Europe/Berlin:20230922T180000
DTSTAMP:20260420T171515
CREATED:20230825T153624Z
LAST-MODIFIED:20230825T153624Z
UID:10003539-1695391200-1695405600@s130056251.online.de
SUMMARY:Koch Dir Was
DESCRIPTION:Wir kochen im Joker zusammen mit den Besucher*innen verschiedenste Gerichte. Schließt euch an und begleitet uns bei der Ideenfindung\, im Kochprozess & dem Kennenlernen unterschiedlichster kulinarischer Spezialitäten.
URL:http://s130056251.online.de/event/koch-dir-was/2023-09-22/
LOCATION:Jugendklub Joker\, Alte Hellersdorfer Str. 3\, Berlin\, Berlin\, 12629\, Germany
ATTACH;FMTTYPE=image/jpeg:http://s130056251.online.de/wp-content/uploads/2023/08/DSC00070-scaled.jpg
END:VEVENT
BEGIN:VEVENT
DTSTART;TZID=Europe/Berlin:20230923T153000
DTEND;TZID=Europe/Berlin:20230923T173000
DTSTAMP:20260420T171515
CREATED:20230825T155247Z
LAST-MODIFIED:20230825T155247Z
UID:10003575-1695483000-1695490200@s130056251.online.de
SUMMARY:Hallensport
DESCRIPTION:Wir laden zum gemeinsamen Sporteln in der Turnhalle der CDF-Schule. Verschiedene Ballsportarten\, sowie Sportspiele werden je nach Lust & Laune angeboten.\nAußerdem findet eine Volleyball-AG zur gleichen Zeit statt.
URL:http://s130056251.online.de/event/hallensport-2/2023-09-23/
LOCATION:Jugendklub Joker\, Alte Hellersdorfer Str. 3\, Berlin\, Berlin\, 12629\, Germany
END:VEVENT
BEGIN:VEVENT
DTSTART;TZID=Europe/Berlin:20230927T160000
DTEND;TZID=Europe/Berlin:20230927T180000
DTSTAMP:20260420T171515
CREATED:20230825T155122Z
LAST-MODIFIED:20230825T155122Z
UID:10003558-1695830400-1695837600@s130056251.online.de
SUMMARY:Hallensport
DESCRIPTION:Wir laden zum gemeinsamen Sporteln in der Turnhalle der CDF-Schule. Verschiedene Ballsportarten\, sowie Sportspiele werden je nach Lust & Laune angeboten.\nAußerdem findet eine Volleyball-AG zur gleichen Zeit statt.
URL:http://s130056251.online.de/event/hallensport/2023-09-27/
LOCATION:Jugendklub Joker\, Alte Hellersdorfer Str. 3\, Berlin\, Berlin\, 12629\, Germany
END:VEVENT
BEGIN:VEVENT
DTSTART;TZID=Europe/Berlin:20230929T140000
DTEND;TZID=Europe/Berlin:20230929T180000
DTSTAMP:20260420T171515
CREATED:20230825T153624Z
LAST-MODIFIED:20230825T153624Z
UID:10003540-1695996000-1696010400@s130056251.online.de
SUMMARY:Koch Dir Was
DESCRIPTION:Wir kochen im Joker zusammen mit den Besucher*innen verschiedenste Gerichte. Schließt euch an und begleitet uns bei der Ideenfindung\, im Kochprozess & dem Kennenlernen unterschiedlichster kulinarischer Spezialitäten.
URL:http://s130056251.online.de/event/koch-dir-was/2023-09-29/
LOCATION:Jugendklub Joker\, Alte Hellersdorfer Str. 3\, Berlin\, Berlin\, 12629\, Germany
ATTACH;FMTTYPE=image/jpeg:http://s130056251.online.de/wp-content/uploads/2023/08/DSC00070-scaled.jpg
END:VEVENT
BEGIN:VEVENT
DTSTART;TZID=Europe/Berlin:20230930T153000
DTEND;TZID=Europe/Berlin:20230930T173000
DTSTAMP:20260420T171515
CREATED:20230825T155247Z
LAST-MODIFIED:20230825T155247Z
UID:10003576-1696087800-1696095000@s130056251.online.de
SUMMARY:Hallensport
DESCRIPTION:Wir laden zum gemeinsamen Sporteln in der Turnhalle der CDF-Schule. Verschiedene Ballsportarten\, sowie Sportspiele werden je nach Lust & Laune angeboten.\nAußerdem findet eine Volleyball-AG zur gleichen Zeit statt.
URL:http://s130056251.online.de/event/hallensport-2/2023-09-30/
LOCATION:Jugendklub Joker\, Alte Hellersdorfer Str. 3\, Berlin\, Berlin\, 12629\, Germany
END:VEVENT
BEGIN:VEVENT
DTSTART;TZID=Europe/Berlin:20231004T160000
DTEND;TZID=Europe/Berlin:20231004T180000
DTSTAMP:20260420T171515
CREATED:20230825T155122Z
LAST-MODIFIED:20230825T155122Z
UID:10003559-1696435200-1696442400@s130056251.online.de
SUMMARY:Hallensport
DESCRIPTION:Wir laden zum gemeinsamen Sporteln in der Turnhalle der CDF-Schule. Verschiedene Ballsportarten\, sowie Sportspiele werden je nach Lust & Laune angeboten.\nAußerdem findet eine Volleyball-AG zur gleichen Zeit statt.
URL:http://s130056251.online.de/event/hallensport/2023-10-04/
LOCATION:Jugendklub Joker\, Alte Hellersdorfer Str. 3\, Berlin\, Berlin\, 12629\, Germany
END:VEVENT
BEGIN:VEVENT
DTSTART;TZID=Europe/Berlin:20231006T140000
DTEND;TZID=Europe/Berlin:20231006T180000
DTSTAMP:20260420T171515
CREATED:20230825T153624Z
LAST-MODIFIED:20230825T153624Z
UID:10003541-1696600800-1696615200@s130056251.online.de
SUMMARY:Koch Dir Was
DESCRIPTION:Wir kochen im Joker zusammen mit den Besucher*innen verschiedenste Gerichte. Schließt euch an und begleitet uns bei der Ideenfindung\, im Kochprozess & dem Kennenlernen unterschiedlichster kulinarischer Spezialitäten.
URL:http://s130056251.online.de/event/koch-dir-was/2023-10-06/
LOCATION:Jugendklub Joker\, Alte Hellersdorfer Str. 3\, Berlin\, Berlin\, 12629\, Germany
ATTACH;FMTTYPE=image/jpeg:http://s130056251.online.de/wp-content/uploads/2023/08/DSC00070-scaled.jpg
END:VEVENT
BEGIN:VEVENT
DTSTART;TZID=Europe/Berlin:20231007T153000
DTEND;TZID=Europe/Berlin:20231007T173000
DTSTAMP:20260420T171515
CREATED:20230825T155247Z
LAST-MODIFIED:20230825T155247Z
UID:10003577-1696692600-1696699800@s130056251.online.de
SUMMARY:Hallensport
DESCRIPTION:Wir laden zum gemeinsamen Sporteln in der Turnhalle der CDF-Schule. Verschiedene Ballsportarten\, sowie Sportspiele werden je nach Lust & Laune angeboten.\nAußerdem findet eine Volleyball-AG zur gleichen Zeit statt.
URL:http://s130056251.online.de/event/hallensport-2/2023-10-07/
LOCATION:Jugendklub Joker\, Alte Hellersdorfer Str. 3\, Berlin\, Berlin\, 12629\, Germany
END:VEVENT
BEGIN:VEVENT
DTSTART;TZID=Europe/Berlin:20231011T160000
DTEND;TZID=Europe/Berlin:20231011T180000
DTSTAMP:20260420T171515
CREATED:20230825T155122Z
LAST-MODIFIED:20230825T155122Z
UID:10003560-1697040000-1697047200@s130056251.online.de
SUMMARY:Hallensport
DESCRIPTION:Wir laden zum gemeinsamen Sporteln in der Turnhalle der CDF-Schule. Verschiedene Ballsportarten\, sowie Sportspiele werden je nach Lust & Laune angeboten.\nAußerdem findet eine Volleyball-AG zur gleichen Zeit statt.
URL:http://s130056251.online.de/event/hallensport/2023-10-11/
LOCATION:Jugendklub Joker\, Alte Hellersdorfer Str. 3\, Berlin\, Berlin\, 12629\, Germany
END:VEVENT
BEGIN:VEVENT
DTSTART;TZID=Europe/Berlin:20231013T140000
DTEND;TZID=Europe/Berlin:20231013T180000
DTSTAMP:20260420T171515
CREATED:20230825T153624Z
LAST-MODIFIED:20230825T153624Z
UID:10003542-1697205600-1697220000@s130056251.online.de
SUMMARY:Koch Dir Was
DESCRIPTION:Wir kochen im Joker zusammen mit den Besucher*innen verschiedenste Gerichte. Schließt euch an und begleitet uns bei der Ideenfindung\, im Kochprozess & dem Kennenlernen unterschiedlichster kulinarischer Spezialitäten.
URL:http://s130056251.online.de/event/koch-dir-was/2023-10-13/
LOCATION:Jugendklub Joker\, Alte Hellersdorfer Str. 3\, Berlin\, Berlin\, 12629\, Germany
ATTACH;FMTTYPE=image/jpeg:http://s130056251.online.de/wp-content/uploads/2023/08/DSC00070-scaled.jpg
END:VEVENT
BEGIN:VEVENT
DTSTART;TZID=Europe/Berlin:20231014T153000
DTEND;TZID=Europe/Berlin:20231014T173000
DTSTAMP:20260420T171515
CREATED:20230825T155247Z
LAST-MODIFIED:20230825T155247Z
UID:10003578-1697297400-1697304600@s130056251.online.de
SUMMARY:Hallensport
DESCRIPTION:Wir laden zum gemeinsamen Sporteln in der Turnhalle der CDF-Schule. Verschiedene Ballsportarten\, sowie Sportspiele werden je nach Lust & Laune angeboten.\nAußerdem findet eine Volleyball-AG zur gleichen Zeit statt.
URL:http://s130056251.online.de/event/hallensport-2/2023-10-14/
LOCATION:Jugendklub Joker\, Alte Hellersdorfer Str. 3\, Berlin\, Berlin\, 12629\, Germany
END:VEVENT
BEGIN:VEVENT
DTSTART;TZID=Europe/Berlin:20231018T160000
DTEND;TZID=Europe/Berlin:20231018T180000
DTSTAMP:20260420T171515
CREATED:20230825T155122Z
LAST-MODIFIED:20230825T155122Z
UID:10003561-1697644800-1697652000@s130056251.online.de
SUMMARY:Hallensport
DESCRIPTION:Wir laden zum gemeinsamen Sporteln in der Turnhalle der CDF-Schule. Verschiedene Ballsportarten\, sowie Sportspiele werden je nach Lust & Laune angeboten.\nAußerdem findet eine Volleyball-AG zur gleichen Zeit statt.
URL:http://s130056251.online.de/event/hallensport/2023-10-18/
LOCATION:Jugendklub Joker\, Alte Hellersdorfer Str. 3\, Berlin\, Berlin\, 12629\, Germany
END:VEVENT
BEGIN:VEVENT
DTSTART;TZID=Europe/Berlin:20231020T140000
DTEND;TZID=Europe/Berlin:20231020T180000
DTSTAMP:20260420T171515
CREATED:20230825T153624Z
LAST-MODIFIED:20230825T153624Z
UID:10003543-1697810400-1697824800@s130056251.online.de
SUMMARY:Koch Dir Was
DESCRIPTION:Wir kochen im Joker zusammen mit den Besucher*innen verschiedenste Gerichte. Schließt euch an und begleitet uns bei der Ideenfindung\, im Kochprozess & dem Kennenlernen unterschiedlichster kulinarischer Spezialitäten.
URL:http://s130056251.online.de/event/koch-dir-was/2023-10-20/
LOCATION:Jugendklub Joker\, Alte Hellersdorfer Str. 3\, Berlin\, Berlin\, 12629\, Germany
ATTACH;FMTTYPE=image/jpeg:http://s130056251.online.de/wp-content/uploads/2023/08/DSC00070-scaled.jpg
END:VEVENT
BEGIN:VEVENT
DTSTART;TZID=Europe/Berlin:20231021T153000
DTEND;TZID=Europe/Berlin:20231021T173000
DTSTAMP:20260420T171515
CREATED:20230825T155247Z
LAST-MODIFIED:20230825T155247Z
UID:10003579-1697902200-1697909400@s130056251.online.de
SUMMARY:Hallensport
DESCRIPTION:Wir laden zum gemeinsamen Sporteln in der Turnhalle der CDF-Schule. Verschiedene Ballsportarten\, sowie Sportspiele werden je nach Lust & Laune angeboten.\nAußerdem findet eine Volleyball-AG zur gleichen Zeit statt.
URL:http://s130056251.online.de/event/hallensport-2/2023-10-21/
LOCATION:Jugendklub Joker\, Alte Hellersdorfer Str. 3\, Berlin\, Berlin\, 12629\, Germany
END:VEVENT
BEGIN:VEVENT
DTSTART;TZID=Europe/Berlin:20231025T160000
DTEND;TZID=Europe/Berlin:20231025T180000
DTSTAMP:20260420T171515
CREATED:20230825T155122Z
LAST-MODIFIED:20230825T155122Z
UID:10003562-1698249600-1698256800@s130056251.online.de
SUMMARY:Hallensport
DESCRIPTION:Wir laden zum gemeinsamen Sporteln in der Turnhalle der CDF-Schule. Verschiedene Ballsportarten\, sowie Sportspiele werden je nach Lust & Laune angeboten.\nAußerdem findet eine Volleyball-AG zur gleichen Zeit statt.
URL:http://s130056251.online.de/event/hallensport/2023-10-25/
LOCATION:Jugendklub Joker\, Alte Hellersdorfer Str. 3\, Berlin\, Berlin\, 12629\, Germany
END:VEVENT
BEGIN:VEVENT
DTSTART;TZID=Europe/Berlin:20231027T140000
DTEND;TZID=Europe/Berlin:20231027T180000
DTSTAMP:20260420T171515
CREATED:20230825T153624Z
LAST-MODIFIED:20230825T153624Z
UID:10003544-1698415200-1698429600@s130056251.online.de
SUMMARY:Koch Dir Was
DESCRIPTION:Wir kochen im Joker zusammen mit den Besucher*innen verschiedenste Gerichte. Schließt euch an und begleitet uns bei der Ideenfindung\, im Kochprozess & dem Kennenlernen unterschiedlichster kulinarischer Spezialitäten.
URL:http://s130056251.online.de/event/koch-dir-was/2023-10-27/
LOCATION:Jugendklub Joker\, Alte Hellersdorfer Str. 3\, Berlin\, Berlin\, 12629\, Germany
ATTACH;FMTTYPE=image/jpeg:http://s130056251.online.de/wp-content/uploads/2023/08/DSC00070-scaled.jpg
END:VEVENT
BEGIN:VEVENT
DTSTART;TZID=Europe/Berlin:20231028T153000
DTEND;TZID=Europe/Berlin:20231028T173000
DTSTAMP:20260420T171515
CREATED:20230825T155247Z
LAST-MODIFIED:20230825T155247Z
UID:10003580-1698507000-1698514200@s130056251.online.de
SUMMARY:Hallensport
DESCRIPTION:Wir laden zum gemeinsamen Sporteln in der Turnhalle der CDF-Schule. Verschiedene Ballsportarten\, sowie Sportspiele werden je nach Lust & Laune angeboten.\nAußerdem findet eine Volleyball-AG zur gleichen Zeit statt.
URL:http://s130056251.online.de/event/hallensport-2/2023-10-28/
LOCATION:Jugendklub Joker\, Alte Hellersdorfer Str. 3\, Berlin\, Berlin\, 12629\, Germany
END:VEVENT
BEGIN:VEVENT
DTSTART;TZID=Europe/Berlin:20231101T160000
DTEND;TZID=Europe/Berlin:20231101T180000
DTSTAMP:20260420T171515
CREATED:20230825T155122Z
LAST-MODIFIED:20230825T155122Z
UID:10003563-1698854400-1698861600@s130056251.online.de
SUMMARY:Hallensport
DESCRIPTION:Wir laden zum gemeinsamen Sporteln in der Turnhalle der CDF-Schule. Verschiedene Ballsportarten\, sowie Sportspiele werden je nach Lust & Laune angeboten.\nAußerdem findet eine Volleyball-AG zur gleichen Zeit statt.
URL:http://s130056251.online.de/event/hallensport/2023-11-01/
LOCATION:Jugendklub Joker\, Alte Hellersdorfer Str. 3\, Berlin\, Berlin\, 12629\, Germany
END:VEVENT
BEGIN:VEVENT
DTSTART;TZID=Europe/Berlin:20231103T140000
DTEND;TZID=Europe/Berlin:20231103T180000
DTSTAMP:20260420T171515
CREATED:20230825T153624Z
LAST-MODIFIED:20230825T153624Z
UID:10003545-1699020000-1699034400@s130056251.online.de
SUMMARY:Koch Dir Was
DESCRIPTION:Wir kochen im Joker zusammen mit den Besucher*innen verschiedenste Gerichte. Schließt euch an und begleitet uns bei der Ideenfindung\, im Kochprozess & dem Kennenlernen unterschiedlichster kulinarischer Spezialitäten.
URL:http://s130056251.online.de/event/koch-dir-was/2023-11-03/
LOCATION:Jugendklub Joker\, Alte Hellersdorfer Str. 3\, Berlin\, Berlin\, 12629\, Germany
ATTACH;FMTTYPE=image/jpeg:http://s130056251.online.de/wp-content/uploads/2023/08/DSC00070-scaled.jpg
END:VEVENT
BEGIN:VEVENT
DTSTART;TZID=Europe/Berlin:20231104T153000
DTEND;TZID=Europe/Berlin:20231104T173000
DTSTAMP:20260420T171515
CREATED:20230825T155247Z
LAST-MODIFIED:20230825T155247Z
UID:10003581-1699111800-1699119000@s130056251.online.de
SUMMARY:Hallensport
DESCRIPTION:Wir laden zum gemeinsamen Sporteln in der Turnhalle der CDF-Schule. Verschiedene Ballsportarten\, sowie Sportspiele werden je nach Lust & Laune angeboten.\nAußerdem findet eine Volleyball-AG zur gleichen Zeit statt.
URL:http://s130056251.online.de/event/hallensport-2/2023-11-04/
LOCATION:Jugendklub Joker\, Alte Hellersdorfer Str. 3\, Berlin\, Berlin\, 12629\, Germany
END:VEVENT
BEGIN:VEVENT
DTSTART;TZID=Europe/Berlin:20231108T160000
DTEND;TZID=Europe/Berlin:20231108T180000
DTSTAMP:20260420T171515
CREATED:20230825T155122Z
LAST-MODIFIED:20230825T155122Z
UID:10003564-1699459200-1699466400@s130056251.online.de
SUMMARY:Hallensport
DESCRIPTION:Wir laden zum gemeinsamen Sporteln in der Turnhalle der CDF-Schule. Verschiedene Ballsportarten\, sowie Sportspiele werden je nach Lust & Laune angeboten.\nAußerdem findet eine Volleyball-AG zur gleichen Zeit statt.
URL:http://s130056251.online.de/event/hallensport/2023-11-08/
LOCATION:Jugendklub Joker\, Alte Hellersdorfer Str. 3\, Berlin\, Berlin\, 12629\, Germany
END:VEVENT
BEGIN:VEVENT
DTSTART;TZID=Europe/Berlin:20231110T140000
DTEND;TZID=Europe/Berlin:20231110T180000
DTSTAMP:20260420T171515
CREATED:20230825T153624Z
LAST-MODIFIED:20230825T153624Z
UID:10003546-1699624800-1699639200@s130056251.online.de
SUMMARY:Koch Dir Was
DESCRIPTION:Wir kochen im Joker zusammen mit den Besucher*innen verschiedenste Gerichte. Schließt euch an und begleitet uns bei der Ideenfindung\, im Kochprozess & dem Kennenlernen unterschiedlichster kulinarischer Spezialitäten.
URL:http://s130056251.online.de/event/koch-dir-was/2023-11-10/
LOCATION:Jugendklub Joker\, Alte Hellersdorfer Str. 3\, Berlin\, Berlin\, 12629\, Germany
ATTACH;FMTTYPE=image/jpeg:http://s130056251.online.de/wp-content/uploads/2023/08/DSC00070-scaled.jpg
END:VEVENT
BEGIN:VEVENT
DTSTART;TZID=Europe/Berlin:20231111T153000
DTEND;TZID=Europe/Berlin:20231111T173000
DTSTAMP:20260420T171515
CREATED:20230825T155247Z
LAST-MODIFIED:20230825T155247Z
UID:10003582-1699716600-1699723800@s130056251.online.de
SUMMARY:Hallensport
DESCRIPTION:Wir laden zum gemeinsamen Sporteln in der Turnhalle der CDF-Schule. Verschiedene Ballsportarten\, sowie Sportspiele werden je nach Lust & Laune angeboten.\nAußerdem findet eine Volleyball-AG zur gleichen Zeit statt.
URL:http://s130056251.online.de/event/hallensport-2/2023-11-11/
LOCATION:Jugendklub Joker\, Alte Hellersdorfer Str. 3\, Berlin\, Berlin\, 12629\, Germany
END:VEVENT
BEGIN:VEVENT
DTSTART;TZID=Europe/Berlin:20231115T160000
DTEND;TZID=Europe/Berlin:20231115T180000
DTSTAMP:20260420T171515
CREATED:20230825T155122Z
LAST-MODIFIED:20230825T155122Z
UID:10003565-1700064000-1700071200@s130056251.online.de
SUMMARY:Hallensport
DESCRIPTION:Wir laden zum gemeinsamen Sporteln in der Turnhalle der CDF-Schule. Verschiedene Ballsportarten\, sowie Sportspiele werden je nach Lust & Laune angeboten.\nAußerdem findet eine Volleyball-AG zur gleichen Zeit statt.
URL:http://s130056251.online.de/event/hallensport/2023-11-15/
LOCATION:Jugendklub Joker\, Alte Hellersdorfer Str. 3\, Berlin\, Berlin\, 12629\, Germany
END:VEVENT
BEGIN:VEVENT
DTSTART;TZID=Europe/Berlin:20231117T140000
DTEND;TZID=Europe/Berlin:20231117T180000
DTSTAMP:20260420T171515
CREATED:20230825T153624Z
LAST-MODIFIED:20230825T153624Z
UID:10003547-1700229600-1700244000@s130056251.online.de
SUMMARY:Koch Dir Was
DESCRIPTION:Wir kochen im Joker zusammen mit den Besucher*innen verschiedenste Gerichte. Schließt euch an und begleitet uns bei der Ideenfindung\, im Kochprozess & dem Kennenlernen unterschiedlichster kulinarischer Spezialitäten.
URL:http://s130056251.online.de/event/koch-dir-was/2023-11-17/
LOCATION:Jugendklub Joker\, Alte Hellersdorfer Str. 3\, Berlin\, Berlin\, 12629\, Germany
ATTACH;FMTTYPE=image/jpeg:http://s130056251.online.de/wp-content/uploads/2023/08/DSC00070-scaled.jpg
END:VEVENT
BEGIN:VEVENT
DTSTART;TZID=Europe/Berlin:20231118T153000
DTEND;TZID=Europe/Berlin:20231118T173000
DTSTAMP:20260420T171515
CREATED:20230825T155247Z
LAST-MODIFIED:20230825T155247Z
UID:10003583-1700321400-1700328600@s130056251.online.de
SUMMARY:Hallensport
DESCRIPTION:Wir laden zum gemeinsamen Sporteln in der Turnhalle der CDF-Schule. Verschiedene Ballsportarten\, sowie Sportspiele werden je nach Lust & Laune angeboten.\nAußerdem findet eine Volleyball-AG zur gleichen Zeit statt.
URL:http://s130056251.online.de/event/hallensport-2/2023-11-18/
LOCATION:Jugendklub Joker\, Alte Hellersdorfer Str. 3\, Berlin\, Berlin\, 12629\, Germany
END:VEVENT
BEGIN:VEVENT
DTSTART;TZID=Europe/Berlin:20231122T160000
DTEND;TZID=Europe/Berlin:20231122T180000
DTSTAMP:20260420T171515
CREATED:20230825T155122Z
LAST-MODIFIED:20230825T155122Z
UID:10003566-1700668800-1700676000@s130056251.online.de
SUMMARY:Hallensport
DESCRIPTION:Wir laden zum gemeinsamen Sporteln in der Turnhalle der CDF-Schule. Verschiedene Ballsportarten\, sowie Sportspiele werden je nach Lust & Laune angeboten.\nAußerdem findet eine Volleyball-AG zur gleichen Zeit statt.
URL:http://s130056251.online.de/event/hallensport/2023-11-22/
LOCATION:Jugendklub Joker\, Alte Hellersdorfer Str. 3\, Berlin\, Berlin\, 12629\, Germany
END:VEVENT
BEGIN:VEVENT
DTSTART;TZID=Europe/Berlin:20231124T140000
DTEND;TZID=Europe/Berlin:20231124T180000
DTSTAMP:20260420T171515
CREATED:20230825T153624Z
LAST-MODIFIED:20230825T153624Z
UID:10003548-1700834400-1700848800@s130056251.online.de
SUMMARY:Koch Dir Was
DESCRIPTION:Wir kochen im Joker zusammen mit den Besucher*innen verschiedenste Gerichte. Schließt euch an und begleitet uns bei der Ideenfindung\, im Kochprozess & dem Kennenlernen unterschiedlichster kulinarischer Spezialitäten.
URL:http://s130056251.online.de/event/koch-dir-was/2023-11-24/
LOCATION:Jugendklub Joker\, Alte Hellersdorfer Str. 3\, Berlin\, Berlin\, 12629\, Germany
ATTACH;FMTTYPE=image/jpeg:http://s130056251.online.de/wp-content/uploads/2023/08/DSC00070-scaled.jpg
END:VEVENT
BEGIN:VEVENT
DTSTART;TZID=Europe/Berlin:20231125T153000
DTEND;TZID=Europe/Berlin:20231125T173000
DTSTAMP:20260420T171515
CREATED:20230825T155247Z
LAST-MODIFIED:20230825T155247Z
UID:10003584-1700926200-1700933400@s130056251.online.de
SUMMARY:Hallensport
DESCRIPTION:Wir laden zum gemeinsamen Sporteln in der Turnhalle der CDF-Schule. Verschiedene Ballsportarten\, sowie Sportspiele werden je nach Lust & Laune angeboten.\nAußerdem findet eine Volleyball-AG zur gleichen Zeit statt.
URL:http://s130056251.online.de/event/hallensport-2/2023-11-25/
LOCATION:Jugendklub Joker\, Alte Hellersdorfer Str. 3\, Berlin\, Berlin\, 12629\, Germany
END:VEVENT
END:VCALENDAR