BEGIN:VCALENDAR
VERSION:2.0
PRODID:-//Was geht in Hellersdorf - ECPv6.1.2.2//NONSGML v1.0//EN
CALSCALE:GREGORIAN
METHOD:PUBLISH
X-ORIGINAL-URL:http://s130056251.online.de
X-WR-CALDESC:Veranstaltungen für Was geht in Hellersdorf
REFRESH-INTERVAL;VALUE=DURATION:PT1H
X-Robots-Tag:noindex
X-PUBLISHED-TTL:PT1H
BEGIN:VTIMEZONE
TZID:Europe/Berlin
BEGIN:DAYLIGHT
TZOFFSETFROM:+0100
TZOFFSETTO:+0200
TZNAME:CEST
DTSTART:20230326T010000
END:DAYLIGHT
BEGIN:STANDARD
TZOFFSETFROM:+0200
TZOFFSETTO:+0100
TZNAME:CET
DTSTART:20231029T010000
END:STANDARD
END:VTIMEZONE
BEGIN:VEVENT
DTSTART;TZID=Europe/Berlin:20230629T170000
DTEND;TZID=Europe/Berlin:20230629T183000
DTSTAMP:20260422T193329
CREATED:20230622T110720Z
LAST-MODIFIED:20230622T110720Z
UID:10001162-1688058000-1688063400@s130056251.online.de
SUMMARY:Fit AG
DESCRIPTION:Sportliche Betätigung (altersgerecht) unter Aufsicht und Anleitung eines Trainers im Fitnessraum der Senfte 10.
URL:http://s130056251.online.de/event/fit-ag/2023-06-29/
LOCATION:Senfte 10\, Senftenberger Straße 10\, Berlin\, Berlin\, 12627
END:VEVENT
BEGIN:VEVENT
DTSTART;TZID=Europe/Berlin:20230630T160000
DTEND;TZID=Europe/Berlin:20230630T173000
DTSTAMP:20260422T193329
CREATED:20230622T110804Z
LAST-MODIFIED:20230622T110804Z
UID:10001156-1688140800-1688146200@s130056251.online.de
SUMMARY:Fußball in der Sporthalle
DESCRIPTION:Fußball spielen in der Sporthalle der Wolfgang-Amadeus-Mozart Grundschule. \nWir treffen uns 5min vorher an der Senfte 10 und gehen dann gemeinsam zur Sporthalle. \nBringt bitte Hallenschuhe mit.
URL:http://s130056251.online.de/event/fussball-in-der-sporthalle/2023-06-30/
LOCATION:Senfte 10\, Senftenberger Straße 10\, Berlin\, Berlin\, 12627
END:VEVENT
BEGIN:VEVENT
DTSTART;TZID=Europe/Berlin:20230704T160000
DTEND;TZID=Europe/Berlin:20230704T170000
DTSTAMP:20260422T193329
CREATED:20230622T110827Z
LAST-MODIFIED:20230622T110827Z
UID:10000895-1688486400-1688490000@s130056251.online.de
SUMMARY:Ballsport in der Sporthalle
DESCRIPTION:Verschiedene Ballsportarten nach Wunsch. \nIn der Sporthalle der Wolfgang-Amadeus-Mozart Grundschule. \nWir treffen uns 5min vorher an der Senfte 10 und gehen dann gemeinsam zur Sporthalle. \nBringt bitte Hallenschuhe mit.
URL:http://s130056251.online.de/event/ballsport-in-der-sporthalle/2023-07-04/
LOCATION:Senfte 10\, Senftenberger Straße 10\, Berlin\, Berlin\, 12627
END:VEVENT
BEGIN:VEVENT
DTSTART;TZID=Europe/Berlin:20230704T170000
DTEND;TZID=Europe/Berlin:20230704T183000
DTSTAMP:20260422T193329
CREATED:20230622T110720Z
LAST-MODIFIED:20230622T110720Z
UID:10001163-1688490000-1688495400@s130056251.online.de
SUMMARY:Fit AG
DESCRIPTION:Sportliche Betätigung (altersgerecht) unter Aufsicht und Anleitung eines Trainers im Fitnessraum der Senfte 10.
URL:http://s130056251.online.de/event/fit-ag/2023-07-04/
LOCATION:Senfte 10\, Senftenberger Straße 10\, Berlin\, Berlin\, 12627
END:VEVENT
BEGIN:VEVENT
DTSTART;TZID=Europe/Berlin:20230705T160000
DTEND;TZID=Europe/Berlin:20230705T180000
DTSTAMP:20260422T193329
CREATED:20230622T110653Z
LAST-MODIFIED:20230622T110653Z
UID:10001683-1688572800-1688580000@s130056251.online.de
SUMMARY:Outdoorküche
DESCRIPTION:Wir kochen unterschiedliche und leckere Gerichte\, draußen\, im Dutch Oven über/in der Feuerschale.
URL:http://s130056251.online.de/event/outdoorkueche/2023-07-05/
LOCATION:Senfte 10\, Senftenberger Straße 10\, Berlin\, Berlin\, 12627
END:VEVENT
BEGIN:VEVENT
DTSTART;TZID=Europe/Berlin:20230706T160000
DTEND;TZID=Europe/Berlin:20230706T180000
DTSTAMP:20260422T193329
CREATED:20230622T105848Z
LAST-MODIFIED:20230622T110612Z
UID:10001944-1688659200-1688666400@s130056251.online.de
SUMMARY:Graffiti AG
DESCRIPTION:Hier könnt ihr euch mit Sprühdosen an der hauseigenen Graffitiwand ausprobieren.
URL:http://s130056251.online.de/event/graffiti-ag/2023-07-06/
LOCATION:Senfte 10\, Senftenberger Straße 10\, Berlin\, Berlin\, 12627
END:VEVENT
BEGIN:VEVENT
DTSTART;TZID=Europe/Berlin:20230706T170000
DTEND;TZID=Europe/Berlin:20230706T183000
DTSTAMP:20260422T193329
CREATED:20230622T110720Z
LAST-MODIFIED:20230622T110720Z
UID:10001164-1688662800-1688668200@s130056251.online.de
SUMMARY:Fit AG
DESCRIPTION:Sportliche Betätigung (altersgerecht) unter Aufsicht und Anleitung eines Trainers im Fitnessraum der Senfte 10.
URL:http://s130056251.online.de/event/fit-ag/2023-07-06/
LOCATION:Senfte 10\, Senftenberger Straße 10\, Berlin\, Berlin\, 12627
END:VEVENT
BEGIN:VEVENT
DTSTART;TZID=Europe/Berlin:20230707T160000
DTEND;TZID=Europe/Berlin:20230707T173000
DTSTAMP:20260422T193329
CREATED:20230622T110804Z
LAST-MODIFIED:20230622T110804Z
UID:10001157-1688745600-1688751000@s130056251.online.de
SUMMARY:Fußball in der Sporthalle
DESCRIPTION:Fußball spielen in der Sporthalle der Wolfgang-Amadeus-Mozart Grundschule. \nWir treffen uns 5min vorher an der Senfte 10 und gehen dann gemeinsam zur Sporthalle. \nBringt bitte Hallenschuhe mit.
URL:http://s130056251.online.de/event/fussball-in-der-sporthalle/2023-07-07/
LOCATION:Senfte 10\, Senftenberger Straße 10\, Berlin\, Berlin\, 12627
END:VEVENT
BEGIN:VEVENT
DTSTART;TZID=Europe/Berlin:20230711T160000
DTEND;TZID=Europe/Berlin:20230711T170000
DTSTAMP:20260422T193329
CREATED:20230622T110827Z
LAST-MODIFIED:20230622T110827Z
UID:10000896-1689091200-1689094800@s130056251.online.de
SUMMARY:Ballsport in der Sporthalle
DESCRIPTION:Verschiedene Ballsportarten nach Wunsch. \nIn der Sporthalle der Wolfgang-Amadeus-Mozart Grundschule. \nWir treffen uns 5min vorher an der Senfte 10 und gehen dann gemeinsam zur Sporthalle. \nBringt bitte Hallenschuhe mit.
URL:http://s130056251.online.de/event/ballsport-in-der-sporthalle/2023-07-11/
LOCATION:Senfte 10\, Senftenberger Straße 10\, Berlin\, Berlin\, 12627
END:VEVENT
BEGIN:VEVENT
DTSTART;TZID=Europe/Berlin:20230711T170000
DTEND;TZID=Europe/Berlin:20230711T183000
DTSTAMP:20260422T193329
CREATED:20230622T110720Z
LAST-MODIFIED:20230622T110720Z
UID:10001165-1689094800-1689100200@s130056251.online.de
SUMMARY:Fit AG
DESCRIPTION:Sportliche Betätigung (altersgerecht) unter Aufsicht und Anleitung eines Trainers im Fitnessraum der Senfte 10.
URL:http://s130056251.online.de/event/fit-ag/2023-07-11/
LOCATION:Senfte 10\, Senftenberger Straße 10\, Berlin\, Berlin\, 12627
END:VEVENT
BEGIN:VEVENT
DTSTART;TZID=Europe/Berlin:20230712T160000
DTEND;TZID=Europe/Berlin:20230712T180000
DTSTAMP:20260422T193329
CREATED:20230622T110653Z
LAST-MODIFIED:20230622T110653Z
UID:10001684-1689177600-1689184800@s130056251.online.de
SUMMARY:Outdoorküche
DESCRIPTION:Wir kochen unterschiedliche und leckere Gerichte\, draußen\, im Dutch Oven über/in der Feuerschale.
URL:http://s130056251.online.de/event/outdoorkueche/2023-07-12/
LOCATION:Senfte 10\, Senftenberger Straße 10\, Berlin\, Berlin\, 12627
END:VEVENT
BEGIN:VEVENT
DTSTART;TZID=Europe/Berlin:20230713T160000
DTEND;TZID=Europe/Berlin:20230713T180000
DTSTAMP:20260422T193329
CREATED:20230622T105848Z
LAST-MODIFIED:20230622T110612Z
UID:10001945-1689264000-1689271200@s130056251.online.de
SUMMARY:Graffiti AG
DESCRIPTION:Hier könnt ihr euch mit Sprühdosen an der hauseigenen Graffitiwand ausprobieren.
URL:http://s130056251.online.de/event/graffiti-ag/2023-07-13/
LOCATION:Senfte 10\, Senftenberger Straße 10\, Berlin\, Berlin\, 12627
END:VEVENT
BEGIN:VEVENT
DTSTART;TZID=Europe/Berlin:20230713T170000
DTEND;TZID=Europe/Berlin:20230713T183000
DTSTAMP:20260422T193329
CREATED:20230622T110720Z
LAST-MODIFIED:20230622T110720Z
UID:10001166-1689267600-1689273000@s130056251.online.de
SUMMARY:Fit AG
DESCRIPTION:Sportliche Betätigung (altersgerecht) unter Aufsicht und Anleitung eines Trainers im Fitnessraum der Senfte 10.
URL:http://s130056251.online.de/event/fit-ag/2023-07-13/
LOCATION:Senfte 10\, Senftenberger Straße 10\, Berlin\, Berlin\, 12627
END:VEVENT
BEGIN:VEVENT
DTSTART;TZID=Europe/Berlin:20230718T170000
DTEND;TZID=Europe/Berlin:20230718T183000
DTSTAMP:20260422T193329
CREATED:20230622T110720Z
LAST-MODIFIED:20230622T110720Z
UID:10001167-1689699600-1689705000@s130056251.online.de
SUMMARY:Fit AG
DESCRIPTION:Sportliche Betätigung (altersgerecht) unter Aufsicht und Anleitung eines Trainers im Fitnessraum der Senfte 10.
URL:http://s130056251.online.de/event/fit-ag/2023-07-18/
LOCATION:Senfte 10\, Senftenberger Straße 10\, Berlin\, Berlin\, 12627
END:VEVENT
BEGIN:VEVENT
DTSTART;TZID=Europe/Berlin:20230719T160000
DTEND;TZID=Europe/Berlin:20230719T180000
DTSTAMP:20260422T193329
CREATED:20230622T110653Z
LAST-MODIFIED:20230622T110653Z
UID:10001685-1689782400-1689789600@s130056251.online.de
SUMMARY:Outdoorküche
DESCRIPTION:Wir kochen unterschiedliche und leckere Gerichte\, draußen\, im Dutch Oven über/in der Feuerschale.
URL:http://s130056251.online.de/event/outdoorkueche/2023-07-19/
LOCATION:Senfte 10\, Senftenberger Straße 10\, Berlin\, Berlin\, 12627
END:VEVENT
BEGIN:VEVENT
DTSTART;TZID=Europe/Berlin:20230720T160000
DTEND;TZID=Europe/Berlin:20230720T180000
DTSTAMP:20260422T193329
CREATED:20230622T105848Z
LAST-MODIFIED:20230622T110612Z
UID:10001946-1689868800-1689876000@s130056251.online.de
SUMMARY:Graffiti AG
DESCRIPTION:Hier könnt ihr euch mit Sprühdosen an der hauseigenen Graffitiwand ausprobieren.
URL:http://s130056251.online.de/event/graffiti-ag/2023-07-20/
LOCATION:Senfte 10\, Senftenberger Straße 10\, Berlin\, Berlin\, 12627
END:VEVENT
BEGIN:VEVENT
DTSTART;TZID=Europe/Berlin:20230720T170000
DTEND;TZID=Europe/Berlin:20230720T183000
DTSTAMP:20260422T193329
CREATED:20230622T110720Z
LAST-MODIFIED:20230622T110720Z
UID:10001168-1689872400-1689877800@s130056251.online.de
SUMMARY:Fit AG
DESCRIPTION:Sportliche Betätigung (altersgerecht) unter Aufsicht und Anleitung eines Trainers im Fitnessraum der Senfte 10.
URL:http://s130056251.online.de/event/fit-ag/2023-07-20/
LOCATION:Senfte 10\, Senftenberger Straße 10\, Berlin\, Berlin\, 12627
END:VEVENT
BEGIN:VEVENT
DTSTART;TZID=Europe/Berlin:20230725T170000
DTEND;TZID=Europe/Berlin:20230725T183000
DTSTAMP:20260422T193329
CREATED:20230622T110720Z
LAST-MODIFIED:20230622T110720Z
UID:10001169-1690304400-1690309800@s130056251.online.de
SUMMARY:Fit AG
DESCRIPTION:Sportliche Betätigung (altersgerecht) unter Aufsicht und Anleitung eines Trainers im Fitnessraum der Senfte 10.
URL:http://s130056251.online.de/event/fit-ag/2023-07-25/
LOCATION:Senfte 10\, Senftenberger Straße 10\, Berlin\, Berlin\, 12627
END:VEVENT
BEGIN:VEVENT
DTSTART;TZID=Europe/Berlin:20230726T140000
DTEND;TZID=Europe/Berlin:20230726T163000
DTSTAMP:20260422T193329
CREATED:20230725T112227Z
LAST-MODIFIED:20230801T122647Z
UID:10003530-1690380000-1690389000@s130056251.online.de
SUMMARY:Beachvolleyball
DESCRIPTION:Wir treffen uns bei uns an der JFE Senfte 10 um 14:00 Uhr und gehen dann gemeinsam zur JFE Joker um dort gemeinsam Beachvolleyball zu spielen. \nKommt gerne vorbei
URL:http://s130056251.online.de/event/beachvolleyball/
LOCATION:Senfte 10\, Senftenberger Straße 10\, Berlin\, Berlin\, 12627
END:VEVENT
BEGIN:VEVENT
DTSTART;TZID=Europe/Berlin:20230726T160000
DTEND;TZID=Europe/Berlin:20230726T180000
DTSTAMP:20260422T193329
CREATED:20230622T110653Z
LAST-MODIFIED:20230622T110653Z
UID:10001686-1690387200-1690394400@s130056251.online.de
SUMMARY:Outdoorküche
DESCRIPTION:Wir kochen unterschiedliche und leckere Gerichte\, draußen\, im Dutch Oven über/in der Feuerschale.
URL:http://s130056251.online.de/event/outdoorkueche/2023-07-26/
LOCATION:Senfte 10\, Senftenberger Straße 10\, Berlin\, Berlin\, 12627
END:VEVENT
BEGIN:VEVENT
DTSTART;TZID=Europe/Berlin:20230727T160000
DTEND;TZID=Europe/Berlin:20230727T180000
DTSTAMP:20260422T193329
CREATED:20230622T105848Z
LAST-MODIFIED:20230622T110612Z
UID:10001947-1690473600-1690480800@s130056251.online.de
SUMMARY:Graffiti AG
DESCRIPTION:Hier könnt ihr euch mit Sprühdosen an der hauseigenen Graffitiwand ausprobieren.
URL:http://s130056251.online.de/event/graffiti-ag/2023-07-27/
LOCATION:Senfte 10\, Senftenberger Straße 10\, Berlin\, Berlin\, 12627
END:VEVENT
BEGIN:VEVENT
DTSTART;TZID=Europe/Berlin:20230727T170000
DTEND;TZID=Europe/Berlin:20230727T183000
DTSTAMP:20260422T193329
CREATED:20230622T110720Z
LAST-MODIFIED:20230622T110720Z
UID:10001170-1690477200-1690482600@s130056251.online.de
SUMMARY:Fit AG
DESCRIPTION:Sportliche Betätigung (altersgerecht) unter Aufsicht und Anleitung eines Trainers im Fitnessraum der Senfte 10.
URL:http://s130056251.online.de/event/fit-ag/2023-07-27/
LOCATION:Senfte 10\, Senftenberger Straße 10\, Berlin\, Berlin\, 12627
END:VEVENT
BEGIN:VEVENT
DTSTART;TZID=Europe/Berlin:20230801T170000
DTEND;TZID=Europe/Berlin:20230801T183000
DTSTAMP:20260422T193329
CREATED:20230622T110720Z
LAST-MODIFIED:20230622T110720Z
UID:10001171-1690909200-1690914600@s130056251.online.de
SUMMARY:Fit AG
DESCRIPTION:Sportliche Betätigung (altersgerecht) unter Aufsicht und Anleitung eines Trainers im Fitnessraum der Senfte 10.
URL:http://s130056251.online.de/event/fit-ag/2023-08-01/
LOCATION:Senfte 10\, Senftenberger Straße 10\, Berlin\, Berlin\, 12627
END:VEVENT
BEGIN:VEVENT
DTSTART;TZID=Europe/Berlin:20230802T160000
DTEND;TZID=Europe/Berlin:20230802T180000
DTSTAMP:20260422T193329
CREATED:20230622T110653Z
LAST-MODIFIED:20230622T110653Z
UID:10001687-1690992000-1690999200@s130056251.online.de
SUMMARY:Outdoorküche
DESCRIPTION:Wir kochen unterschiedliche und leckere Gerichte\, draußen\, im Dutch Oven über/in der Feuerschale.
URL:http://s130056251.online.de/event/outdoorkueche/2023-08-02/
LOCATION:Senfte 10\, Senftenberger Straße 10\, Berlin\, Berlin\, 12627
END:VEVENT
BEGIN:VEVENT
DTSTART;TZID=Europe/Berlin:20230803T150000
DTEND;TZID=Europe/Berlin:20230803T190000
DTSTAMP:20260422T193329
CREATED:20230801T122640Z
LAST-MODIFIED:20230801T122640Z
UID:10003531-1691074800-1691089200@s130056251.online.de
SUMMARY:Krocket-Turnier
DESCRIPTION:Du spielst gerne Krocket oder willst es ausprobieren? Dann komm vorbei und nehme an unserem Krocket-Turnier teil.
URL:http://s130056251.online.de/event/krocket-turnier/
LOCATION:Senfte 10\, Senftenberger Straße 10\, Berlin\, Berlin\, 12627
END:VEVENT
BEGIN:VEVENT
DTSTART;TZID=Europe/Berlin:20230803T160000
DTEND;TZID=Europe/Berlin:20230803T180000
DTSTAMP:20260422T193329
CREATED:20230622T105848Z
LAST-MODIFIED:20230622T110612Z
UID:10001948-1691078400-1691085600@s130056251.online.de
SUMMARY:Graffiti AG
DESCRIPTION:Hier könnt ihr euch mit Sprühdosen an der hauseigenen Graffitiwand ausprobieren.
URL:http://s130056251.online.de/event/graffiti-ag/2023-08-03/
LOCATION:Senfte 10\, Senftenberger Straße 10\, Berlin\, Berlin\, 12627
END:VEVENT
BEGIN:VEVENT
DTSTART;TZID=Europe/Berlin:20230803T170000
DTEND;TZID=Europe/Berlin:20230803T183000
DTSTAMP:20260422T193329
CREATED:20230622T110720Z
LAST-MODIFIED:20230622T110720Z
UID:10001172-1691082000-1691087400@s130056251.online.de
SUMMARY:Fit AG
DESCRIPTION:Sportliche Betätigung (altersgerecht) unter Aufsicht und Anleitung eines Trainers im Fitnessraum der Senfte 10.
URL:http://s130056251.online.de/event/fit-ag/2023-08-03/
LOCATION:Senfte 10\, Senftenberger Straße 10\, Berlin\, Berlin\, 12627
END:VEVENT
BEGIN:VEVENT
DTSTART;TZID=Europe/Berlin:20230808T170000
DTEND;TZID=Europe/Berlin:20230808T183000
DTSTAMP:20260422T193329
CREATED:20230622T110720Z
LAST-MODIFIED:20230622T110720Z
UID:10001173-1691514000-1691519400@s130056251.online.de
SUMMARY:Fit AG
DESCRIPTION:Sportliche Betätigung (altersgerecht) unter Aufsicht und Anleitung eines Trainers im Fitnessraum der Senfte 10.
URL:http://s130056251.online.de/event/fit-ag/2023-08-08/
LOCATION:Senfte 10\, Senftenberger Straße 10\, Berlin\, Berlin\, 12627
END:VEVENT
BEGIN:VEVENT
DTSTART;TZID=Europe/Berlin:20230809T160000
DTEND;TZID=Europe/Berlin:20230809T180000
DTSTAMP:20260422T193329
CREATED:20230622T110653Z
LAST-MODIFIED:20230622T110653Z
UID:10001688-1691596800-1691604000@s130056251.online.de
SUMMARY:Outdoorküche
DESCRIPTION:Wir kochen unterschiedliche und leckere Gerichte\, draußen\, im Dutch Oven über/in der Feuerschale.
URL:http://s130056251.online.de/event/outdoorkueche/2023-08-09/
LOCATION:Senfte 10\, Senftenberger Straße 10\, Berlin\, Berlin\, 12627
END:VEVENT
BEGIN:VEVENT
DTSTART;TZID=Europe/Berlin:20230810T100000
DTEND;TZID=Europe/Berlin:20230810T170000
DTSTAMP:20260422T193329
CREATED:20230801T122639Z
LAST-MODIFIED:20230801T122639Z
UID:10003532-1691661600-1691686800@s130056251.online.de
SUMMARY:Kletterpark (Straußberg)
DESCRIPTION:Gemeinsam mit allen Interessierten (ab 13 Jahren) gehen wir nach Straußberg in der Kletterpark. Wenn du Interesse hast\, melde dich gern bei uns um dich anzumelden.
URL:http://s130056251.online.de/event/kletterpark-straussberg/
LOCATION:Senfte 10\, Senftenberger Straße 10\, Berlin\, Berlin\, 12627
END:VEVENT
END:VCALENDAR