BEGIN:VCALENDAR
VERSION:2.0
PRODID:-//Was geht in Hellersdorf - ECPv6.1.2.2//NONSGML v1.0//EN
CALSCALE:GREGORIAN
METHOD:PUBLISH
X-WR-CALNAME:Was geht in Hellersdorf
X-ORIGINAL-URL:http://s130056251.online.de
X-WR-CALDESC:Veranstaltungen für Was geht in Hellersdorf
REFRESH-INTERVAL;VALUE=DURATION:PT1H
X-Robots-Tag:noindex
X-PUBLISHED-TTL:PT1H
BEGIN:VTIMEZONE
TZID:Europe/Berlin
BEGIN:DAYLIGHT
TZOFFSETFROM:+0100
TZOFFSETTO:+0200
TZNAME:CEST
DTSTART:20230326T010000
END:DAYLIGHT
BEGIN:STANDARD
TZOFFSETFROM:+0200
TZOFFSETTO:+0100
TZNAME:CET
DTSTART:20231029T010000
END:STANDARD
END:VTIMEZONE
BEGIN:VEVENT
DTSTART;TZID=Europe/Berlin:20230803T150000
DTEND;TZID=Europe/Berlin:20230803T190000
DTSTAMP:20260422T223049
CREATED:20230801T122640Z
LAST-MODIFIED:20230801T122640Z
UID:10003531-1691074800-1691089200@s130056251.online.de
SUMMARY:Krocket-Turnier
DESCRIPTION:Du spielst gerne Krocket oder willst es ausprobieren? Dann komm vorbei und nehme an unserem Krocket-Turnier teil.
URL:http://s130056251.online.de/event/krocket-turnier/
LOCATION:Senfte 10\, Senftenberger Straße 10\, Berlin\, Berlin\, 12627
END:VEVENT
BEGIN:VEVENT
DTSTART;TZID=Europe/Berlin:20230803T160000
DTEND;TZID=Europe/Berlin:20230803T180000
DTSTAMP:20260422T223049
CREATED:20230622T105848Z
LAST-MODIFIED:20230622T110612Z
UID:10001948-1691078400-1691085600@s130056251.online.de
SUMMARY:Graffiti AG
DESCRIPTION:Hier könnt ihr euch mit Sprühdosen an der hauseigenen Graffitiwand ausprobieren.
URL:http://s130056251.online.de/event/graffiti-ag/2023-08-03/
LOCATION:Senfte 10\, Senftenberger Straße 10\, Berlin\, Berlin\, 12627
END:VEVENT
BEGIN:VEVENT
DTSTART;TZID=Europe/Berlin:20230803T170000
DTEND;TZID=Europe/Berlin:20230803T183000
DTSTAMP:20260422T223049
CREATED:20230622T110720Z
LAST-MODIFIED:20230622T110720Z
UID:10001172-1691082000-1691087400@s130056251.online.de
SUMMARY:Fit AG
DESCRIPTION:Sportliche Betätigung (altersgerecht) unter Aufsicht und Anleitung eines Trainers im Fitnessraum der Senfte 10.
URL:http://s130056251.online.de/event/fit-ag/2023-08-03/
LOCATION:Senfte 10\, Senftenberger Straße 10\, Berlin\, Berlin\, 12627
END:VEVENT
BEGIN:VEVENT
DTSTART;TZID=Europe/Berlin:20230808T170000
DTEND;TZID=Europe/Berlin:20230808T183000
DTSTAMP:20260422T223049
CREATED:20230622T110720Z
LAST-MODIFIED:20230622T110720Z
UID:10001173-1691514000-1691519400@s130056251.online.de
SUMMARY:Fit AG
DESCRIPTION:Sportliche Betätigung (altersgerecht) unter Aufsicht und Anleitung eines Trainers im Fitnessraum der Senfte 10.
URL:http://s130056251.online.de/event/fit-ag/2023-08-08/
LOCATION:Senfte 10\, Senftenberger Straße 10\, Berlin\, Berlin\, 12627
END:VEVENT
BEGIN:VEVENT
DTSTART;TZID=Europe/Berlin:20230809T160000
DTEND;TZID=Europe/Berlin:20230809T180000
DTSTAMP:20260422T223049
CREATED:20230622T110653Z
LAST-MODIFIED:20230622T110653Z
UID:10001688-1691596800-1691604000@s130056251.online.de
SUMMARY:Outdoorküche
DESCRIPTION:Wir kochen unterschiedliche und leckere Gerichte\, draußen\, im Dutch Oven über/in der Feuerschale.
URL:http://s130056251.online.de/event/outdoorkueche/2023-08-09/
LOCATION:Senfte 10\, Senftenberger Straße 10\, Berlin\, Berlin\, 12627
END:VEVENT
BEGIN:VEVENT
DTSTART;TZID=Europe/Berlin:20230810T100000
DTEND;TZID=Europe/Berlin:20230810T170000
DTSTAMP:20260422T223049
CREATED:20230801T122639Z
LAST-MODIFIED:20230801T122639Z
UID:10003532-1691661600-1691686800@s130056251.online.de
SUMMARY:Kletterpark (Straußberg)
DESCRIPTION:Gemeinsam mit allen Interessierten (ab 13 Jahren) gehen wir nach Straußberg in der Kletterpark. Wenn du Interesse hast\, melde dich gern bei uns um dich anzumelden.
URL:http://s130056251.online.de/event/kletterpark-straussberg/
LOCATION:Senfte 10\, Senftenberger Straße 10\, Berlin\, Berlin\, 12627
END:VEVENT
BEGIN:VEVENT
DTSTART;TZID=Europe/Berlin:20230810T160000
DTEND;TZID=Europe/Berlin:20230810T180000
DTSTAMP:20260422T223049
CREATED:20230622T105848Z
LAST-MODIFIED:20230622T110612Z
UID:10001949-1691683200-1691690400@s130056251.online.de
SUMMARY:Graffiti AG
DESCRIPTION:Hier könnt ihr euch mit Sprühdosen an der hauseigenen Graffitiwand ausprobieren.
URL:http://s130056251.online.de/event/graffiti-ag/2023-08-10/
LOCATION:Senfte 10\, Senftenberger Straße 10\, Berlin\, Berlin\, 12627
END:VEVENT
BEGIN:VEVENT
DTSTART;TZID=Europe/Berlin:20230810T170000
DTEND;TZID=Europe/Berlin:20230810T183000
DTSTAMP:20260422T223049
CREATED:20230622T110720Z
LAST-MODIFIED:20230622T110720Z
UID:10001174-1691686800-1691692200@s130056251.online.de
SUMMARY:Fit AG
DESCRIPTION:Sportliche Betätigung (altersgerecht) unter Aufsicht und Anleitung eines Trainers im Fitnessraum der Senfte 10.
URL:http://s130056251.online.de/event/fit-ag/2023-08-10/
LOCATION:Senfte 10\, Senftenberger Straße 10\, Berlin\, Berlin\, 12627
END:VEVENT
BEGIN:VEVENT
DTSTART;TZID=Europe/Berlin:20230815T170000
DTEND;TZID=Europe/Berlin:20230815T183000
DTSTAMP:20260422T223049
CREATED:20230622T110720Z
LAST-MODIFIED:20230622T110720Z
UID:10001175-1692118800-1692124200@s130056251.online.de
SUMMARY:Fit AG
DESCRIPTION:Sportliche Betätigung (altersgerecht) unter Aufsicht und Anleitung eines Trainers im Fitnessraum der Senfte 10.
URL:http://s130056251.online.de/event/fit-ag/2023-08-15/
LOCATION:Senfte 10\, Senftenberger Straße 10\, Berlin\, Berlin\, 12627
END:VEVENT
BEGIN:VEVENT
DTSTART;TZID=Europe/Berlin:20230816T160000
DTEND;TZID=Europe/Berlin:20230816T180000
DTSTAMP:20260422T223049
CREATED:20230622T110653Z
LAST-MODIFIED:20230622T110653Z
UID:10001689-1692201600-1692208800@s130056251.online.de
SUMMARY:Outdoorküche
DESCRIPTION:Wir kochen unterschiedliche und leckere Gerichte\, draußen\, im Dutch Oven über/in der Feuerschale.
URL:http://s130056251.online.de/event/outdoorkueche/2023-08-16/
LOCATION:Senfte 10\, Senftenberger Straße 10\, Berlin\, Berlin\, 12627
END:VEVENT
BEGIN:VEVENT
DTSTART;TZID=Europe/Berlin:20230817T160000
DTEND;TZID=Europe/Berlin:20230817T180000
DTSTAMP:20260422T223049
CREATED:20230622T105848Z
LAST-MODIFIED:20230622T110612Z
UID:10001950-1692288000-1692295200@s130056251.online.de
SUMMARY:Graffiti AG
DESCRIPTION:Hier könnt ihr euch mit Sprühdosen an der hauseigenen Graffitiwand ausprobieren.
URL:http://s130056251.online.de/event/graffiti-ag/2023-08-17/
LOCATION:Senfte 10\, Senftenberger Straße 10\, Berlin\, Berlin\, 12627
END:VEVENT
BEGIN:VEVENT
DTSTART;TZID=Europe/Berlin:20230817T170000
DTEND;TZID=Europe/Berlin:20230817T183000
DTSTAMP:20260422T223049
CREATED:20230622T110720Z
LAST-MODIFIED:20230622T110720Z
UID:10001176-1692291600-1692297000@s130056251.online.de
SUMMARY:Fit AG
DESCRIPTION:Sportliche Betätigung (altersgerecht) unter Aufsicht und Anleitung eines Trainers im Fitnessraum der Senfte 10.
URL:http://s130056251.online.de/event/fit-ag/2023-08-17/
LOCATION:Senfte 10\, Senftenberger Straße 10\, Berlin\, Berlin\, 12627
END:VEVENT
BEGIN:VEVENT
DTSTART;TZID=Europe/Berlin:20230818T150000
DTEND;TZID=Europe/Berlin:20230818T190000
DTSTAMP:20260422T223049
CREATED:20230801T122640Z
LAST-MODIFIED:20230801T122640Z
UID:10003533-1692370800-1692385200@s130056251.online.de
SUMMARY:Sommerfest
DESCRIPTION:Wir wollen mit euch zusammen Feiern.\nDafür wird es verschiedene sportliche und kreative Angebote geben. Außerdem werden wir den Grill anschmeißen und es wird verschiedene Getränke geben. \n  \nKommt also vorbei und genießt den Tag mit uns zusammen.
URL:http://s130056251.online.de/event/sommerfest/
LOCATION:Senfte 10\, Senftenberger Straße 10\, Berlin\, Berlin\, 12627
END:VEVENT
BEGIN:VEVENT
DTSTART;TZID=Europe/Berlin:20230822T150000
DTEND;TZID=Europe/Berlin:20230822T190000
DTSTAMP:20260422T223049
CREATED:20230801T122640Z
LAST-MODIFIED:20230801T122640Z
UID:10003534-1692716400-1692730800@s130056251.online.de
SUMMARY:Outdoor Dart-Turnier
DESCRIPTION:Wenn du Lust auf ein Dart-Turnier hast\, komm vorbei.
URL:http://s130056251.online.de/event/outdoor-dart-turnier/
LOCATION:Senfte 10\, Senftenberger Straße 10\, Berlin\, Berlin\, 12627
END:VEVENT
BEGIN:VEVENT
DTSTART;TZID=Europe/Berlin:20230822T170000
DTEND;TZID=Europe/Berlin:20230822T183000
DTSTAMP:20260422T223049
CREATED:20230622T110720Z
LAST-MODIFIED:20230622T110720Z
UID:10001177-1692723600-1692729000@s130056251.online.de
SUMMARY:Fit AG
DESCRIPTION:Sportliche Betätigung (altersgerecht) unter Aufsicht und Anleitung eines Trainers im Fitnessraum der Senfte 10.
URL:http://s130056251.online.de/event/fit-ag/2023-08-22/
LOCATION:Senfte 10\, Senftenberger Straße 10\, Berlin\, Berlin\, 12627
END:VEVENT
BEGIN:VEVENT
DTSTART;TZID=Europe/Berlin:20230823T160000
DTEND;TZID=Europe/Berlin:20230823T180000
DTSTAMP:20260422T223049
CREATED:20230622T110653Z
LAST-MODIFIED:20230622T110653Z
UID:10001690-1692806400-1692813600@s130056251.online.de
SUMMARY:Outdoorküche
DESCRIPTION:Wir kochen unterschiedliche und leckere Gerichte\, draußen\, im Dutch Oven über/in der Feuerschale.
URL:http://s130056251.online.de/event/outdoorkueche/2023-08-23/
LOCATION:Senfte 10\, Senftenberger Straße 10\, Berlin\, Berlin\, 12627
END:VEVENT
BEGIN:VEVENT
DTSTART;TZID=Europe/Berlin:20230824T160000
DTEND;TZID=Europe/Berlin:20230824T180000
DTSTAMP:20260422T223049
CREATED:20230622T105848Z
LAST-MODIFIED:20230622T110612Z
UID:10001951-1692892800-1692900000@s130056251.online.de
SUMMARY:Graffiti AG
DESCRIPTION:Hier könnt ihr euch mit Sprühdosen an der hauseigenen Graffitiwand ausprobieren.
URL:http://s130056251.online.de/event/graffiti-ag/2023-08-24/
LOCATION:Senfte 10\, Senftenberger Straße 10\, Berlin\, Berlin\, 12627
END:VEVENT
BEGIN:VEVENT
DTSTART;TZID=Europe/Berlin:20230824T170000
DTEND;TZID=Europe/Berlin:20230824T183000
DTSTAMP:20260422T223049
CREATED:20230622T110720Z
LAST-MODIFIED:20230622T110720Z
UID:10001178-1692896400-1692901800@s130056251.online.de
SUMMARY:Fit AG
DESCRIPTION:Sportliche Betätigung (altersgerecht) unter Aufsicht und Anleitung eines Trainers im Fitnessraum der Senfte 10.
URL:http://s130056251.online.de/event/fit-ag/2023-08-24/
LOCATION:Senfte 10\, Senftenberger Straße 10\, Berlin\, Berlin\, 12627
END:VEVENT
BEGIN:VEVENT
DTSTART;TZID=Europe/Berlin:20230829T170000
DTEND;TZID=Europe/Berlin:20230829T183000
DTSTAMP:20260422T223049
CREATED:20230622T110720Z
LAST-MODIFIED:20230622T110720Z
UID:10001179-1693328400-1693333800@s130056251.online.de
SUMMARY:Fit AG
DESCRIPTION:Sportliche Betätigung (altersgerecht) unter Aufsicht und Anleitung eines Trainers im Fitnessraum der Senfte 10.
URL:http://s130056251.online.de/event/fit-ag/2023-08-29/
LOCATION:Senfte 10\, Senftenberger Straße 10\, Berlin\, Berlin\, 12627
END:VEVENT
BEGIN:VEVENT
DTSTART;TZID=Europe/Berlin:20230830T160000
DTEND;TZID=Europe/Berlin:20230830T180000
DTSTAMP:20260422T223049
CREATED:20230622T110653Z
LAST-MODIFIED:20230622T110653Z
UID:10001691-1693411200-1693418400@s130056251.online.de
SUMMARY:Outdoorküche
DESCRIPTION:Wir kochen unterschiedliche und leckere Gerichte\, draußen\, im Dutch Oven über/in der Feuerschale.
URL:http://s130056251.online.de/event/outdoorkueche/2023-08-30/
LOCATION:Senfte 10\, Senftenberger Straße 10\, Berlin\, Berlin\, 12627
END:VEVENT
BEGIN:VEVENT
DTSTART;TZID=Europe/Berlin:20230831T160000
DTEND;TZID=Europe/Berlin:20230831T180000
DTSTAMP:20260422T223049
CREATED:20230622T105848Z
LAST-MODIFIED:20230622T110612Z
UID:10001952-1693497600-1693504800@s130056251.online.de
SUMMARY:Graffiti AG
DESCRIPTION:Hier könnt ihr euch mit Sprühdosen an der hauseigenen Graffitiwand ausprobieren.
URL:http://s130056251.online.de/event/graffiti-ag/2023-08-31/
LOCATION:Senfte 10\, Senftenberger Straße 10\, Berlin\, Berlin\, 12627
END:VEVENT
BEGIN:VEVENT
DTSTART;TZID=Europe/Berlin:20230831T170000
DTEND;TZID=Europe/Berlin:20230831T183000
DTSTAMP:20260422T223049
CREATED:20230622T110720Z
LAST-MODIFIED:20230622T110720Z
UID:10001180-1693501200-1693506600@s130056251.online.de
SUMMARY:Fit AG
DESCRIPTION:Sportliche Betätigung (altersgerecht) unter Aufsicht und Anleitung eines Trainers im Fitnessraum der Senfte 10.
URL:http://s130056251.online.de/event/fit-ag/2023-08-31/
LOCATION:Senfte 10\, Senftenberger Straße 10\, Berlin\, Berlin\, 12627
END:VEVENT
BEGIN:VEVENT
DTSTART;TZID=Europe/Berlin:20230905T170000
DTEND;TZID=Europe/Berlin:20230905T183000
DTSTAMP:20260422T223049
CREATED:20230622T110720Z
LAST-MODIFIED:20230622T110720Z
UID:10001181-1693933200-1693938600@s130056251.online.de
SUMMARY:Fit AG
DESCRIPTION:Sportliche Betätigung (altersgerecht) unter Aufsicht und Anleitung eines Trainers im Fitnessraum der Senfte 10.
URL:http://s130056251.online.de/event/fit-ag/2023-09-05/
LOCATION:Senfte 10\, Senftenberger Straße 10\, Berlin\, Berlin\, 12627
END:VEVENT
BEGIN:VEVENT
DTSTART;TZID=Europe/Berlin:20230906T160000
DTEND;TZID=Europe/Berlin:20230906T180000
DTSTAMP:20260422T223049
CREATED:20230622T110653Z
LAST-MODIFIED:20230622T110653Z
UID:10001692-1694016000-1694023200@s130056251.online.de
SUMMARY:Outdoorküche
DESCRIPTION:Wir kochen unterschiedliche und leckere Gerichte\, draußen\, im Dutch Oven über/in der Feuerschale.
URL:http://s130056251.online.de/event/outdoorkueche/2023-09-06/
LOCATION:Senfte 10\, Senftenberger Straße 10\, Berlin\, Berlin\, 12627
END:VEVENT
BEGIN:VEVENT
DTSTART;TZID=Europe/Berlin:20230907T160000
DTEND;TZID=Europe/Berlin:20230907T180000
DTSTAMP:20260422T223049
CREATED:20230622T105848Z
LAST-MODIFIED:20230622T110612Z
UID:10001953-1694102400-1694109600@s130056251.online.de
SUMMARY:Graffiti AG
DESCRIPTION:Hier könnt ihr euch mit Sprühdosen an der hauseigenen Graffitiwand ausprobieren.
URL:http://s130056251.online.de/event/graffiti-ag/2023-09-07/
LOCATION:Senfte 10\, Senftenberger Straße 10\, Berlin\, Berlin\, 12627
END:VEVENT
BEGIN:VEVENT
DTSTART;TZID=Europe/Berlin:20230907T170000
DTEND;TZID=Europe/Berlin:20230907T183000
DTSTAMP:20260422T223049
CREATED:20230622T110720Z
LAST-MODIFIED:20230622T110720Z
UID:10001182-1694106000-1694111400@s130056251.online.de
SUMMARY:Fit AG
DESCRIPTION:Sportliche Betätigung (altersgerecht) unter Aufsicht und Anleitung eines Trainers im Fitnessraum der Senfte 10.
URL:http://s130056251.online.de/event/fit-ag/2023-09-07/
LOCATION:Senfte 10\, Senftenberger Straße 10\, Berlin\, Berlin\, 12627
END:VEVENT
BEGIN:VEVENT
DTSTART;TZID=Europe/Berlin:20230912T170000
DTEND;TZID=Europe/Berlin:20230912T183000
DTSTAMP:20260422T223049
CREATED:20230622T110720Z
LAST-MODIFIED:20230622T110720Z
UID:10001183-1694538000-1694543400@s130056251.online.de
SUMMARY:Fit AG
DESCRIPTION:Sportliche Betätigung (altersgerecht) unter Aufsicht und Anleitung eines Trainers im Fitnessraum der Senfte 10.
URL:http://s130056251.online.de/event/fit-ag/2023-09-12/
LOCATION:Senfte 10\, Senftenberger Straße 10\, Berlin\, Berlin\, 12627
END:VEVENT
BEGIN:VEVENT
DTSTART;TZID=Europe/Berlin:20230913T160000
DTEND;TZID=Europe/Berlin:20230913T180000
DTSTAMP:20260422T223049
CREATED:20230622T110653Z
LAST-MODIFIED:20230622T110653Z
UID:10001693-1694620800-1694628000@s130056251.online.de
SUMMARY:Outdoorküche
DESCRIPTION:Wir kochen unterschiedliche und leckere Gerichte\, draußen\, im Dutch Oven über/in der Feuerschale.
URL:http://s130056251.online.de/event/outdoorkueche/2023-09-13/
LOCATION:Senfte 10\, Senftenberger Straße 10\, Berlin\, Berlin\, 12627
END:VEVENT
BEGIN:VEVENT
DTSTART;TZID=Europe/Berlin:20230914T160000
DTEND;TZID=Europe/Berlin:20230914T180000
DTSTAMP:20260422T223049
CREATED:20230622T105848Z
LAST-MODIFIED:20230622T110612Z
UID:10001954-1694707200-1694714400@s130056251.online.de
SUMMARY:Graffiti AG
DESCRIPTION:Hier könnt ihr euch mit Sprühdosen an der hauseigenen Graffitiwand ausprobieren.
URL:http://s130056251.online.de/event/graffiti-ag/2023-09-14/
LOCATION:Senfte 10\, Senftenberger Straße 10\, Berlin\, Berlin\, 12627
END:VEVENT
BEGIN:VEVENT
DTSTART;TZID=Europe/Berlin:20230914T170000
DTEND;TZID=Europe/Berlin:20230914T183000
DTSTAMP:20260422T223049
CREATED:20230622T110720Z
LAST-MODIFIED:20230622T110720Z
UID:10001184-1694710800-1694716200@s130056251.online.de
SUMMARY:Fit AG
DESCRIPTION:Sportliche Betätigung (altersgerecht) unter Aufsicht und Anleitung eines Trainers im Fitnessraum der Senfte 10.
URL:http://s130056251.online.de/event/fit-ag/2023-09-14/
LOCATION:Senfte 10\, Senftenberger Straße 10\, Berlin\, Berlin\, 12627
END:VEVENT
END:VCALENDAR