BEGIN:VCALENDAR
VERSION:2.0
PRODID:-//Was geht in Hellersdorf - ECPv6.1.2.2//NONSGML v1.0//EN
CALSCALE:GREGORIAN
METHOD:PUBLISH
X-ORIGINAL-URL:http://s130056251.online.de
X-WR-CALDESC:Veranstaltungen für Was geht in Hellersdorf
REFRESH-INTERVAL;VALUE=DURATION:PT1H
X-Robots-Tag:noindex
X-PUBLISHED-TTL:PT1H
BEGIN:VTIMEZONE
TZID:Europe/Berlin
BEGIN:DAYLIGHT
TZOFFSETFROM:+0100
TZOFFSETTO:+0200
TZNAME:CEST
DTSTART:20260329T010000
END:DAYLIGHT
BEGIN:STANDARD
TZOFFSETFROM:+0200
TZOFFSETTO:+0100
TZNAME:CET
DTSTART:20261025T010000
END:STANDARD
END:VTIMEZONE
BEGIN:VEVENT
DTSTART;TZID=Europe/Berlin:20260716T160000
DTEND;TZID=Europe/Berlin:20260716T180000
DTSTAMP:20260422T193302
CREATED:20230622T105848Z
LAST-MODIFIED:20230622T110612Z
UID:10002102-1784217600-1784224800@s130056251.online.de
SUMMARY:Graffiti AG
DESCRIPTION:Hier könnt ihr euch mit Sprühdosen an der hauseigenen Graffitiwand ausprobieren.
URL:http://s130056251.online.de/event/graffiti-ag/2026-07-16/
LOCATION:Senfte 10\, Senftenberger Straße 10\, Berlin\, Berlin\, 12627
END:VEVENT
BEGIN:VEVENT
DTSTART;TZID=Europe/Berlin:20260716T170000
DTEND;TZID=Europe/Berlin:20260716T183000
DTSTAMP:20260422T193302
CREATED:20230622T110720Z
LAST-MODIFIED:20230622T110720Z
UID:10001480-1784221200-1784226600@s130056251.online.de
SUMMARY:Fit AG
DESCRIPTION:Sportliche Betätigung (altersgerecht) unter Aufsicht und Anleitung eines Trainers im Fitnessraum der Senfte 10.
URL:http://s130056251.online.de/event/fit-ag/2026-07-16/
LOCATION:Senfte 10\, Senftenberger Straße 10\, Berlin\, Berlin\, 12627
END:VEVENT
BEGIN:VEVENT
DTSTART;TZID=Europe/Berlin:20260721T170000
DTEND;TZID=Europe/Berlin:20260721T183000
DTSTAMP:20260422T193302
CREATED:20230622T110720Z
LAST-MODIFIED:20230622T110720Z
UID:10001481-1784653200-1784658600@s130056251.online.de
SUMMARY:Fit AG
DESCRIPTION:Sportliche Betätigung (altersgerecht) unter Aufsicht und Anleitung eines Trainers im Fitnessraum der Senfte 10.
URL:http://s130056251.online.de/event/fit-ag/2026-07-21/
LOCATION:Senfte 10\, Senftenberger Straße 10\, Berlin\, Berlin\, 12627
END:VEVENT
BEGIN:VEVENT
DTSTART;TZID=Europe/Berlin:20260722T160000
DTEND;TZID=Europe/Berlin:20260722T180000
DTSTAMP:20260422T193302
CREATED:20230622T110653Z
LAST-MODIFIED:20230622T110653Z
UID:10001842-1784736000-1784743200@s130056251.online.de
SUMMARY:Outdoorküche
DESCRIPTION:Wir kochen unterschiedliche und leckere Gerichte\, draußen\, im Dutch Oven über/in der Feuerschale.
URL:http://s130056251.online.de/event/outdoorkueche/2026-07-22/
LOCATION:Senfte 10\, Senftenberger Straße 10\, Berlin\, Berlin\, 12627
END:VEVENT
BEGIN:VEVENT
DTSTART;TZID=Europe/Berlin:20260723T160000
DTEND;TZID=Europe/Berlin:20260723T180000
DTSTAMP:20260422T193302
CREATED:20230622T105848Z
LAST-MODIFIED:20230622T110612Z
UID:10002103-1784822400-1784829600@s130056251.online.de
SUMMARY:Graffiti AG
DESCRIPTION:Hier könnt ihr euch mit Sprühdosen an der hauseigenen Graffitiwand ausprobieren.
URL:http://s130056251.online.de/event/graffiti-ag/2026-07-23/
LOCATION:Senfte 10\, Senftenberger Straße 10\, Berlin\, Berlin\, 12627
END:VEVENT
BEGIN:VEVENT
DTSTART;TZID=Europe/Berlin:20260723T170000
DTEND;TZID=Europe/Berlin:20260723T183000
DTSTAMP:20260422T193302
CREATED:20230622T110720Z
LAST-MODIFIED:20230622T110720Z
UID:10001482-1784826000-1784831400@s130056251.online.de
SUMMARY:Fit AG
DESCRIPTION:Sportliche Betätigung (altersgerecht) unter Aufsicht und Anleitung eines Trainers im Fitnessraum der Senfte 10.
URL:http://s130056251.online.de/event/fit-ag/2026-07-23/
LOCATION:Senfte 10\, Senftenberger Straße 10\, Berlin\, Berlin\, 12627
END:VEVENT
BEGIN:VEVENT
DTSTART;TZID=Europe/Berlin:20260728T170000
DTEND;TZID=Europe/Berlin:20260728T183000
DTSTAMP:20260422T193302
CREATED:20230622T110720Z
LAST-MODIFIED:20230622T110720Z
UID:10001483-1785258000-1785263400@s130056251.online.de
SUMMARY:Fit AG
DESCRIPTION:Sportliche Betätigung (altersgerecht) unter Aufsicht und Anleitung eines Trainers im Fitnessraum der Senfte 10.
URL:http://s130056251.online.de/event/fit-ag/2026-07-28/
LOCATION:Senfte 10\, Senftenberger Straße 10\, Berlin\, Berlin\, 12627
END:VEVENT
BEGIN:VEVENT
DTSTART;TZID=Europe/Berlin:20260729T160000
DTEND;TZID=Europe/Berlin:20260729T180000
DTSTAMP:20260422T193302
CREATED:20230622T110653Z
LAST-MODIFIED:20230622T110653Z
UID:10001843-1785340800-1785348000@s130056251.online.de
SUMMARY:Outdoorküche
DESCRIPTION:Wir kochen unterschiedliche und leckere Gerichte\, draußen\, im Dutch Oven über/in der Feuerschale.
URL:http://s130056251.online.de/event/outdoorkueche/2026-07-29/
LOCATION:Senfte 10\, Senftenberger Straße 10\, Berlin\, Berlin\, 12627
END:VEVENT
BEGIN:VEVENT
DTSTART;TZID=Europe/Berlin:20260730T160000
DTEND;TZID=Europe/Berlin:20260730T180000
DTSTAMP:20260422T193302
CREATED:20230622T105848Z
LAST-MODIFIED:20230622T110612Z
UID:10002104-1785427200-1785434400@s130056251.online.de
SUMMARY:Graffiti AG
DESCRIPTION:Hier könnt ihr euch mit Sprühdosen an der hauseigenen Graffitiwand ausprobieren.
URL:http://s130056251.online.de/event/graffiti-ag/2026-07-30/
LOCATION:Senfte 10\, Senftenberger Straße 10\, Berlin\, Berlin\, 12627
END:VEVENT
BEGIN:VEVENT
DTSTART;TZID=Europe/Berlin:20260730T170000
DTEND;TZID=Europe/Berlin:20260730T183000
DTSTAMP:20260422T193302
CREATED:20230622T110720Z
LAST-MODIFIED:20230622T110720Z
UID:10001484-1785430800-1785436200@s130056251.online.de
SUMMARY:Fit AG
DESCRIPTION:Sportliche Betätigung (altersgerecht) unter Aufsicht und Anleitung eines Trainers im Fitnessraum der Senfte 10.
URL:http://s130056251.online.de/event/fit-ag/2026-07-30/
LOCATION:Senfte 10\, Senftenberger Straße 10\, Berlin\, Berlin\, 12627
END:VEVENT
BEGIN:VEVENT
DTSTART;TZID=Europe/Berlin:20260804T170000
DTEND;TZID=Europe/Berlin:20260804T183000
DTSTAMP:20260422T193302
CREATED:20230622T110720Z
LAST-MODIFIED:20230622T110720Z
UID:10001485-1785862800-1785868200@s130056251.online.de
SUMMARY:Fit AG
DESCRIPTION:Sportliche Betätigung (altersgerecht) unter Aufsicht und Anleitung eines Trainers im Fitnessraum der Senfte 10.
URL:http://s130056251.online.de/event/fit-ag/2026-08-04/
LOCATION:Senfte 10\, Senftenberger Straße 10\, Berlin\, Berlin\, 12627
END:VEVENT
BEGIN:VEVENT
DTSTART;TZID=Europe/Berlin:20260805T160000
DTEND;TZID=Europe/Berlin:20260805T180000
DTSTAMP:20260422T193302
CREATED:20230622T110653Z
LAST-MODIFIED:20230622T110653Z
UID:10001844-1785945600-1785952800@s130056251.online.de
SUMMARY:Outdoorküche
DESCRIPTION:Wir kochen unterschiedliche und leckere Gerichte\, draußen\, im Dutch Oven über/in der Feuerschale.
URL:http://s130056251.online.de/event/outdoorkueche/2026-08-05/
LOCATION:Senfte 10\, Senftenberger Straße 10\, Berlin\, Berlin\, 12627
END:VEVENT
BEGIN:VEVENT
DTSTART;TZID=Europe/Berlin:20260806T160000
DTEND;TZID=Europe/Berlin:20260806T180000
DTSTAMP:20260422T193302
CREATED:20230622T105848Z
LAST-MODIFIED:20230622T110612Z
UID:10002105-1786032000-1786039200@s130056251.online.de
SUMMARY:Graffiti AG
DESCRIPTION:Hier könnt ihr euch mit Sprühdosen an der hauseigenen Graffitiwand ausprobieren.
URL:http://s130056251.online.de/event/graffiti-ag/2026-08-06/
LOCATION:Senfte 10\, Senftenberger Straße 10\, Berlin\, Berlin\, 12627
END:VEVENT
BEGIN:VEVENT
DTSTART;TZID=Europe/Berlin:20260806T170000
DTEND;TZID=Europe/Berlin:20260806T183000
DTSTAMP:20260422T193302
CREATED:20230622T110720Z
LAST-MODIFIED:20230622T110720Z
UID:10001486-1786035600-1786041000@s130056251.online.de
SUMMARY:Fit AG
DESCRIPTION:Sportliche Betätigung (altersgerecht) unter Aufsicht und Anleitung eines Trainers im Fitnessraum der Senfte 10.
URL:http://s130056251.online.de/event/fit-ag/2026-08-06/
LOCATION:Senfte 10\, Senftenberger Straße 10\, Berlin\, Berlin\, 12627
END:VEVENT
BEGIN:VEVENT
DTSTART;TZID=Europe/Berlin:20260811T170000
DTEND;TZID=Europe/Berlin:20260811T183000
DTSTAMP:20260422T193302
CREATED:20230622T110720Z
LAST-MODIFIED:20230622T110720Z
UID:10001487-1786467600-1786473000@s130056251.online.de
SUMMARY:Fit AG
DESCRIPTION:Sportliche Betätigung (altersgerecht) unter Aufsicht und Anleitung eines Trainers im Fitnessraum der Senfte 10.
URL:http://s130056251.online.de/event/fit-ag/2026-08-11/
LOCATION:Senfte 10\, Senftenberger Straße 10\, Berlin\, Berlin\, 12627
END:VEVENT
BEGIN:VEVENT
DTSTART;TZID=Europe/Berlin:20260812T160000
DTEND;TZID=Europe/Berlin:20260812T180000
DTSTAMP:20260422T193302
CREATED:20230622T110653Z
LAST-MODIFIED:20230622T110653Z
UID:10001845-1786550400-1786557600@s130056251.online.de
SUMMARY:Outdoorküche
DESCRIPTION:Wir kochen unterschiedliche und leckere Gerichte\, draußen\, im Dutch Oven über/in der Feuerschale.
URL:http://s130056251.online.de/event/outdoorkueche/2026-08-12/
LOCATION:Senfte 10\, Senftenberger Straße 10\, Berlin\, Berlin\, 12627
END:VEVENT
BEGIN:VEVENT
DTSTART;TZID=Europe/Berlin:20260813T160000
DTEND;TZID=Europe/Berlin:20260813T180000
DTSTAMP:20260422T193302
CREATED:20230622T105848Z
LAST-MODIFIED:20230622T110612Z
UID:10002106-1786636800-1786644000@s130056251.online.de
SUMMARY:Graffiti AG
DESCRIPTION:Hier könnt ihr euch mit Sprühdosen an der hauseigenen Graffitiwand ausprobieren.
URL:http://s130056251.online.de/event/graffiti-ag/2026-08-13/
LOCATION:Senfte 10\, Senftenberger Straße 10\, Berlin\, Berlin\, 12627
END:VEVENT
BEGIN:VEVENT
DTSTART;TZID=Europe/Berlin:20260813T170000
DTEND;TZID=Europe/Berlin:20260813T183000
DTSTAMP:20260422T193302
CREATED:20230622T110720Z
LAST-MODIFIED:20230622T110720Z
UID:10001488-1786640400-1786645800@s130056251.online.de
SUMMARY:Fit AG
DESCRIPTION:Sportliche Betätigung (altersgerecht) unter Aufsicht und Anleitung eines Trainers im Fitnessraum der Senfte 10.
URL:http://s130056251.online.de/event/fit-ag/2026-08-13/
LOCATION:Senfte 10\, Senftenberger Straße 10\, Berlin\, Berlin\, 12627
END:VEVENT
BEGIN:VEVENT
DTSTART;TZID=Europe/Berlin:20260818T170000
DTEND;TZID=Europe/Berlin:20260818T183000
DTSTAMP:20260422T193302
CREATED:20230622T110720Z
LAST-MODIFIED:20230622T110720Z
UID:10001489-1787072400-1787077800@s130056251.online.de
SUMMARY:Fit AG
DESCRIPTION:Sportliche Betätigung (altersgerecht) unter Aufsicht und Anleitung eines Trainers im Fitnessraum der Senfte 10.
URL:http://s130056251.online.de/event/fit-ag/2026-08-18/
LOCATION:Senfte 10\, Senftenberger Straße 10\, Berlin\, Berlin\, 12627
END:VEVENT
BEGIN:VEVENT
DTSTART;TZID=Europe/Berlin:20260819T160000
DTEND;TZID=Europe/Berlin:20260819T180000
DTSTAMP:20260422T193302
CREATED:20230622T110653Z
LAST-MODIFIED:20230622T110653Z
UID:10001846-1787155200-1787162400@s130056251.online.de
SUMMARY:Outdoorküche
DESCRIPTION:Wir kochen unterschiedliche und leckere Gerichte\, draußen\, im Dutch Oven über/in der Feuerschale.
URL:http://s130056251.online.de/event/outdoorkueche/2026-08-19/
LOCATION:Senfte 10\, Senftenberger Straße 10\, Berlin\, Berlin\, 12627
END:VEVENT
BEGIN:VEVENT
DTSTART;TZID=Europe/Berlin:20260820T160000
DTEND;TZID=Europe/Berlin:20260820T180000
DTSTAMP:20260422T193302
CREATED:20230622T105848Z
LAST-MODIFIED:20230622T110612Z
UID:10002107-1787241600-1787248800@s130056251.online.de
SUMMARY:Graffiti AG
DESCRIPTION:Hier könnt ihr euch mit Sprühdosen an der hauseigenen Graffitiwand ausprobieren.
URL:http://s130056251.online.de/event/graffiti-ag/2026-08-20/
LOCATION:Senfte 10\, Senftenberger Straße 10\, Berlin\, Berlin\, 12627
END:VEVENT
BEGIN:VEVENT
DTSTART;TZID=Europe/Berlin:20260820T170000
DTEND;TZID=Europe/Berlin:20260820T183000
DTSTAMP:20260422T193302
CREATED:20230622T110720Z
LAST-MODIFIED:20230622T110720Z
UID:10001490-1787245200-1787250600@s130056251.online.de
SUMMARY:Fit AG
DESCRIPTION:Sportliche Betätigung (altersgerecht) unter Aufsicht und Anleitung eines Trainers im Fitnessraum der Senfte 10.
URL:http://s130056251.online.de/event/fit-ag/2026-08-20/
LOCATION:Senfte 10\, Senftenberger Straße 10\, Berlin\, Berlin\, 12627
END:VEVENT
BEGIN:VEVENT
DTSTART;TZID=Europe/Berlin:20260825T170000
DTEND;TZID=Europe/Berlin:20260825T183000
DTSTAMP:20260422T193302
CREATED:20230622T110720Z
LAST-MODIFIED:20230622T110720Z
UID:10001491-1787677200-1787682600@s130056251.online.de
SUMMARY:Fit AG
DESCRIPTION:Sportliche Betätigung (altersgerecht) unter Aufsicht und Anleitung eines Trainers im Fitnessraum der Senfte 10.
URL:http://s130056251.online.de/event/fit-ag/2026-08-25/
LOCATION:Senfte 10\, Senftenberger Straße 10\, Berlin\, Berlin\, 12627
END:VEVENT
BEGIN:VEVENT
DTSTART;TZID=Europe/Berlin:20260826T160000
DTEND;TZID=Europe/Berlin:20260826T180000
DTSTAMP:20260422T193302
CREATED:20230622T110653Z
LAST-MODIFIED:20230622T110653Z
UID:10001847-1787760000-1787767200@s130056251.online.de
SUMMARY:Outdoorküche
DESCRIPTION:Wir kochen unterschiedliche und leckere Gerichte\, draußen\, im Dutch Oven über/in der Feuerschale.
URL:http://s130056251.online.de/event/outdoorkueche/2026-08-26/
LOCATION:Senfte 10\, Senftenberger Straße 10\, Berlin\, Berlin\, 12627
END:VEVENT
BEGIN:VEVENT
DTSTART;TZID=Europe/Berlin:20260827T160000
DTEND;TZID=Europe/Berlin:20260827T180000
DTSTAMP:20260422T193302
CREATED:20230622T105848Z
LAST-MODIFIED:20230622T110612Z
UID:10002108-1787846400-1787853600@s130056251.online.de
SUMMARY:Graffiti AG
DESCRIPTION:Hier könnt ihr euch mit Sprühdosen an der hauseigenen Graffitiwand ausprobieren.
URL:http://s130056251.online.de/event/graffiti-ag/2026-08-27/
LOCATION:Senfte 10\, Senftenberger Straße 10\, Berlin\, Berlin\, 12627
END:VEVENT
BEGIN:VEVENT
DTSTART;TZID=Europe/Berlin:20260827T170000
DTEND;TZID=Europe/Berlin:20260827T183000
DTSTAMP:20260422T193302
CREATED:20230622T110720Z
LAST-MODIFIED:20230622T110720Z
UID:10001492-1787850000-1787855400@s130056251.online.de
SUMMARY:Fit AG
DESCRIPTION:Sportliche Betätigung (altersgerecht) unter Aufsicht und Anleitung eines Trainers im Fitnessraum der Senfte 10.
URL:http://s130056251.online.de/event/fit-ag/2026-08-27/
LOCATION:Senfte 10\, Senftenberger Straße 10\, Berlin\, Berlin\, 12627
END:VEVENT
BEGIN:VEVENT
DTSTART;TZID=Europe/Berlin:20260901T170000
DTEND;TZID=Europe/Berlin:20260901T183000
DTSTAMP:20260422T193302
CREATED:20230622T110720Z
LAST-MODIFIED:20230622T110720Z
UID:10001493-1788282000-1788287400@s130056251.online.de
SUMMARY:Fit AG
DESCRIPTION:Sportliche Betätigung (altersgerecht) unter Aufsicht und Anleitung eines Trainers im Fitnessraum der Senfte 10.
URL:http://s130056251.online.de/event/fit-ag/2026-09-01/
LOCATION:Senfte 10\, Senftenberger Straße 10\, Berlin\, Berlin\, 12627
END:VEVENT
BEGIN:VEVENT
DTSTART;TZID=Europe/Berlin:20260902T160000
DTEND;TZID=Europe/Berlin:20260902T180000
DTSTAMP:20260422T193302
CREATED:20230622T110653Z
LAST-MODIFIED:20230622T110653Z
UID:10001848-1788364800-1788372000@s130056251.online.de
SUMMARY:Outdoorküche
DESCRIPTION:Wir kochen unterschiedliche und leckere Gerichte\, draußen\, im Dutch Oven über/in der Feuerschale.
URL:http://s130056251.online.de/event/outdoorkueche/2026-09-02/
LOCATION:Senfte 10\, Senftenberger Straße 10\, Berlin\, Berlin\, 12627
END:VEVENT
BEGIN:VEVENT
DTSTART;TZID=Europe/Berlin:20260903T160000
DTEND;TZID=Europe/Berlin:20260903T180000
DTSTAMP:20260422T193302
CREATED:20230622T105848Z
LAST-MODIFIED:20230622T110612Z
UID:10002109-1788451200-1788458400@s130056251.online.de
SUMMARY:Graffiti AG
DESCRIPTION:Hier könnt ihr euch mit Sprühdosen an der hauseigenen Graffitiwand ausprobieren.
URL:http://s130056251.online.de/event/graffiti-ag/2026-09-03/
LOCATION:Senfte 10\, Senftenberger Straße 10\, Berlin\, Berlin\, 12627
END:VEVENT
BEGIN:VEVENT
DTSTART;TZID=Europe/Berlin:20260903T170000
DTEND;TZID=Europe/Berlin:20260903T183000
DTSTAMP:20260422T193302
CREATED:20230622T110720Z
LAST-MODIFIED:20230622T110720Z
UID:10001494-1788454800-1788460200@s130056251.online.de
SUMMARY:Fit AG
DESCRIPTION:Sportliche Betätigung (altersgerecht) unter Aufsicht und Anleitung eines Trainers im Fitnessraum der Senfte 10.
URL:http://s130056251.online.de/event/fit-ag/2026-09-03/
LOCATION:Senfte 10\, Senftenberger Straße 10\, Berlin\, Berlin\, 12627
END:VEVENT
END:VCALENDAR