BEGIN:VCALENDAR
VERSION:2.0
PRODID:-//Was geht in Hellersdorf - ECPv6.1.2.2//NONSGML v1.0//EN
CALSCALE:GREGORIAN
METHOD:PUBLISH
X-WR-CALNAME:Was geht in Hellersdorf
X-ORIGINAL-URL:http://s130056251.online.de
X-WR-CALDESC:Veranstaltungen für Was geht in Hellersdorf
REFRESH-INTERVAL;VALUE=DURATION:PT1H
X-Robots-Tag:noindex
X-PUBLISHED-TTL:PT1H
BEGIN:VTIMEZONE
TZID:Europe/Berlin
BEGIN:DAYLIGHT
TZOFFSETFROM:+0100
TZOFFSETTO:+0200
TZNAME:CEST
DTSTART:20230326T010000
END:DAYLIGHT
BEGIN:STANDARD
TZOFFSETFROM:+0200
TZOFFSETTO:+0100
TZNAME:CET
DTSTART:20231029T010000
END:STANDARD
END:VTIMEZONE
BEGIN:VEVENT
DTSTART;TZID=Europe/Berlin:20231109T160000
DTEND;TZID=Europe/Berlin:20231109T180000
DTSTAMP:20260425T195556
CREATED:20230622T105848Z
LAST-MODIFIED:20230622T110612Z
UID:10001962-1699545600-1699552800@s130056251.online.de
SUMMARY:Graffiti AG
DESCRIPTION:Hier könnt ihr euch mit Sprühdosen an der hauseigenen Graffitiwand ausprobieren.
URL:http://s130056251.online.de/event/graffiti-ag/2023-11-09/
LOCATION:Senfte 10\, Senftenberger Straße 10\, Berlin\, Berlin\, 12627
END:VEVENT
BEGIN:VEVENT
DTSTART;TZID=Europe/Berlin:20231109T170000
DTEND;TZID=Europe/Berlin:20231109T183000
DTSTAMP:20260425T195556
CREATED:20230622T110720Z
LAST-MODIFIED:20230622T110720Z
UID:10001200-1699549200-1699554600@s130056251.online.de
SUMMARY:Fit AG
DESCRIPTION:Sportliche Betätigung (altersgerecht) unter Aufsicht und Anleitung eines Trainers im Fitnessraum der Senfte 10.
URL:http://s130056251.online.de/event/fit-ag/2023-11-09/
LOCATION:Senfte 10\, Senftenberger Straße 10\, Berlin\, Berlin\, 12627
END:VEVENT
BEGIN:VEVENT
DTSTART;TZID=Europe/Berlin:20231114T170000
DTEND;TZID=Europe/Berlin:20231114T183000
DTSTAMP:20260425T195556
CREATED:20230622T110720Z
LAST-MODIFIED:20230622T110720Z
UID:10001201-1699981200-1699986600@s130056251.online.de
SUMMARY:Fit AG
DESCRIPTION:Sportliche Betätigung (altersgerecht) unter Aufsicht und Anleitung eines Trainers im Fitnessraum der Senfte 10.
URL:http://s130056251.online.de/event/fit-ag/2023-11-14/
LOCATION:Senfte 10\, Senftenberger Straße 10\, Berlin\, Berlin\, 12627
END:VEVENT
BEGIN:VEVENT
DTSTART;TZID=Europe/Berlin:20231115T160000
DTEND;TZID=Europe/Berlin:20231115T180000
DTSTAMP:20260425T195556
CREATED:20230622T110653Z
LAST-MODIFIED:20230622T110653Z
UID:10001702-1700064000-1700071200@s130056251.online.de
SUMMARY:Outdoorküche
DESCRIPTION:Wir kochen unterschiedliche und leckere Gerichte\, draußen\, im Dutch Oven über/in der Feuerschale.
URL:http://s130056251.online.de/event/outdoorkueche/2023-11-15/
LOCATION:Senfte 10\, Senftenberger Straße 10\, Berlin\, Berlin\, 12627
END:VEVENT
BEGIN:VEVENT
DTSTART;TZID=Europe/Berlin:20231116T160000
DTEND;TZID=Europe/Berlin:20231116T180000
DTSTAMP:20260425T195556
CREATED:20230622T105848Z
LAST-MODIFIED:20230622T110612Z
UID:10001963-1700150400-1700157600@s130056251.online.de
SUMMARY:Graffiti AG
DESCRIPTION:Hier könnt ihr euch mit Sprühdosen an der hauseigenen Graffitiwand ausprobieren.
URL:http://s130056251.online.de/event/graffiti-ag/2023-11-16/
LOCATION:Senfte 10\, Senftenberger Straße 10\, Berlin\, Berlin\, 12627
END:VEVENT
BEGIN:VEVENT
DTSTART;TZID=Europe/Berlin:20231116T170000
DTEND;TZID=Europe/Berlin:20231116T183000
DTSTAMP:20260425T195556
CREATED:20230622T110720Z
LAST-MODIFIED:20230622T110720Z
UID:10001202-1700154000-1700159400@s130056251.online.de
SUMMARY:Fit AG
DESCRIPTION:Sportliche Betätigung (altersgerecht) unter Aufsicht und Anleitung eines Trainers im Fitnessraum der Senfte 10.
URL:http://s130056251.online.de/event/fit-ag/2023-11-16/
LOCATION:Senfte 10\, Senftenberger Straße 10\, Berlin\, Berlin\, 12627
END:VEVENT
BEGIN:VEVENT
DTSTART;TZID=Europe/Berlin:20231121T170000
DTEND;TZID=Europe/Berlin:20231121T183000
DTSTAMP:20260425T195556
CREATED:20230622T110720Z
LAST-MODIFIED:20230622T110720Z
UID:10001203-1700586000-1700591400@s130056251.online.de
SUMMARY:Fit AG
DESCRIPTION:Sportliche Betätigung (altersgerecht) unter Aufsicht und Anleitung eines Trainers im Fitnessraum der Senfte 10.
URL:http://s130056251.online.de/event/fit-ag/2023-11-21/
LOCATION:Senfte 10\, Senftenberger Straße 10\, Berlin\, Berlin\, 12627
END:VEVENT
BEGIN:VEVENT
DTSTART;TZID=Europe/Berlin:20231122T160000
DTEND;TZID=Europe/Berlin:20231122T180000
DTSTAMP:20260425T195556
CREATED:20230622T110653Z
LAST-MODIFIED:20230622T110653Z
UID:10001703-1700668800-1700676000@s130056251.online.de
SUMMARY:Outdoorküche
DESCRIPTION:Wir kochen unterschiedliche und leckere Gerichte\, draußen\, im Dutch Oven über/in der Feuerschale.
URL:http://s130056251.online.de/event/outdoorkueche/2023-11-22/
LOCATION:Senfte 10\, Senftenberger Straße 10\, Berlin\, Berlin\, 12627
END:VEVENT
BEGIN:VEVENT
DTSTART;TZID=Europe/Berlin:20231123T160000
DTEND;TZID=Europe/Berlin:20231123T180000
DTSTAMP:20260425T195556
CREATED:20230622T105848Z
LAST-MODIFIED:20230622T110612Z
UID:10001964-1700755200-1700762400@s130056251.online.de
SUMMARY:Graffiti AG
DESCRIPTION:Hier könnt ihr euch mit Sprühdosen an der hauseigenen Graffitiwand ausprobieren.
URL:http://s130056251.online.de/event/graffiti-ag/2023-11-23/
LOCATION:Senfte 10\, Senftenberger Straße 10\, Berlin\, Berlin\, 12627
END:VEVENT
BEGIN:VEVENT
DTSTART;TZID=Europe/Berlin:20231123T170000
DTEND;TZID=Europe/Berlin:20231123T183000
DTSTAMP:20260425T195556
CREATED:20230622T110720Z
LAST-MODIFIED:20230622T110720Z
UID:10001204-1700758800-1700764200@s130056251.online.de
SUMMARY:Fit AG
DESCRIPTION:Sportliche Betätigung (altersgerecht) unter Aufsicht und Anleitung eines Trainers im Fitnessraum der Senfte 10.
URL:http://s130056251.online.de/event/fit-ag/2023-11-23/
LOCATION:Senfte 10\, Senftenberger Straße 10\, Berlin\, Berlin\, 12627
END:VEVENT
BEGIN:VEVENT
DTSTART;TZID=Europe/Berlin:20231128T170000
DTEND;TZID=Europe/Berlin:20231128T183000
DTSTAMP:20260425T195556
CREATED:20230622T110720Z
LAST-MODIFIED:20230622T110720Z
UID:10001205-1701190800-1701196200@s130056251.online.de
SUMMARY:Fit AG
DESCRIPTION:Sportliche Betätigung (altersgerecht) unter Aufsicht und Anleitung eines Trainers im Fitnessraum der Senfte 10.
URL:http://s130056251.online.de/event/fit-ag/2023-11-28/
LOCATION:Senfte 10\, Senftenberger Straße 10\, Berlin\, Berlin\, 12627
END:VEVENT
BEGIN:VEVENT
DTSTART;TZID=Europe/Berlin:20231129T160000
DTEND;TZID=Europe/Berlin:20231129T180000
DTSTAMP:20260425T195556
CREATED:20230622T110653Z
LAST-MODIFIED:20230622T110653Z
UID:10001704-1701273600-1701280800@s130056251.online.de
SUMMARY:Outdoorküche
DESCRIPTION:Wir kochen unterschiedliche und leckere Gerichte\, draußen\, im Dutch Oven über/in der Feuerschale.
URL:http://s130056251.online.de/event/outdoorkueche/2023-11-29/
LOCATION:Senfte 10\, Senftenberger Straße 10\, Berlin\, Berlin\, 12627
END:VEVENT
BEGIN:VEVENT
DTSTART;TZID=Europe/Berlin:20231130T160000
DTEND;TZID=Europe/Berlin:20231130T180000
DTSTAMP:20260425T195556
CREATED:20230622T105848Z
LAST-MODIFIED:20230622T110612Z
UID:10001965-1701360000-1701367200@s130056251.online.de
SUMMARY:Graffiti AG
DESCRIPTION:Hier könnt ihr euch mit Sprühdosen an der hauseigenen Graffitiwand ausprobieren.
URL:http://s130056251.online.de/event/graffiti-ag/2023-11-30/
LOCATION:Senfte 10\, Senftenberger Straße 10\, Berlin\, Berlin\, 12627
END:VEVENT
BEGIN:VEVENT
DTSTART;TZID=Europe/Berlin:20231130T170000
DTEND;TZID=Europe/Berlin:20231130T183000
DTSTAMP:20260425T195556
CREATED:20230622T110720Z
LAST-MODIFIED:20230622T110720Z
UID:10001206-1701363600-1701369000@s130056251.online.de
SUMMARY:Fit AG
DESCRIPTION:Sportliche Betätigung (altersgerecht) unter Aufsicht und Anleitung eines Trainers im Fitnessraum der Senfte 10.
URL:http://s130056251.online.de/event/fit-ag/2023-11-30/
LOCATION:Senfte 10\, Senftenberger Straße 10\, Berlin\, Berlin\, 12627
END:VEVENT
BEGIN:VEVENT
DTSTART;TZID=Europe/Berlin:20231205T170000
DTEND;TZID=Europe/Berlin:20231205T183000
DTSTAMP:20260425T195556
CREATED:20230622T110720Z
LAST-MODIFIED:20230622T110720Z
UID:10001207-1701795600-1701801000@s130056251.online.de
SUMMARY:Fit AG
DESCRIPTION:Sportliche Betätigung (altersgerecht) unter Aufsicht und Anleitung eines Trainers im Fitnessraum der Senfte 10.
URL:http://s130056251.online.de/event/fit-ag/2023-12-05/
LOCATION:Senfte 10\, Senftenberger Straße 10\, Berlin\, Berlin\, 12627
END:VEVENT
BEGIN:VEVENT
DTSTART;TZID=Europe/Berlin:20231206T160000
DTEND;TZID=Europe/Berlin:20231206T180000
DTSTAMP:20260425T195556
CREATED:20230622T110653Z
LAST-MODIFIED:20230622T110653Z
UID:10001705-1701878400-1701885600@s130056251.online.de
SUMMARY:Outdoorküche
DESCRIPTION:Wir kochen unterschiedliche und leckere Gerichte\, draußen\, im Dutch Oven über/in der Feuerschale.
URL:http://s130056251.online.de/event/outdoorkueche/2023-12-06/
LOCATION:Senfte 10\, Senftenberger Straße 10\, Berlin\, Berlin\, 12627
END:VEVENT
BEGIN:VEVENT
DTSTART;TZID=Europe/Berlin:20231207T160000
DTEND;TZID=Europe/Berlin:20231207T180000
DTSTAMP:20260425T195556
CREATED:20230622T105848Z
LAST-MODIFIED:20230622T110612Z
UID:10001966-1701964800-1701972000@s130056251.online.de
SUMMARY:Graffiti AG
DESCRIPTION:Hier könnt ihr euch mit Sprühdosen an der hauseigenen Graffitiwand ausprobieren.
URL:http://s130056251.online.de/event/graffiti-ag/2023-12-07/
LOCATION:Senfte 10\, Senftenberger Straße 10\, Berlin\, Berlin\, 12627
END:VEVENT
BEGIN:VEVENT
DTSTART;TZID=Europe/Berlin:20231207T170000
DTEND;TZID=Europe/Berlin:20231207T183000
DTSTAMP:20260425T195556
CREATED:20230622T110720Z
LAST-MODIFIED:20230622T110720Z
UID:10001208-1701968400-1701973800@s130056251.online.de
SUMMARY:Fit AG
DESCRIPTION:Sportliche Betätigung (altersgerecht) unter Aufsicht und Anleitung eines Trainers im Fitnessraum der Senfte 10.
URL:http://s130056251.online.de/event/fit-ag/2023-12-07/
LOCATION:Senfte 10\, Senftenberger Straße 10\, Berlin\, Berlin\, 12627
END:VEVENT
BEGIN:VEVENT
DTSTART;TZID=Europe/Berlin:20231212T170000
DTEND;TZID=Europe/Berlin:20231212T183000
DTSTAMP:20260425T195556
CREATED:20230622T110720Z
LAST-MODIFIED:20230622T110720Z
UID:10001209-1702400400-1702405800@s130056251.online.de
SUMMARY:Fit AG
DESCRIPTION:Sportliche Betätigung (altersgerecht) unter Aufsicht und Anleitung eines Trainers im Fitnessraum der Senfte 10.
URL:http://s130056251.online.de/event/fit-ag/2023-12-12/
LOCATION:Senfte 10\, Senftenberger Straße 10\, Berlin\, Berlin\, 12627
END:VEVENT
BEGIN:VEVENT
DTSTART;TZID=Europe/Berlin:20231213T160000
DTEND;TZID=Europe/Berlin:20231213T180000
DTSTAMP:20260425T195556
CREATED:20230622T110653Z
LAST-MODIFIED:20230622T110653Z
UID:10001706-1702483200-1702490400@s130056251.online.de
SUMMARY:Outdoorküche
DESCRIPTION:Wir kochen unterschiedliche und leckere Gerichte\, draußen\, im Dutch Oven über/in der Feuerschale.
URL:http://s130056251.online.de/event/outdoorkueche/2023-12-13/
LOCATION:Senfte 10\, Senftenberger Straße 10\, Berlin\, Berlin\, 12627
END:VEVENT
BEGIN:VEVENT
DTSTART;TZID=Europe/Berlin:20231214T160000
DTEND;TZID=Europe/Berlin:20231214T180000
DTSTAMP:20260425T195556
CREATED:20230622T105848Z
LAST-MODIFIED:20230622T110612Z
UID:10001967-1702569600-1702576800@s130056251.online.de
SUMMARY:Graffiti AG
DESCRIPTION:Hier könnt ihr euch mit Sprühdosen an der hauseigenen Graffitiwand ausprobieren.
URL:http://s130056251.online.de/event/graffiti-ag/2023-12-14/
LOCATION:Senfte 10\, Senftenberger Straße 10\, Berlin\, Berlin\, 12627
END:VEVENT
BEGIN:VEVENT
DTSTART;TZID=Europe/Berlin:20231214T170000
DTEND;TZID=Europe/Berlin:20231214T183000
DTSTAMP:20260425T195556
CREATED:20230622T110720Z
LAST-MODIFIED:20230622T110720Z
UID:10001210-1702573200-1702578600@s130056251.online.de
SUMMARY:Fit AG
DESCRIPTION:Sportliche Betätigung (altersgerecht) unter Aufsicht und Anleitung eines Trainers im Fitnessraum der Senfte 10.
URL:http://s130056251.online.de/event/fit-ag/2023-12-14/
LOCATION:Senfte 10\, Senftenberger Straße 10\, Berlin\, Berlin\, 12627
END:VEVENT
BEGIN:VEVENT
DTSTART;TZID=Europe/Berlin:20231219T170000
DTEND;TZID=Europe/Berlin:20231219T183000
DTSTAMP:20260425T195556
CREATED:20230622T110720Z
LAST-MODIFIED:20230622T110720Z
UID:10001211-1703005200-1703010600@s130056251.online.de
SUMMARY:Fit AG
DESCRIPTION:Sportliche Betätigung (altersgerecht) unter Aufsicht und Anleitung eines Trainers im Fitnessraum der Senfte 10.
URL:http://s130056251.online.de/event/fit-ag/2023-12-19/
LOCATION:Senfte 10\, Senftenberger Straße 10\, Berlin\, Berlin\, 12627
END:VEVENT
BEGIN:VEVENT
DTSTART;TZID=Europe/Berlin:20231220T160000
DTEND;TZID=Europe/Berlin:20231220T180000
DTSTAMP:20260425T195556
CREATED:20230622T110653Z
LAST-MODIFIED:20230622T110653Z
UID:10001707-1703088000-1703095200@s130056251.online.de
SUMMARY:Outdoorküche
DESCRIPTION:Wir kochen unterschiedliche und leckere Gerichte\, draußen\, im Dutch Oven über/in der Feuerschale.
URL:http://s130056251.online.de/event/outdoorkueche/2023-12-20/
LOCATION:Senfte 10\, Senftenberger Straße 10\, Berlin\, Berlin\, 12627
END:VEVENT
BEGIN:VEVENT
DTSTART;TZID=Europe/Berlin:20231221T160000
DTEND;TZID=Europe/Berlin:20231221T180000
DTSTAMP:20260425T195556
CREATED:20230622T105848Z
LAST-MODIFIED:20230622T110612Z
UID:10001968-1703174400-1703181600@s130056251.online.de
SUMMARY:Graffiti AG
DESCRIPTION:Hier könnt ihr euch mit Sprühdosen an der hauseigenen Graffitiwand ausprobieren.
URL:http://s130056251.online.de/event/graffiti-ag/2023-12-21/
LOCATION:Senfte 10\, Senftenberger Straße 10\, Berlin\, Berlin\, 12627
END:VEVENT
BEGIN:VEVENT
DTSTART;TZID=Europe/Berlin:20231221T170000
DTEND;TZID=Europe/Berlin:20231221T183000
DTSTAMP:20260425T195556
CREATED:20230622T110720Z
LAST-MODIFIED:20230622T110720Z
UID:10001212-1703178000-1703183400@s130056251.online.de
SUMMARY:Fit AG
DESCRIPTION:Sportliche Betätigung (altersgerecht) unter Aufsicht und Anleitung eines Trainers im Fitnessraum der Senfte 10.
URL:http://s130056251.online.de/event/fit-ag/2023-12-21/
LOCATION:Senfte 10\, Senftenberger Straße 10\, Berlin\, Berlin\, 12627
END:VEVENT
BEGIN:VEVENT
DTSTART;TZID=Europe/Berlin:20231226T170000
DTEND;TZID=Europe/Berlin:20231226T183000
DTSTAMP:20260425T195556
CREATED:20230622T110720Z
LAST-MODIFIED:20230622T110720Z
UID:10001213-1703610000-1703615400@s130056251.online.de
SUMMARY:Fit AG
DESCRIPTION:Sportliche Betätigung (altersgerecht) unter Aufsicht und Anleitung eines Trainers im Fitnessraum der Senfte 10.
URL:http://s130056251.online.de/event/fit-ag/2023-12-26/
LOCATION:Senfte 10\, Senftenberger Straße 10\, Berlin\, Berlin\, 12627
END:VEVENT
BEGIN:VEVENT
DTSTART;TZID=Europe/Berlin:20231227T160000
DTEND;TZID=Europe/Berlin:20231227T180000
DTSTAMP:20260425T195556
CREATED:20230622T110653Z
LAST-MODIFIED:20230622T110653Z
UID:10001708-1703692800-1703700000@s130056251.online.de
SUMMARY:Outdoorküche
DESCRIPTION:Wir kochen unterschiedliche und leckere Gerichte\, draußen\, im Dutch Oven über/in der Feuerschale.
URL:http://s130056251.online.de/event/outdoorkueche/2023-12-27/
LOCATION:Senfte 10\, Senftenberger Straße 10\, Berlin\, Berlin\, 12627
END:VEVENT
BEGIN:VEVENT
DTSTART;TZID=Europe/Berlin:20231228T160000
DTEND;TZID=Europe/Berlin:20231228T180000
DTSTAMP:20260425T195556
CREATED:20230622T105848Z
LAST-MODIFIED:20230622T110612Z
UID:10001969-1703779200-1703786400@s130056251.online.de
SUMMARY:Graffiti AG
DESCRIPTION:Hier könnt ihr euch mit Sprühdosen an der hauseigenen Graffitiwand ausprobieren.
URL:http://s130056251.online.de/event/graffiti-ag/2023-12-28/
LOCATION:Senfte 10\, Senftenberger Straße 10\, Berlin\, Berlin\, 12627
END:VEVENT
BEGIN:VEVENT
DTSTART;TZID=Europe/Berlin:20231228T170000
DTEND;TZID=Europe/Berlin:20231228T183000
DTSTAMP:20260425T195556
CREATED:20230622T110720Z
LAST-MODIFIED:20230622T110720Z
UID:10001214-1703782800-1703788200@s130056251.online.de
SUMMARY:Fit AG
DESCRIPTION:Sportliche Betätigung (altersgerecht) unter Aufsicht und Anleitung eines Trainers im Fitnessraum der Senfte 10.
URL:http://s130056251.online.de/event/fit-ag/2023-12-28/
LOCATION:Senfte 10\, Senftenberger Straße 10\, Berlin\, Berlin\, 12627
END:VEVENT
END:VCALENDAR