BEGIN:VCALENDAR
VERSION:2.0
PRODID:-//Was geht in Hellersdorf - ECPv6.1.2.2//NONSGML v1.0//EN
CALSCALE:GREGORIAN
METHOD:PUBLISH
X-WR-CALNAME:Was geht in Hellersdorf
X-ORIGINAL-URL:http://s130056251.online.de
X-WR-CALDESC:Veranstaltungen für Was geht in Hellersdorf
REFRESH-INTERVAL;VALUE=DURATION:PT1H
X-Robots-Tag:noindex
X-PUBLISHED-TTL:PT1H
BEGIN:VTIMEZONE
TZID:Europe/Berlin
BEGIN:DAYLIGHT
TZOFFSETFROM:+0100
TZOFFSETTO:+0200
TZNAME:CEST
DTSTART:20230326T010000
END:DAYLIGHT
BEGIN:STANDARD
TZOFFSETFROM:+0200
TZOFFSETTO:+0100
TZNAME:CET
DTSTART:20231029T010000
END:STANDARD
END:VTIMEZONE
BEGIN:VEVENT
DTSTART;TZID=Europe/Berlin:20230511T160000
DTEND;TZID=Europe/Berlin:20230511T180000
DTSTAMP:20260424T180723
CREATED:20230323T092447Z
LAST-MODIFIED:20230323T092447Z
UID:10000240-1683820800-1683828000@s130056251.online.de
SUMMARY:Switch Abend
DESCRIPTION:Immer Donnerstags wird einer unserer Räume in eine Zockerhöhle verwandelt. Eine große Couch bietet Platz für eine Gruppenrunde Mario Card\, Mario Party oder viele weitere Spiele.
URL:http://s130056251.online.de/event/switch-abend/2023-05-11/
LOCATION:Tresor\, Ludwigsfelderstraße 2a\, Berlin\, 12629
END:VEVENT
BEGIN:VEVENT
DTSTART;TZID=Europe/Berlin:20230515T140000
DTEND;TZID=Europe/Berlin:20230515T150000
DTSTAMP:20260424T180723
CREATED:20230323T091707Z
LAST-MODIFIED:20230323T091707Z
UID:10000188-1684159200-1684162800@s130056251.online.de
SUMMARY:Action Monday
DESCRIPTION:Jeden Montag veranstalten wir den „Action Monday“. An diesem Tag spielen wir zwei Bewegungsspiele. Wir nehmen gern Vorschläge und Wünsche entgegen welche Spiele durchgeführt werden sollen. Der oder die Sieger*innen werden von unserem Kollegen als Comic gezeichnet und anschließend an unserer Hall of fame ausgestellt.
URL:http://s130056251.online.de/event/action-monday/2023-05-15/
LOCATION:Tresor\, Ludwigsfelderstraße 2a\, Berlin\, 12629
END:VEVENT
BEGIN:VEVENT
DTSTART;TZID=Europe/Berlin:20230515T170000
DTEND;TZID=Europe/Berlin:20230515T190000
DTSTAMP:20260424T180723
CREATED:20230515T084353Z
LAST-MODIFIED:20230515T084353Z
UID:10000524-1684170000-1684177200@s130056251.online.de
SUMMARY:Skip-Bo
DESCRIPTION:Wusstet ihr das Skip-Bo erstmalig 1967 erschienen ist? Und immer noch ist es eines der beliebtesten Spiele in Deutschland. Wir finden Skip-Bo macht in einer großen Gruppe am meisten Spaß\, also kommt vorbei.
URL:http://s130056251.online.de/event/skip-bo/
LOCATION:Tresor\, Ludwigsfelderstraße 2a\, Berlin\, 12629
END:VEVENT
BEGIN:VEVENT
DTSTART;TZID=Europe/Berlin:20230516T140000
DTEND;TZID=Europe/Berlin:20230516T180000
DTSTAMP:20260424T180723
CREATED:20230515T085439Z
LAST-MODIFIED:20230515T085439Z
UID:10000525-1684245600-1684260000@s130056251.online.de
SUMMARY:Frühlingsfest für Alle
DESCRIPTION:Unsere Angebote:\nFrühlingsplätzchen\,\nRiesenseifenblasen\,\nBastelangebote\,\nFeuerschale\,\nGrillen\,\nBatiken\,\nund vieles mehr
URL:http://s130056251.online.de/event/fruehlingsfest-fuer-alle/
LOCATION:Tresor\, Ludwigsfelderstraße 2a\, Berlin\, 12629
END:VEVENT
BEGIN:VEVENT
DTSTART;TZID=Europe/Berlin:20230517T140000
DTEND;TZID=Europe/Berlin:20230517T160000
DTSTAMP:20260424T180723
CREATED:20230515T090045Z
LAST-MODIFIED:20230515T090045Z
UID:10000526-1684332000-1684339200@s130056251.online.de
SUMMARY:Wikinger Schach
DESCRIPTION:Wir gehen raus und spielen Wikinger Schach. Für die die es nicht kennen\, keine Sorge es ist ganz einfach. kommt vorbei.
URL:http://s130056251.online.de/event/wikinger-schach/
LOCATION:Tresor\, Ludwigsfelderstraße 2a\, Berlin\, 12629
END:VEVENT
BEGIN:VEVENT
DTSTART;TZID=Europe/Berlin:20230517T153000
DTEND;TZID=Europe/Berlin:20230517T173000
DTSTAMP:20260424T180723
CREATED:20230323T093006Z
LAST-MODIFIED:20230417T151722Z
UID:10000461-1684337400-1684344600@s130056251.online.de
SUMMARY:Graffiti-Workshop
DESCRIPTION:Immer Mittwoch findet bei uns ein Graffiti-Workshop statt\, in dem ihr nicht nur verschiedene Techniken des arbeiten mit Sprühdosen erlernen werdet\, sondern euch auch kreativ ausleben könnt.
URL:http://s130056251.online.de/event/graffiti-workshop/2023-05-17/
LOCATION:Tresor\, Ludwigsfelderstraße 2a\, Berlin\, 12629
END:VEVENT
BEGIN:VEVENT
DTSTART;TZID=Europe/Berlin:20230518T160000
DTEND;TZID=Europe/Berlin:20230518T180000
DTSTAMP:20260424T180723
CREATED:20230323T092447Z
LAST-MODIFIED:20230323T092447Z
UID:10000241-1684425600-1684432800@s130056251.online.de
SUMMARY:Switch Abend
DESCRIPTION:Immer Donnerstags wird einer unserer Räume in eine Zockerhöhle verwandelt. Eine große Couch bietet Platz für eine Gruppenrunde Mario Card\, Mario Party oder viele weitere Spiele.
URL:http://s130056251.online.de/event/switch-abend/2023-05-18/
LOCATION:Tresor\, Ludwigsfelderstraße 2a\, Berlin\, 12629
END:VEVENT
BEGIN:VEVENT
DTSTART;TZID=Europe/Berlin:20230519T170000
DTEND;TZID=Europe/Berlin:20230519T180000
DTSTAMP:20260424T180723
CREATED:20230515T090759Z
LAST-MODIFIED:20230515T090759Z
UID:10000527-1684515600-1684519200@s130056251.online.de
SUMMARY:Rummy
DESCRIPTION:Wusstet ihr das Rummy das Spiel des Jahres 1980 war? Außerdem gibt es alle 3 Jahre eine Rummy Weltmeisterschaft. 2015 fand diese sogar in Berlin statt.
URL:http://s130056251.online.de/event/rummy/
LOCATION:Tresor\, Ludwigsfelderstraße 2a\, Berlin\, 12629
END:VEVENT
BEGIN:VEVENT
DTSTART;TZID=Europe/Berlin:20230522T140000
DTEND;TZID=Europe/Berlin:20230522T150000
DTSTAMP:20260424T180723
CREATED:20230323T091707Z
LAST-MODIFIED:20230323T091707Z
UID:10000189-1684764000-1684767600@s130056251.online.de
SUMMARY:Action Monday
DESCRIPTION:Jeden Montag veranstalten wir den „Action Monday“. An diesem Tag spielen wir zwei Bewegungsspiele. Wir nehmen gern Vorschläge und Wünsche entgegen welche Spiele durchgeführt werden sollen. Der oder die Sieger*innen werden von unserem Kollegen als Comic gezeichnet und anschließend an unserer Hall of fame ausgestellt.
URL:http://s130056251.online.de/event/action-monday/2023-05-22/
LOCATION:Tresor\, Ludwigsfelderstraße 2a\, Berlin\, 12629
END:VEVENT
BEGIN:VEVENT
DTSTART;TZID=Europe/Berlin:20230522T170000
DTEND;TZID=Europe/Berlin:20230522T190000
DTSTAMP:20260424T180723
CREATED:20230522T102106Z
LAST-MODIFIED:20230522T102106Z
UID:10000528-1684774800-1684782000@s130056251.online.de
SUMMARY:Werwolf im Sportraum
DESCRIPTION:Die Geschichte beginnt in einer finsteren Nacht\, in der grausame Gestalten lauern … . \nDie Dorfbewohner des Düsterwalds begeben sich früh zur Nachtruhe. In diesen Zeiten sollte sich niemand mehr nach Einbruch der Dunkelheit im Freien aufhalten! \nDas ganze Dorf schläft friedlich\, während sich die Nacht über die zerklüftete Hochebene des Hunsrücks legt. \nDer Mond geht auf\, hell und rund. Im Schatten regt sich etwas … \nDie Nacht der Wölfe beginnt. \nLautlos und hungrig streifen sie durch das Dorf\, auf der Suche nach ihrem ersten Opfer.
URL:http://s130056251.online.de/event/werwolf-im-sportraum/
LOCATION:Tresor\, Ludwigsfelderstraße 2a\, Berlin\, 12629
END:VEVENT
BEGIN:VEVENT
DTSTART;TZID=Europe/Berlin:20230524T153000
DTEND;TZID=Europe/Berlin:20230524T173000
DTSTAMP:20260424T180723
CREATED:20230323T093006Z
LAST-MODIFIED:20230417T151722Z
UID:10000462-1684942200-1684949400@s130056251.online.de
SUMMARY:Graffiti-Workshop
DESCRIPTION:Immer Mittwoch findet bei uns ein Graffiti-Workshop statt\, in dem ihr nicht nur verschiedene Techniken des arbeiten mit Sprühdosen erlernen werdet\, sondern euch auch kreativ ausleben könnt.
URL:http://s130056251.online.de/event/graffiti-workshop/2023-05-24/
LOCATION:Tresor\, Ludwigsfelderstraße 2a\, Berlin\, 12629
END:VEVENT
BEGIN:VEVENT
DTSTART;TZID=Europe/Berlin:20230525T160000
DTEND;TZID=Europe/Berlin:20230525T180000
DTSTAMP:20260424T180723
CREATED:20230323T092447Z
LAST-MODIFIED:20230323T092447Z
UID:10000242-1685030400-1685037600@s130056251.online.de
SUMMARY:Switch Abend
DESCRIPTION:Immer Donnerstags wird einer unserer Räume in eine Zockerhöhle verwandelt. Eine große Couch bietet Platz für eine Gruppenrunde Mario Card\, Mario Party oder viele weitere Spiele.
URL:http://s130056251.online.de/event/switch-abend/2023-05-25/
LOCATION:Tresor\, Ludwigsfelderstraße 2a\, Berlin\, 12629
END:VEVENT
BEGIN:VEVENT
DTSTART;TZID=Europe/Berlin:20230529T140000
DTEND;TZID=Europe/Berlin:20230529T150000
DTSTAMP:20260424T180723
CREATED:20230323T091707Z
LAST-MODIFIED:20230323T091707Z
UID:10000190-1685368800-1685372400@s130056251.online.de
SUMMARY:Action Monday
DESCRIPTION:Jeden Montag veranstalten wir den „Action Monday“. An diesem Tag spielen wir zwei Bewegungsspiele. Wir nehmen gern Vorschläge und Wünsche entgegen welche Spiele durchgeführt werden sollen. Der oder die Sieger*innen werden von unserem Kollegen als Comic gezeichnet und anschließend an unserer Hall of fame ausgestellt.
URL:http://s130056251.online.de/event/action-monday/2023-05-29/
LOCATION:Tresor\, Ludwigsfelderstraße 2a\, Berlin\, 12629
END:VEVENT
BEGIN:VEVENT
DTSTART;TZID=Europe/Berlin:20230531T153000
DTEND;TZID=Europe/Berlin:20230531T173000
DTSTAMP:20260424T180723
CREATED:20230323T093006Z
LAST-MODIFIED:20230417T151722Z
UID:10000463-1685547000-1685554200@s130056251.online.de
SUMMARY:Graffiti-Workshop
DESCRIPTION:Immer Mittwoch findet bei uns ein Graffiti-Workshop statt\, in dem ihr nicht nur verschiedene Techniken des arbeiten mit Sprühdosen erlernen werdet\, sondern euch auch kreativ ausleben könnt.
URL:http://s130056251.online.de/event/graffiti-workshop/2023-05-31/
LOCATION:Tresor\, Ludwigsfelderstraße 2a\, Berlin\, 12629
END:VEVENT
BEGIN:VEVENT
DTSTART;TZID=Europe/Berlin:20230601T160000
DTEND;TZID=Europe/Berlin:20230601T180000
DTSTAMP:20260424T180723
CREATED:20230323T092447Z
LAST-MODIFIED:20230323T092447Z
UID:10000243-1685635200-1685642400@s130056251.online.de
SUMMARY:Switch Abend
DESCRIPTION:Immer Donnerstags wird einer unserer Räume in eine Zockerhöhle verwandelt. Eine große Couch bietet Platz für eine Gruppenrunde Mario Card\, Mario Party oder viele weitere Spiele.
URL:http://s130056251.online.de/event/switch-abend/2023-06-01/
LOCATION:Tresor\, Ludwigsfelderstraße 2a\, Berlin\, 12629
END:VEVENT
BEGIN:VEVENT
DTSTART;TZID=Europe/Berlin:20230605T140000
DTEND;TZID=Europe/Berlin:20230605T150000
DTSTAMP:20260424T180723
CREATED:20230323T091707Z
LAST-MODIFIED:20230323T091707Z
UID:10000191-1685973600-1685977200@s130056251.online.de
SUMMARY:Action Monday
DESCRIPTION:Jeden Montag veranstalten wir den „Action Monday“. An diesem Tag spielen wir zwei Bewegungsspiele. Wir nehmen gern Vorschläge und Wünsche entgegen welche Spiele durchgeführt werden sollen. Der oder die Sieger*innen werden von unserem Kollegen als Comic gezeichnet und anschließend an unserer Hall of fame ausgestellt.
URL:http://s130056251.online.de/event/action-monday/2023-06-05/
LOCATION:Tresor\, Ludwigsfelderstraße 2a\, Berlin\, 12629
END:VEVENT
BEGIN:VEVENT
DTSTART;TZID=Europe/Berlin:20230607T153000
DTEND;TZID=Europe/Berlin:20230607T173000
DTSTAMP:20260424T180723
CREATED:20230323T093006Z
LAST-MODIFIED:20230417T151722Z
UID:10000464-1686151800-1686159000@s130056251.online.de
SUMMARY:Graffiti-Workshop
DESCRIPTION:Immer Mittwoch findet bei uns ein Graffiti-Workshop statt\, in dem ihr nicht nur verschiedene Techniken des arbeiten mit Sprühdosen erlernen werdet\, sondern euch auch kreativ ausleben könnt.
URL:http://s130056251.online.de/event/graffiti-workshop/2023-06-07/
LOCATION:Tresor\, Ludwigsfelderstraße 2a\, Berlin\, 12629
END:VEVENT
BEGIN:VEVENT
DTSTART;TZID=Europe/Berlin:20230608T160000
DTEND;TZID=Europe/Berlin:20230608T180000
DTSTAMP:20260424T180723
CREATED:20230323T092447Z
LAST-MODIFIED:20230323T092447Z
UID:10000244-1686240000-1686247200@s130056251.online.de
SUMMARY:Switch Abend
DESCRIPTION:Immer Donnerstags wird einer unserer Räume in eine Zockerhöhle verwandelt. Eine große Couch bietet Platz für eine Gruppenrunde Mario Card\, Mario Party oder viele weitere Spiele.
URL:http://s130056251.online.de/event/switch-abend/2023-06-08/
LOCATION:Tresor\, Ludwigsfelderstraße 2a\, Berlin\, 12629
END:VEVENT
BEGIN:VEVENT
DTSTART;TZID=Europe/Berlin:20230612T140000
DTEND;TZID=Europe/Berlin:20230612T150000
DTSTAMP:20260424T180723
CREATED:20230323T091707Z
LAST-MODIFIED:20230323T091707Z
UID:10000192-1686578400-1686582000@s130056251.online.de
SUMMARY:Action Monday
DESCRIPTION:Jeden Montag veranstalten wir den „Action Monday“. An diesem Tag spielen wir zwei Bewegungsspiele. Wir nehmen gern Vorschläge und Wünsche entgegen welche Spiele durchgeführt werden sollen. Der oder die Sieger*innen werden von unserem Kollegen als Comic gezeichnet und anschließend an unserer Hall of fame ausgestellt.
URL:http://s130056251.online.de/event/action-monday/2023-06-12/
LOCATION:Tresor\, Ludwigsfelderstraße 2a\, Berlin\, 12629
END:VEVENT
BEGIN:VEVENT
DTSTART;TZID=Europe/Berlin:20230614T153000
DTEND;TZID=Europe/Berlin:20230614T173000
DTSTAMP:20260424T180723
CREATED:20230323T093006Z
LAST-MODIFIED:20230417T151722Z
UID:10000465-1686756600-1686763800@s130056251.online.de
SUMMARY:Graffiti-Workshop
DESCRIPTION:Immer Mittwoch findet bei uns ein Graffiti-Workshop statt\, in dem ihr nicht nur verschiedene Techniken des arbeiten mit Sprühdosen erlernen werdet\, sondern euch auch kreativ ausleben könnt.
URL:http://s130056251.online.de/event/graffiti-workshop/2023-06-14/
LOCATION:Tresor\, Ludwigsfelderstraße 2a\, Berlin\, 12629
END:VEVENT
BEGIN:VEVENT
DTSTART;TZID=Europe/Berlin:20230615T160000
DTEND;TZID=Europe/Berlin:20230615T180000
DTSTAMP:20260424T180723
CREATED:20230323T092447Z
LAST-MODIFIED:20230323T092447Z
UID:10000245-1686844800-1686852000@s130056251.online.de
SUMMARY:Switch Abend
DESCRIPTION:Immer Donnerstags wird einer unserer Räume in eine Zockerhöhle verwandelt. Eine große Couch bietet Platz für eine Gruppenrunde Mario Card\, Mario Party oder viele weitere Spiele.
URL:http://s130056251.online.de/event/switch-abend/2023-06-15/
LOCATION:Tresor\, Ludwigsfelderstraße 2a\, Berlin\, 12629
END:VEVENT
BEGIN:VEVENT
DTSTART;TZID=Europe/Berlin:20230619T140000
DTEND;TZID=Europe/Berlin:20230619T150000
DTSTAMP:20260424T180724
CREATED:20230323T091707Z
LAST-MODIFIED:20230323T091707Z
UID:10000193-1687183200-1687186800@s130056251.online.de
SUMMARY:Action Monday
DESCRIPTION:Jeden Montag veranstalten wir den „Action Monday“. An diesem Tag spielen wir zwei Bewegungsspiele. Wir nehmen gern Vorschläge und Wünsche entgegen welche Spiele durchgeführt werden sollen. Der oder die Sieger*innen werden von unserem Kollegen als Comic gezeichnet und anschließend an unserer Hall of fame ausgestellt.
URL:http://s130056251.online.de/event/action-monday/2023-06-19/
LOCATION:Tresor\, Ludwigsfelderstraße 2a\, Berlin\, 12629
END:VEVENT
BEGIN:VEVENT
DTSTART;TZID=Europe/Berlin:20230621T153000
DTEND;TZID=Europe/Berlin:20230621T173000
DTSTAMP:20260424T180724
CREATED:20230323T093006Z
LAST-MODIFIED:20230417T151722Z
UID:10000466-1687361400-1687368600@s130056251.online.de
SUMMARY:Graffiti-Workshop
DESCRIPTION:Immer Mittwoch findet bei uns ein Graffiti-Workshop statt\, in dem ihr nicht nur verschiedene Techniken des arbeiten mit Sprühdosen erlernen werdet\, sondern euch auch kreativ ausleben könnt.
URL:http://s130056251.online.de/event/graffiti-workshop/2023-06-21/
LOCATION:Tresor\, Ludwigsfelderstraße 2a\, Berlin\, 12629
END:VEVENT
BEGIN:VEVENT
DTSTART;TZID=Europe/Berlin:20230622T160000
DTEND;TZID=Europe/Berlin:20230622T180000
DTSTAMP:20260424T180724
CREATED:20230323T092447Z
LAST-MODIFIED:20230323T092447Z
UID:10000246-1687449600-1687456800@s130056251.online.de
SUMMARY:Switch Abend
DESCRIPTION:Immer Donnerstags wird einer unserer Räume in eine Zockerhöhle verwandelt. Eine große Couch bietet Platz für eine Gruppenrunde Mario Card\, Mario Party oder viele weitere Spiele.
URL:http://s130056251.online.de/event/switch-abend/2023-06-22/
LOCATION:Tresor\, Ludwigsfelderstraße 2a\, Berlin\, 12629
END:VEVENT
BEGIN:VEVENT
DTSTART;TZID=Europe/Berlin:20230626T140000
DTEND;TZID=Europe/Berlin:20230626T150000
DTSTAMP:20260424T180724
CREATED:20230323T091707Z
LAST-MODIFIED:20230323T091707Z
UID:10000194-1687788000-1687791600@s130056251.online.de
SUMMARY:Action Monday
DESCRIPTION:Jeden Montag veranstalten wir den „Action Monday“. An diesem Tag spielen wir zwei Bewegungsspiele. Wir nehmen gern Vorschläge und Wünsche entgegen welche Spiele durchgeführt werden sollen. Der oder die Sieger*innen werden von unserem Kollegen als Comic gezeichnet und anschließend an unserer Hall of fame ausgestellt.
URL:http://s130056251.online.de/event/action-monday/2023-06-26/
LOCATION:Tresor\, Ludwigsfelderstraße 2a\, Berlin\, 12629
END:VEVENT
BEGIN:VEVENT
DTSTART;TZID=Europe/Berlin:20230628T153000
DTEND;TZID=Europe/Berlin:20230628T173000
DTSTAMP:20260424T180724
CREATED:20230323T093006Z
LAST-MODIFIED:20230417T151722Z
UID:10000467-1687966200-1687973400@s130056251.online.de
SUMMARY:Graffiti-Workshop
DESCRIPTION:Immer Mittwoch findet bei uns ein Graffiti-Workshop statt\, in dem ihr nicht nur verschiedene Techniken des arbeiten mit Sprühdosen erlernen werdet\, sondern euch auch kreativ ausleben könnt.
URL:http://s130056251.online.de/event/graffiti-workshop/2023-06-28/
LOCATION:Tresor\, Ludwigsfelderstraße 2a\, Berlin\, 12629
END:VEVENT
BEGIN:VEVENT
DTSTART;TZID=Europe/Berlin:20230629T160000
DTEND;TZID=Europe/Berlin:20230629T180000
DTSTAMP:20260424T180724
CREATED:20230323T092447Z
LAST-MODIFIED:20230323T092447Z
UID:10000247-1688054400-1688061600@s130056251.online.de
SUMMARY:Switch Abend
DESCRIPTION:Immer Donnerstags wird einer unserer Räume in eine Zockerhöhle verwandelt. Eine große Couch bietet Platz für eine Gruppenrunde Mario Card\, Mario Party oder viele weitere Spiele.
URL:http://s130056251.online.de/event/switch-abend/2023-06-29/
LOCATION:Tresor\, Ludwigsfelderstraße 2a\, Berlin\, 12629
END:VEVENT
BEGIN:VEVENT
DTSTART;TZID=Europe/Berlin:20230703T140000
DTEND;TZID=Europe/Berlin:20230703T150000
DTSTAMP:20260424T180724
CREATED:20230323T091707Z
LAST-MODIFIED:20230323T091707Z
UID:10000195-1688392800-1688396400@s130056251.online.de
SUMMARY:Action Monday
DESCRIPTION:Jeden Montag veranstalten wir den „Action Monday“. An diesem Tag spielen wir zwei Bewegungsspiele. Wir nehmen gern Vorschläge und Wünsche entgegen welche Spiele durchgeführt werden sollen. Der oder die Sieger*innen werden von unserem Kollegen als Comic gezeichnet und anschließend an unserer Hall of fame ausgestellt.
URL:http://s130056251.online.de/event/action-monday/2023-07-03/
LOCATION:Tresor\, Ludwigsfelderstraße 2a\, Berlin\, 12629
END:VEVENT
BEGIN:VEVENT
DTSTART;TZID=Europe/Berlin:20230705T153000
DTEND;TZID=Europe/Berlin:20230705T173000
DTSTAMP:20260424T180724
CREATED:20230323T093006Z
LAST-MODIFIED:20230417T151722Z
UID:10000468-1688571000-1688578200@s130056251.online.de
SUMMARY:Graffiti-Workshop
DESCRIPTION:Immer Mittwoch findet bei uns ein Graffiti-Workshop statt\, in dem ihr nicht nur verschiedene Techniken des arbeiten mit Sprühdosen erlernen werdet\, sondern euch auch kreativ ausleben könnt.
URL:http://s130056251.online.de/event/graffiti-workshop/2023-07-05/
LOCATION:Tresor\, Ludwigsfelderstraße 2a\, Berlin\, 12629
END:VEVENT
BEGIN:VEVENT
DTSTART;TZID=Europe/Berlin:20230706T160000
DTEND;TZID=Europe/Berlin:20230706T180000
DTSTAMP:20260424T180724
CREATED:20230323T092447Z
LAST-MODIFIED:20230323T092447Z
UID:10000248-1688659200-1688666400@s130056251.online.de
SUMMARY:Switch Abend
DESCRIPTION:Immer Donnerstags wird einer unserer Räume in eine Zockerhöhle verwandelt. Eine große Couch bietet Platz für eine Gruppenrunde Mario Card\, Mario Party oder viele weitere Spiele.
URL:http://s130056251.online.de/event/switch-abend/2023-07-06/
LOCATION:Tresor\, Ludwigsfelderstraße 2a\, Berlin\, 12629
END:VEVENT
END:VCALENDAR