BEGIN:VCALENDAR
VERSION:2.0
PRODID:-//Was geht in Hellersdorf - ECPv6.1.2.2//NONSGML v1.0//EN
CALSCALE:GREGORIAN
METHOD:PUBLISH
X-WR-CALNAME:Was geht in Hellersdorf
X-ORIGINAL-URL:http://s130056251.online.de
X-WR-CALDESC:Veranstaltungen für Was geht in Hellersdorf
REFRESH-INTERVAL;VALUE=DURATION:PT1H
X-Robots-Tag:noindex
X-PUBLISHED-TTL:PT1H
BEGIN:VTIMEZONE
TZID:Europe/Berlin
BEGIN:DAYLIGHT
TZOFFSETFROM:+0100
TZOFFSETTO:+0200
TZNAME:CEST
DTSTART:20230326T010000
END:DAYLIGHT
BEGIN:STANDARD
TZOFFSETFROM:+0200
TZOFFSETTO:+0100
TZNAME:CET
DTSTART:20231029T010000
END:STANDARD
END:VTIMEZONE
BEGIN:VEVENT
DTSTART;TZID=Europe/Berlin:20230817T173000
DTEND;TZID=Europe/Berlin:20230817T203000
DTSTAMP:20260422T175615
CREATED:20230622T110458Z
LAST-MODIFIED:20250204T173825Z
UID:10000541-1692293400-1692304200@s130056251.online.de
SUMMARY:Pen and Paper
DESCRIPTION:Rollenspielspaß mit Paul
URL:http://s130056251.online.de/event/pen-and-paper/2023-08-17/
LOCATION:U5\, Auerbacher Ring 25\, Berlin\, Berlin\, 12619\, Germany
END:VEVENT
BEGIN:VEVENT
DTSTART;TZID=Europe/Berlin:20230824T173000
DTEND;TZID=Europe/Berlin:20230824T203000
DTSTAMP:20260422T175615
CREATED:20230622T110458Z
LAST-MODIFIED:20250204T173825Z
UID:10000542-1692898200-1692909000@s130056251.online.de
SUMMARY:Pen and Paper
DESCRIPTION:Rollenspielspaß mit Paul
URL:http://s130056251.online.de/event/pen-and-paper/2023-08-24/
LOCATION:U5\, Auerbacher Ring 25\, Berlin\, Berlin\, 12619\, Germany
END:VEVENT
BEGIN:VEVENT
DTSTART;TZID=Europe/Berlin:20230831T173000
DTEND;TZID=Europe/Berlin:20230831T203000
DTSTAMP:20260422T175615
CREATED:20230622T110458Z
LAST-MODIFIED:20250204T173825Z
UID:10000543-1693503000-1693513800@s130056251.online.de
SUMMARY:Pen and Paper
DESCRIPTION:Rollenspielspaß mit Paul
URL:http://s130056251.online.de/event/pen-and-paper/2023-08-31/
LOCATION:U5\, Auerbacher Ring 25\, Berlin\, Berlin\, 12619\, Germany
END:VEVENT
BEGIN:VEVENT
DTSTART;TZID=Europe/Berlin:20230907T160000
DTEND;TZID=Europe/Berlin:20230907T180000
DTSTAMP:20260422T175615
CREATED:20230907T133303Z
LAST-MODIFIED:20230907T134607Z
UID:10003594-1694102400-1694109600@s130056251.online.de
SUMMARY:Fußball mit Amen
DESCRIPTION:Du denkst dir: „Eine Runde Fußball zocken\, dass wäre jetzt doch genau das richtige.“ Dann komm vorbei!
URL:http://s130056251.online.de/event/fussball-mit-amen/
LOCATION:U5\, Auerbacher Ring 25\, Berlin\, Berlin\, 12619\, Germany
END:VEVENT
BEGIN:VEVENT
DTSTART;TZID=Europe/Berlin:20230907T173000
DTEND;TZID=Europe/Berlin:20230907T203000
DTSTAMP:20260422T175615
CREATED:20230622T110458Z
LAST-MODIFIED:20250204T173825Z
UID:10000544-1694107800-1694118600@s130056251.online.de
SUMMARY:Pen and Paper
DESCRIPTION:Rollenspielspaß mit Paul
URL:http://s130056251.online.de/event/pen-and-paper/2023-09-07/
LOCATION:U5\, Auerbacher Ring 25\, Berlin\, Berlin\, 12619\, Germany
END:VEVENT
BEGIN:VEVENT
DTSTART;TZID=Europe/Berlin:20230908T150000
DTEND;TZID=Europe/Berlin:20230908T170000
DTSTAMP:20260422T175615
CREATED:20230907T133548Z
LAST-MODIFIED:20230907T134658Z
UID:10003595-1694185200-1694192400@s130056251.online.de
SUMMARY:Tischtennis mit Patrick
DESCRIPTION:Rundlauf\, 1 gegen 1 oder ein Turnier\, alles ist möglich! Also wärmt die Handgelenke auf und freut euch auf eine spannende Herausforderung.
URL:http://s130056251.online.de/event/tischtennis-mit-patrick/
LOCATION:U5\, Auerbacher Ring 25\, Berlin\, Berlin\, 12619\, Germany
END:VEVENT
BEGIN:VEVENT
DTSTART;TZID=Europe/Berlin:20230909T140000
DTEND;TZID=Europe/Berlin:20230909T153000
DTSTAMP:20260422T175615
CREATED:20230907T134501Z
LAST-MODIFIED:20230907T134501Z
UID:10003597-1694268000-1694273400@s130056251.online.de
SUMMARY:Basteln mit Sara
DESCRIPTION:Schneiden\, kleben\, reißen\, schmieren\, klecksen und am Ende entsteht ein Kunstwerk.
URL:http://s130056251.online.de/event/basteln-mit-sara/
LOCATION:U5\, Auerbacher Ring 25\, Berlin\, Berlin\, 12619\, Germany
END:VEVENT
BEGIN:VEVENT
DTSTART;TZID=Europe/Berlin:20230909T170000
DTEND;TZID=Europe/Berlin:20230909T190000
DTSTAMP:20260422T175615
CREATED:20230907T133907Z
LAST-MODIFIED:20230907T134731Z
UID:10003596-1694278800-1694286000@s130056251.online.de
SUMMARY:Dart mit Dennis
DESCRIPTION:Zielen und treffen hört sich easy an? Stell dein können unter beweis und besiege deine Gegner.
URL:http://s130056251.online.de/event/dart-mit-dennis/
LOCATION:U5\, Auerbacher Ring 25\, Berlin\, Berlin\, 12619\, Germany
END:VEVENT
BEGIN:VEVENT
DTSTART;TZID=Europe/Berlin:20230914T173000
DTEND;TZID=Europe/Berlin:20230914T203000
DTSTAMP:20260422T175615
CREATED:20230622T110458Z
LAST-MODIFIED:20250204T173825Z
UID:10000545-1694712600-1694723400@s130056251.online.de
SUMMARY:Pen and Paper
DESCRIPTION:Rollenspielspaß mit Paul
URL:http://s130056251.online.de/event/pen-and-paper/2023-09-14/
LOCATION:U5\, Auerbacher Ring 25\, Berlin\, Berlin\, 12619\, Germany
END:VEVENT
BEGIN:VEVENT
DTSTART;TZID=Europe/Berlin:20230919T160000
DTEND;TZID=Europe/Berlin:20230919T190000
DTSTAMP:20260422T175615
CREATED:20230919T113517Z
LAST-MODIFIED:20230919T113517Z
UID:10003598-1695139200-1695150000@s130056251.online.de
SUMMARY:Fifa-Turnier
DESCRIPTION:Fifa – Turnier im Saal
URL:http://s130056251.online.de/event/fifa-turnier/
LOCATION:U5\, Auerbacher Ring 25\, Berlin\, Berlin\, 12619\, Germany
END:VEVENT
BEGIN:VEVENT
DTSTART;TZID=Europe/Berlin:20230920T150000
DTEND;TZID=Europe/Berlin:20230920T170000
DTSTAMP:20260422T175615
CREATED:20230919T113629Z
LAST-MODIFIED:20230919T113754Z
UID:10003599-1695222000-1695229200@s130056251.online.de
SUMMARY:Cornhole im Garten
DESCRIPTION:Cornhole im Garten
URL:http://s130056251.online.de/event/cornhole-im-garten/
LOCATION:U5\, Auerbacher Ring 25\, Berlin\, Berlin\, 12619\, Germany
END:VEVENT
BEGIN:VEVENT
DTSTART;TZID=Europe/Berlin:20230921T150000
DTEND;TZID=Europe/Berlin:20230921T170000
DTSTAMP:20260422T175615
CREATED:20230919T113716Z
LAST-MODIFIED:20230919T113811Z
UID:10003600-1695308400-1695315600@s130056251.online.de
SUMMARY:Smoothie machen
DESCRIPTION:Gesunde Smoothies mixen
URL:http://s130056251.online.de/event/smoothie-machen/
LOCATION:U5\, Auerbacher Ring 25\, Berlin\, Berlin\, 12619\, Germany
END:VEVENT
BEGIN:VEVENT
DTSTART;TZID=Europe/Berlin:20230921T173000
DTEND;TZID=Europe/Berlin:20230921T203000
DTSTAMP:20260422T175615
CREATED:20230919T113935Z
LAST-MODIFIED:20230919T113935Z
UID:10003601-1695317400-1695328200@s130056251.online.de
SUMMARY:Pen & Paper
DESCRIPTION:Pen & Paper mit Paul
URL:http://s130056251.online.de/event/pen-paper/
LOCATION:U5\, Auerbacher Ring 25\, Berlin\, Berlin\, 12619\, Germany
END:VEVENT
BEGIN:VEVENT
DTSTART;TZID=Europe/Berlin:20230921T173000
DTEND;TZID=Europe/Berlin:20230921T203000
DTSTAMP:20260422T175615
CREATED:20230622T110458Z
LAST-MODIFIED:20250204T173825Z
UID:10000546-1695317400-1695328200@s130056251.online.de
SUMMARY:Pen and Paper
DESCRIPTION:Rollenspielspaß mit Paul
URL:http://s130056251.online.de/event/pen-and-paper/2023-09-21/
LOCATION:U5\, Auerbacher Ring 25\, Berlin\, Berlin\, 12619\, Germany
END:VEVENT
BEGIN:VEVENT
DTSTART;TZID=Europe/Berlin:20230922T150000
DTEND;TZID=Europe/Berlin:20230922T170000
DTSTAMP:20260422T175615
CREATED:20230919T114043Z
LAST-MODIFIED:20230919T114043Z
UID:10003602-1695394800-1695402000@s130056251.online.de
SUMMARY:Wo liegt eigentlich....?
DESCRIPTION:Wir spielen „Die Welt“ und raten\, wo welche Orte liegen.
URL:http://s130056251.online.de/event/wo-liegt-eigentlich/
LOCATION:U5\, Auerbacher Ring 25\, Berlin\, Berlin\, 12619\, Germany
END:VEVENT
BEGIN:VEVENT
DTSTART;VALUE=DATE:20230923
DTEND;VALUE=DATE:20230924
DTSTAMP:20260422T175615
CREATED:20230919T114455Z
LAST-MODIFIED:20230919T114455Z
UID:10003603-1695427200-1695513599@s130056251.online.de
SUMMARY:Schnüffelspaß mit Daiko
DESCRIPTION:Hund Daiko kommt vorbei.
URL:http://s130056251.online.de/event/schnueffelspass-mit-daiko/
LOCATION:U5\, Auerbacher Ring 25\, Berlin\, Berlin\, 12619\, Germany
ATTACH;FMTTYPE=image/jpeg:http://s130056251.online.de/wp-content/uploads/2023/09/image-scaled.jpg
END:VEVENT
BEGIN:VEVENT
DTSTART;TZID=Europe/Berlin:20230928T173000
DTEND;TZID=Europe/Berlin:20230928T203000
DTSTAMP:20260422T175615
CREATED:20230622T110458Z
LAST-MODIFIED:20250204T173825Z
UID:10000547-1695922200-1695933000@s130056251.online.de
SUMMARY:Pen and Paper
DESCRIPTION:Rollenspielspaß mit Paul
URL:http://s130056251.online.de/event/pen-and-paper/2023-09-28/
LOCATION:U5\, Auerbacher Ring 25\, Berlin\, Berlin\, 12619\, Germany
END:VEVENT
BEGIN:VEVENT
DTSTART;TZID=Europe/Berlin:20231005T173000
DTEND;TZID=Europe/Berlin:20231005T203000
DTSTAMP:20260422T175615
CREATED:20230622T110458Z
LAST-MODIFIED:20250204T173825Z
UID:10000548-1696527000-1696537800@s130056251.online.de
SUMMARY:Pen and Paper
DESCRIPTION:Rollenspielspaß mit Paul
URL:http://s130056251.online.de/event/pen-and-paper/2023-10-05/
LOCATION:U5\, Auerbacher Ring 25\, Berlin\, Berlin\, 12619\, Germany
END:VEVENT
BEGIN:VEVENT
DTSTART;TZID=Europe/Berlin:20231012T173000
DTEND;TZID=Europe/Berlin:20231012T203000
DTSTAMP:20260422T175615
CREATED:20230622T110458Z
LAST-MODIFIED:20250204T173825Z
UID:10000549-1697131800-1697142600@s130056251.online.de
SUMMARY:Pen and Paper
DESCRIPTION:Rollenspielspaß mit Paul
URL:http://s130056251.online.de/event/pen-and-paper/2023-10-12/
LOCATION:U5\, Auerbacher Ring 25\, Berlin\, Berlin\, 12619\, Germany
END:VEVENT
BEGIN:VEVENT
DTSTART;TZID=Europe/Berlin:20231019T173000
DTEND;TZID=Europe/Berlin:20231019T203000
DTSTAMP:20260422T175615
CREATED:20230622T110458Z
LAST-MODIFIED:20250204T173825Z
UID:10000550-1697736600-1697747400@s130056251.online.de
SUMMARY:Pen and Paper
DESCRIPTION:Rollenspielspaß mit Paul
URL:http://s130056251.online.de/event/pen-and-paper/2023-10-19/
LOCATION:U5\, Auerbacher Ring 25\, Berlin\, Berlin\, 12619\, Germany
END:VEVENT
BEGIN:VEVENT
DTSTART;TZID=Europe/Berlin:20231021T150000
DTEND;TZID=Europe/Berlin:20231021T170000
DTSTAMP:20260422T175615
CREATED:20231021T170929Z
LAST-MODIFIED:20231031T115924Z
UID:10004398-1697900400-1697907600@s130056251.online.de
SUMMARY:Halloweenbasteln
DESCRIPTION:Wir basteln coole Halloweendeko
URL:http://s130056251.online.de/event/halloweenbasteln-3/
LOCATION:U5\, Auerbacher Ring 25\, Berlin\, Berlin\, 12619\, Germany
ORGANIZER;CN="U5":MAILTO:u5@eastend-berlin.com
END:VEVENT
BEGIN:VEVENT
DTSTART;TZID=Europe/Berlin:20231023T150000
DTEND;TZID=Europe/Berlin:20231023T170000
DTSTAMP:20260422T175615
CREATED:20231021T171339Z
LAST-MODIFIED:20231021T171339Z
UID:10004660-1698073200-1698080400@s130056251.online.de
SUMMARY:Fußball im Garten
DESCRIPTION:Fußball zocken mit Patrick
URL:http://s130056251.online.de/event/fussball-im-garten-2/
LOCATION:U5\, Auerbacher Ring 25\, Berlin\, Berlin\, 12619\, Germany
ORGANIZER;CN="U5":MAILTO:u5@eastend-berlin.com
END:VEVENT
BEGIN:VEVENT
DTSTART;TZID=Europe/Berlin:20231023T150000
DTEND;TZID=Europe/Berlin:20231023T170000
DTSTAMP:20260422T175615
CREATED:20231021T165348Z
LAST-MODIFIED:20231031T120321Z
UID:10003874-1698073200-1698080400@s130056251.online.de
SUMMARY:Fußball zocken
DESCRIPTION:Fußball zocken im Garten mit Patrick
URL:http://s130056251.online.de/event/fussball-zocken/
LOCATION:U5\, Auerbacher Ring 25\, Berlin\, Berlin\, 12619\, Germany
ORGANIZER;CN="U5":MAILTO:u5@eastend-berlin.com
END:VEVENT
BEGIN:VEVENT
DTSTART;TZID=Europe/Berlin:20231026T150000
DTEND;TZID=Europe/Berlin:20231026T170000
DTSTAMP:20260422T175615
CREATED:20231021T171531Z
LAST-MODIFIED:20231021T171531Z
UID:10004922-1698332400-1698339600@s130056251.online.de
SUMMARY:Unfair Mario
DESCRIPTION:Wie spielen eine gemeine Version von Super Mario
URL:http://s130056251.online.de/event/unfair-mario/
LOCATION:U5\, Auerbacher Ring 25\, Berlin\, Berlin\, 12619\, Germany
ORGANIZER;CN="U5":MAILTO:u5@eastend-berlin.com
END:VEVENT
BEGIN:VEVENT
DTSTART;TZID=Europe/Berlin:20231026T150000
DTEND;TZID=Europe/Berlin:20231026T170000
DTSTAMP:20260422T175615
CREATED:20231021T170849Z
LAST-MODIFIED:20231031T120215Z
UID:10004397-1698332400-1698339600@s130056251.online.de
SUMMARY:Unfair Mario
DESCRIPTION:Wir spielen eine gemeine Version von Super Mario.
URL:http://s130056251.online.de/event/unfair-mario-2/
LOCATION:U5\, Auerbacher Ring 25\, Berlin\, Berlin\, 12619\, Germany
ORGANIZER;CN="U5":MAILTO:u5@eastend-berlin.com
END:VEVENT
BEGIN:VEVENT
DTSTART;TZID=Europe/Berlin:20231026T173000
DTEND;TZID=Europe/Berlin:20231026T203000
DTSTAMP:20260422T175615
CREATED:20230622T110458Z
LAST-MODIFIED:20250204T173825Z
UID:10000551-1698341400-1698352200@s130056251.online.de
SUMMARY:Pen and Paper
DESCRIPTION:Rollenspielspaß mit Paul
URL:http://s130056251.online.de/event/pen-and-paper/2023-10-26/
LOCATION:U5\, Auerbacher Ring 25\, Berlin\, Berlin\, 12619\, Germany
END:VEVENT
BEGIN:VEVENT
DTSTART;TZID=Europe/Berlin:20231027T150000
DTEND;TZID=Europe/Berlin:20231027T170000
DTSTAMP:20260422T175615
CREATED:20231021T171614Z
LAST-MODIFIED:20231021T171614Z
UID:10004923-1698418800-1698426000@s130056251.online.de
SUMMARY:Halloweenbasteln
DESCRIPTION:Wir basteln coole Halloweendeko
URL:http://s130056251.online.de/event/halloweenbasteln/
LOCATION:U5\, Auerbacher Ring 25\, Berlin\, Berlin\, 12619\, Germany
ORGANIZER;CN="U5":MAILTO:u5@eastend-berlin.com
END:VEVENT
BEGIN:VEVENT
DTSTART;TZID=Europe/Berlin:20231101T160000
DTEND;TZID=Europe/Berlin:20231101T170000
DTSTAMP:20260422T175615
CREATED:20231031T120239Z
LAST-MODIFIED:20240110T133938Z
UID:10005191-1698854400-1698858000@s130056251.online.de
SUMMARY:Kochen
DESCRIPTION:gemeinsames Kochen – Eure Vorschläge sing gefragt 🙂
URL:http://s130056251.online.de/event/kochen-3/2023-11-01/
LOCATION:U5\, Auerbacher Ring 25\, Berlin\, Berlin\, 12619\, Germany
ORGANIZER;CN="U5":MAILTO:u5@eastend-berlin.com
END:VEVENT
BEGIN:VEVENT
DTSTART;TZID=Europe/Berlin:20231102T173000
DTEND;TZID=Europe/Berlin:20231102T203000
DTSTAMP:20260422T175615
CREATED:20230622T110458Z
LAST-MODIFIED:20250204T173825Z
UID:10000552-1698946200-1698957000@s130056251.online.de
SUMMARY:Pen and Paper
DESCRIPTION:Rollenspielspaß mit Paul
URL:http://s130056251.online.de/event/pen-and-paper/2023-11-02/
LOCATION:U5\, Auerbacher Ring 25\, Berlin\, Berlin\, 12619\, Germany
END:VEVENT
BEGIN:VEVENT
DTSTART;TZID=Europe/Berlin:20231108T160000
DTEND;TZID=Europe/Berlin:20231108T170000
DTSTAMP:20260422T175615
CREATED:20231031T120239Z
LAST-MODIFIED:20240110T133938Z
UID:10005192-1699459200-1699462800@s130056251.online.de
SUMMARY:Kochen
DESCRIPTION:gemeinsames Kochen – Eure Vorschläge sing gefragt 🙂
URL:http://s130056251.online.de/event/kochen-3/2023-11-08/
LOCATION:U5\, Auerbacher Ring 25\, Berlin\, Berlin\, 12619\, Germany
ORGANIZER;CN="U5":MAILTO:u5@eastend-berlin.com
END:VEVENT
END:VCALENDAR