BEGIN:VCALENDAR
VERSION:2.0
PRODID:-//Was geht in Hellersdorf - ECPv6.1.2.2//NONSGML v1.0//EN
CALSCALE:GREGORIAN
METHOD:PUBLISH
X-ORIGINAL-URL:http://s130056251.online.de
X-WR-CALDESC:Veranstaltungen für Was geht in Hellersdorf
REFRESH-INTERVAL;VALUE=DURATION:PT1H
X-Robots-Tag:noindex
X-PUBLISHED-TTL:PT1H
BEGIN:VTIMEZONE
TZID:Europe/Berlin
BEGIN:DAYLIGHT
TZOFFSETFROM:+0100
TZOFFSETTO:+0200
TZNAME:CEST
DTSTART:20260329T010000
END:DAYLIGHT
BEGIN:STANDARD
TZOFFSETFROM:+0200
TZOFFSETTO:+0100
TZNAME:CET
DTSTART:20261025T010000
END:STANDARD
BEGIN:DAYLIGHT
TZOFFSETFROM:+0100
TZOFFSETTO:+0200
TZNAME:CEST
DTSTART:20270328T010000
END:DAYLIGHT
BEGIN:STANDARD
TZOFFSETFROM:+0200
TZOFFSETTO:+0100
TZNAME:CET
DTSTART:20271031T010000
END:STANDARD
END:VTIMEZONE
BEGIN:VEVENT
DTSTART;TZID=Europe/Berlin:20261008T173000
DTEND;TZID=Europe/Berlin:20261008T203000
DTSTAMP:20260422T162249
CREATED:20230622T110458Z
LAST-MODIFIED:20250204T173825Z
UID:10000705-1791480600-1791491400@s130056251.online.de
SUMMARY:Pen and Paper
DESCRIPTION:Rollenspielspaß mit Paul
URL:http://s130056251.online.de/event/pen-and-paper/2026-10-08/
LOCATION:U5\, Auerbacher Ring 25\, Berlin\, Berlin\, 12619\, Germany
END:VEVENT
BEGIN:VEVENT
DTSTART;TZID=Europe/Berlin:20261015T173000
DTEND;TZID=Europe/Berlin:20261015T203000
DTSTAMP:20260422T162249
CREATED:20230622T110458Z
LAST-MODIFIED:20250204T173825Z
UID:10000706-1792085400-1792096200@s130056251.online.de
SUMMARY:Pen and Paper
DESCRIPTION:Rollenspielspaß mit Paul
URL:http://s130056251.online.de/event/pen-and-paper/2026-10-15/
LOCATION:U5\, Auerbacher Ring 25\, Berlin\, Berlin\, 12619\, Germany
END:VEVENT
BEGIN:VEVENT
DTSTART;TZID=Europe/Berlin:20261022T173000
DTEND;TZID=Europe/Berlin:20261022T203000
DTSTAMP:20260422T162249
CREATED:20230622T110458Z
LAST-MODIFIED:20250204T173825Z
UID:10000707-1792690200-1792701000@s130056251.online.de
SUMMARY:Pen and Paper
DESCRIPTION:Rollenspielspaß mit Paul
URL:http://s130056251.online.de/event/pen-and-paper/2026-10-22/
LOCATION:U5\, Auerbacher Ring 25\, Berlin\, Berlin\, 12619\, Germany
END:VEVENT
BEGIN:VEVENT
DTSTART;TZID=Europe/Berlin:20261029T173000
DTEND;TZID=Europe/Berlin:20261029T203000
DTSTAMP:20260422T162249
CREATED:20230622T110458Z
LAST-MODIFIED:20250204T173825Z
UID:10000708-1793295000-1793305800@s130056251.online.de
SUMMARY:Pen and Paper
DESCRIPTION:Rollenspielspaß mit Paul
URL:http://s130056251.online.de/event/pen-and-paper/2026-10-29/
LOCATION:U5\, Auerbacher Ring 25\, Berlin\, Berlin\, 12619\, Germany
END:VEVENT
BEGIN:VEVENT
DTSTART;TZID=Europe/Berlin:20261105T173000
DTEND;TZID=Europe/Berlin:20261105T203000
DTSTAMP:20260422T162249
CREATED:20230622T110458Z
LAST-MODIFIED:20250204T173825Z
UID:10000709-1793899800-1793910600@s130056251.online.de
SUMMARY:Pen and Paper
DESCRIPTION:Rollenspielspaß mit Paul
URL:http://s130056251.online.de/event/pen-and-paper/2026-11-05/
LOCATION:U5\, Auerbacher Ring 25\, Berlin\, Berlin\, 12619\, Germany
END:VEVENT
BEGIN:VEVENT
DTSTART;TZID=Europe/Berlin:20261112T173000
DTEND;TZID=Europe/Berlin:20261112T203000
DTSTAMP:20260422T162249
CREATED:20230622T110458Z
LAST-MODIFIED:20250204T173825Z
UID:10000710-1794504600-1794515400@s130056251.online.de
SUMMARY:Pen and Paper
DESCRIPTION:Rollenspielspaß mit Paul
URL:http://s130056251.online.de/event/pen-and-paper/2026-11-12/
LOCATION:U5\, Auerbacher Ring 25\, Berlin\, Berlin\, 12619\, Germany
END:VEVENT
BEGIN:VEVENT
DTSTART;TZID=Europe/Berlin:20261119T173000
DTEND;TZID=Europe/Berlin:20261119T203000
DTSTAMP:20260422T162249
CREATED:20230622T110458Z
LAST-MODIFIED:20250204T173825Z
UID:10000711-1795109400-1795120200@s130056251.online.de
SUMMARY:Pen and Paper
DESCRIPTION:Rollenspielspaß mit Paul
URL:http://s130056251.online.de/event/pen-and-paper/2026-11-19/
LOCATION:U5\, Auerbacher Ring 25\, Berlin\, Berlin\, 12619\, Germany
END:VEVENT
BEGIN:VEVENT
DTSTART;TZID=Europe/Berlin:20261126T173000
DTEND;TZID=Europe/Berlin:20261126T203000
DTSTAMP:20260422T162249
CREATED:20230622T110458Z
LAST-MODIFIED:20250204T173825Z
UID:10000712-1795714200-1795725000@s130056251.online.de
SUMMARY:Pen and Paper
DESCRIPTION:Rollenspielspaß mit Paul
URL:http://s130056251.online.de/event/pen-and-paper/2026-11-26/
LOCATION:U5\, Auerbacher Ring 25\, Berlin\, Berlin\, 12619\, Germany
END:VEVENT
BEGIN:VEVENT
DTSTART;TZID=Europe/Berlin:20261203T173000
DTEND;TZID=Europe/Berlin:20261203T203000
DTSTAMP:20260422T162249
CREATED:20230622T110458Z
LAST-MODIFIED:20250204T173825Z
UID:10000713-1796319000-1796329800@s130056251.online.de
SUMMARY:Pen and Paper
DESCRIPTION:Rollenspielspaß mit Paul
URL:http://s130056251.online.de/event/pen-and-paper/2026-12-03/
LOCATION:U5\, Auerbacher Ring 25\, Berlin\, Berlin\, 12619\, Germany
END:VEVENT
BEGIN:VEVENT
DTSTART;TZID=Europe/Berlin:20261210T173000
DTEND;TZID=Europe/Berlin:20261210T203000
DTSTAMP:20260422T162249
CREATED:20230622T110458Z
LAST-MODIFIED:20250204T173825Z
UID:10000714-1796923800-1796934600@s130056251.online.de
SUMMARY:Pen and Paper
DESCRIPTION:Rollenspielspaß mit Paul
URL:http://s130056251.online.de/event/pen-and-paper/2026-12-10/
LOCATION:U5\, Auerbacher Ring 25\, Berlin\, Berlin\, 12619\, Germany
END:VEVENT
BEGIN:VEVENT
DTSTART;TZID=Europe/Berlin:20261217T173000
DTEND;TZID=Europe/Berlin:20261217T203000
DTSTAMP:20260422T162249
CREATED:20230622T110458Z
LAST-MODIFIED:20250204T173825Z
UID:10000715-1797528600-1797539400@s130056251.online.de
SUMMARY:Pen and Paper
DESCRIPTION:Rollenspielspaß mit Paul
URL:http://s130056251.online.de/event/pen-and-paper/2026-12-17/
LOCATION:U5\, Auerbacher Ring 25\, Berlin\, Berlin\, 12619\, Germany
END:VEVENT
BEGIN:VEVENT
DTSTART;TZID=Europe/Berlin:20261224T173000
DTEND;TZID=Europe/Berlin:20261224T203000
DTSTAMP:20260422T162249
CREATED:20230622T110458Z
LAST-MODIFIED:20250204T173825Z
UID:10000716-1798133400-1798144200@s130056251.online.de
SUMMARY:Pen and Paper
DESCRIPTION:Rollenspielspaß mit Paul
URL:http://s130056251.online.de/event/pen-and-paper/2026-12-24/
LOCATION:U5\, Auerbacher Ring 25\, Berlin\, Berlin\, 12619\, Germany
END:VEVENT
BEGIN:VEVENT
DTSTART;TZID=Europe/Berlin:20261231T173000
DTEND;TZID=Europe/Berlin:20261231T203000
DTSTAMP:20260422T162249
CREATED:20230622T110458Z
LAST-MODIFIED:20250204T173825Z
UID:10000717-1798738200-1798749000@s130056251.online.de
SUMMARY:Pen and Paper
DESCRIPTION:Rollenspielspaß mit Paul
URL:http://s130056251.online.de/event/pen-and-paper/2026-12-31/
LOCATION:U5\, Auerbacher Ring 25\, Berlin\, Berlin\, 12619\, Germany
END:VEVENT
BEGIN:VEVENT
DTSTART;TZID=Europe/Berlin:20270107T173000
DTEND;TZID=Europe/Berlin:20270107T203000
DTSTAMP:20260422T162249
CREATED:20230622T110458Z
LAST-MODIFIED:20250204T173825Z
UID:10000718-1799343000-1799353800@s130056251.online.de
SUMMARY:Pen and Paper
DESCRIPTION:Rollenspielspaß mit Paul
URL:http://s130056251.online.de/event/pen-and-paper/2027-01-07/
LOCATION:U5\, Auerbacher Ring 25\, Berlin\, Berlin\, 12619\, Germany
END:VEVENT
BEGIN:VEVENT
DTSTART;TZID=Europe/Berlin:20270114T173000
DTEND;TZID=Europe/Berlin:20270114T203000
DTSTAMP:20260422T162249
CREATED:20230622T110458Z
LAST-MODIFIED:20250204T173825Z
UID:10000719-1799947800-1799958600@s130056251.online.de
SUMMARY:Pen and Paper
DESCRIPTION:Rollenspielspaß mit Paul
URL:http://s130056251.online.de/event/pen-and-paper/2027-01-14/
LOCATION:U5\, Auerbacher Ring 25\, Berlin\, Berlin\, 12619\, Germany
END:VEVENT
BEGIN:VEVENT
DTSTART;TZID=Europe/Berlin:20270121T173000
DTEND;TZID=Europe/Berlin:20270121T203000
DTSTAMP:20260422T162249
CREATED:20230622T110458Z
LAST-MODIFIED:20250204T173825Z
UID:10000720-1800552600-1800563400@s130056251.online.de
SUMMARY:Pen and Paper
DESCRIPTION:Rollenspielspaß mit Paul
URL:http://s130056251.online.de/event/pen-and-paper/2027-01-21/
LOCATION:U5\, Auerbacher Ring 25\, Berlin\, Berlin\, 12619\, Germany
END:VEVENT
BEGIN:VEVENT
DTSTART;TZID=Europe/Berlin:20270128T173000
DTEND;TZID=Europe/Berlin:20270128T203000
DTSTAMP:20260422T162249
CREATED:20230622T110458Z
LAST-MODIFIED:20250204T173825Z
UID:10000721-1801157400-1801168200@s130056251.online.de
SUMMARY:Pen and Paper
DESCRIPTION:Rollenspielspaß mit Paul
URL:http://s130056251.online.de/event/pen-and-paper/2027-01-28/
LOCATION:U5\, Auerbacher Ring 25\, Berlin\, Berlin\, 12619\, Germany
END:VEVENT
BEGIN:VEVENT
DTSTART;TZID=Europe/Berlin:20270204T173000
DTEND;TZID=Europe/Berlin:20270204T203000
DTSTAMP:20260422T162249
CREATED:20230622T110458Z
LAST-MODIFIED:20250204T173825Z
UID:10000722-1801762200-1801773000@s130056251.online.de
SUMMARY:Pen and Paper
DESCRIPTION:Rollenspielspaß mit Paul
URL:http://s130056251.online.de/event/pen-and-paper/2027-02-04/
LOCATION:U5\, Auerbacher Ring 25\, Berlin\, Berlin\, 12619\, Germany
END:VEVENT
BEGIN:VEVENT
DTSTART;TZID=Europe/Berlin:20270211T173000
DTEND;TZID=Europe/Berlin:20270211T203000
DTSTAMP:20260422T162249
CREATED:20230622T110458Z
LAST-MODIFIED:20250204T173825Z
UID:10000723-1802367000-1802377800@s130056251.online.de
SUMMARY:Pen and Paper
DESCRIPTION:Rollenspielspaß mit Paul
URL:http://s130056251.online.de/event/pen-and-paper/2027-02-11/
LOCATION:U5\, Auerbacher Ring 25\, Berlin\, Berlin\, 12619\, Germany
END:VEVENT
BEGIN:VEVENT
DTSTART;TZID=Europe/Berlin:20270218T173000
DTEND;TZID=Europe/Berlin:20270218T203000
DTSTAMP:20260422T162249
CREATED:20230622T110458Z
LAST-MODIFIED:20250204T173825Z
UID:10000724-1802971800-1802982600@s130056251.online.de
SUMMARY:Pen and Paper
DESCRIPTION:Rollenspielspaß mit Paul
URL:http://s130056251.online.de/event/pen-and-paper/2027-02-18/
LOCATION:U5\, Auerbacher Ring 25\, Berlin\, Berlin\, 12619\, Germany
END:VEVENT
BEGIN:VEVENT
DTSTART;TZID=Europe/Berlin:20270225T173000
DTEND;TZID=Europe/Berlin:20270225T203000
DTSTAMP:20260422T162249
CREATED:20230622T110458Z
LAST-MODIFIED:20250204T173825Z
UID:10000725-1803576600-1803587400@s130056251.online.de
SUMMARY:Pen and Paper
DESCRIPTION:Rollenspielspaß mit Paul
URL:http://s130056251.online.de/event/pen-and-paper/2027-02-25/
LOCATION:U5\, Auerbacher Ring 25\, Berlin\, Berlin\, 12619\, Germany
END:VEVENT
BEGIN:VEVENT
DTSTART;TZID=Europe/Berlin:20270304T173000
DTEND;TZID=Europe/Berlin:20270304T203000
DTSTAMP:20260422T162249
CREATED:20230622T110458Z
LAST-MODIFIED:20250204T173825Z
UID:10000726-1804181400-1804192200@s130056251.online.de
SUMMARY:Pen and Paper
DESCRIPTION:Rollenspielspaß mit Paul
URL:http://s130056251.online.de/event/pen-and-paper/2027-03-04/
LOCATION:U5\, Auerbacher Ring 25\, Berlin\, Berlin\, 12619\, Germany
END:VEVENT
BEGIN:VEVENT
DTSTART;TZID=Europe/Berlin:20270311T173000
DTEND;TZID=Europe/Berlin:20270311T203000
DTSTAMP:20260422T162249
CREATED:20230622T110458Z
LAST-MODIFIED:20250204T173825Z
UID:10000727-1804786200-1804797000@s130056251.online.de
SUMMARY:Pen and Paper
DESCRIPTION:Rollenspielspaß mit Paul
URL:http://s130056251.online.de/event/pen-and-paper/2027-03-11/
LOCATION:U5\, Auerbacher Ring 25\, Berlin\, Berlin\, 12619\, Germany
END:VEVENT
BEGIN:VEVENT
DTSTART;TZID=Europe/Berlin:20270318T173000
DTEND;TZID=Europe/Berlin:20270318T203000
DTSTAMP:20260422T162249
CREATED:20230622T110458Z
LAST-MODIFIED:20250204T173825Z
UID:10000728-1805391000-1805401800@s130056251.online.de
SUMMARY:Pen and Paper
DESCRIPTION:Rollenspielspaß mit Paul
URL:http://s130056251.online.de/event/pen-and-paper/2027-03-18/
LOCATION:U5\, Auerbacher Ring 25\, Berlin\, Berlin\, 12619\, Germany
END:VEVENT
BEGIN:VEVENT
DTSTART;TZID=Europe/Berlin:20270325T173000
DTEND;TZID=Europe/Berlin:20270325T203000
DTSTAMP:20260422T162249
CREATED:20230622T110458Z
LAST-MODIFIED:20250204T173825Z
UID:10000729-1805995800-1806006600@s130056251.online.de
SUMMARY:Pen and Paper
DESCRIPTION:Rollenspielspaß mit Paul
URL:http://s130056251.online.de/event/pen-and-paper/2027-03-25/
LOCATION:U5\, Auerbacher Ring 25\, Berlin\, Berlin\, 12619\, Germany
END:VEVENT
BEGIN:VEVENT
DTSTART;TZID=Europe/Berlin:20270401T173000
DTEND;TZID=Europe/Berlin:20270401T203000
DTSTAMP:20260422T162249
CREATED:20230622T110458Z
LAST-MODIFIED:20250204T173825Z
UID:10000730-1806600600-1806611400@s130056251.online.de
SUMMARY:Pen and Paper
DESCRIPTION:Rollenspielspaß mit Paul
URL:http://s130056251.online.de/event/pen-and-paper/2027-04-01/
LOCATION:U5\, Auerbacher Ring 25\, Berlin\, Berlin\, 12619\, Germany
END:VEVENT
BEGIN:VEVENT
DTSTART;TZID=Europe/Berlin:20270408T173000
DTEND;TZID=Europe/Berlin:20270408T203000
DTSTAMP:20260422T162249
CREATED:20230622T110458Z
LAST-MODIFIED:20250204T173825Z
UID:10000731-1807205400-1807216200@s130056251.online.de
SUMMARY:Pen and Paper
DESCRIPTION:Rollenspielspaß mit Paul
URL:http://s130056251.online.de/event/pen-and-paper/2027-04-08/
LOCATION:U5\, Auerbacher Ring 25\, Berlin\, Berlin\, 12619\, Germany
END:VEVENT
BEGIN:VEVENT
DTSTART;TZID=Europe/Berlin:20270415T173000
DTEND;TZID=Europe/Berlin:20270415T203000
DTSTAMP:20260422T162249
CREATED:20230622T110458Z
LAST-MODIFIED:20250204T173825Z
UID:10000732-1807810200-1807821000@s130056251.online.de
SUMMARY:Pen and Paper
DESCRIPTION:Rollenspielspaß mit Paul
URL:http://s130056251.online.de/event/pen-and-paper/2027-04-15/
LOCATION:U5\, Auerbacher Ring 25\, Berlin\, Berlin\, 12619\, Germany
END:VEVENT
BEGIN:VEVENT
DTSTART;TZID=Europe/Berlin:20270422T173000
DTEND;TZID=Europe/Berlin:20270422T203000
DTSTAMP:20260422T162249
CREATED:20230622T110458Z
LAST-MODIFIED:20250204T173825Z
UID:10000733-1808415000-1808425800@s130056251.online.de
SUMMARY:Pen and Paper
DESCRIPTION:Rollenspielspaß mit Paul
URL:http://s130056251.online.de/event/pen-and-paper/2027-04-22/
LOCATION:U5\, Auerbacher Ring 25\, Berlin\, Berlin\, 12619\, Germany
END:VEVENT
BEGIN:VEVENT
DTSTART;TZID=Europe/Berlin:20270429T173000
DTEND;TZID=Europe/Berlin:20270429T203000
DTSTAMP:20260422T162249
CREATED:20230622T110458Z
LAST-MODIFIED:20250204T173825Z
UID:10000734-1809019800-1809030600@s130056251.online.de
SUMMARY:Pen and Paper
DESCRIPTION:Rollenspielspaß mit Paul
URL:http://s130056251.online.de/event/pen-and-paper/2027-04-29/
LOCATION:U5\, Auerbacher Ring 25\, Berlin\, Berlin\, 12619\, Germany
END:VEVENT
END:VCALENDAR