BEGIN:VCALENDAR
VERSION:2.0
PRODID:-//Was geht in Hellersdorf - ECPv6.1.2.2//NONSGML v1.0//EN
CALSCALE:GREGORIAN
METHOD:PUBLISH
X-WR-CALNAME:Was geht in Hellersdorf
X-ORIGINAL-URL:http://s130056251.online.de
X-WR-CALDESC:Veranstaltungen für Was geht in Hellersdorf
REFRESH-INTERVAL;VALUE=DURATION:PT1H
X-Robots-Tag:noindex
X-PUBLISHED-TTL:PT1H
BEGIN:VTIMEZONE
TZID:Europe/Berlin
BEGIN:DAYLIGHT
TZOFFSETFROM:+0100
TZOFFSETTO:+0200
TZNAME:CEST
DTSTART:20230326T010000
END:DAYLIGHT
BEGIN:STANDARD
TZOFFSETFROM:+0200
TZOFFSETTO:+0100
TZNAME:CET
DTSTART:20231029T010000
END:STANDARD
BEGIN:DAYLIGHT
TZOFFSETFROM:+0100
TZOFFSETTO:+0200
TZNAME:CEST
DTSTART:20240331T010000
END:DAYLIGHT
BEGIN:STANDARD
TZOFFSETFROM:+0200
TZOFFSETTO:+0100
TZNAME:CET
DTSTART:20241027T010000
END:STANDARD
END:VTIMEZONE
BEGIN:VEVENT
DTSTART;TZID=Europe/Berlin:20231026T150000
DTEND;TZID=Europe/Berlin:20231026T170000
DTSTAMP:20260422T205957
CREATED:20231021T170849Z
LAST-MODIFIED:20231031T120215Z
UID:10004397-1698332400-1698339600@s130056251.online.de
SUMMARY:Unfair Mario
DESCRIPTION:Wir spielen eine gemeine Version von Super Mario.
URL:http://s130056251.online.de/event/unfair-mario-2/
LOCATION:U5\, Auerbacher Ring 25\, Berlin\, Berlin\, 12619\, Germany
ORGANIZER;CN="U5":MAILTO:u5@eastend-berlin.com
END:VEVENT
BEGIN:VEVENT
DTSTART;TZID=Europe/Berlin:20231026T173000
DTEND;TZID=Europe/Berlin:20231026T203000
DTSTAMP:20260422T205957
CREATED:20230622T110458Z
LAST-MODIFIED:20250204T173825Z
UID:10000551-1698341400-1698352200@s130056251.online.de
SUMMARY:Pen and Paper
DESCRIPTION:Rollenspielspaß mit Paul
URL:http://s130056251.online.de/event/pen-and-paper/2023-10-26/
LOCATION:U5\, Auerbacher Ring 25\, Berlin\, Berlin\, 12619\, Germany
END:VEVENT
BEGIN:VEVENT
DTSTART;TZID=Europe/Berlin:20231027T150000
DTEND;TZID=Europe/Berlin:20231027T170000
DTSTAMP:20260422T205957
CREATED:20231021T171614Z
LAST-MODIFIED:20231021T171614Z
UID:10004923-1698418800-1698426000@s130056251.online.de
SUMMARY:Halloweenbasteln
DESCRIPTION:Wir basteln coole Halloweendeko
URL:http://s130056251.online.de/event/halloweenbasteln/
LOCATION:U5\, Auerbacher Ring 25\, Berlin\, Berlin\, 12619\, Germany
ORGANIZER;CN="U5":MAILTO:u5@eastend-berlin.com
END:VEVENT
BEGIN:VEVENT
DTSTART;TZID=Europe/Berlin:20231101T160000
DTEND;TZID=Europe/Berlin:20231101T170000
DTSTAMP:20260422T205957
CREATED:20231031T120239Z
LAST-MODIFIED:20240110T133938Z
UID:10005191-1698854400-1698858000@s130056251.online.de
SUMMARY:Kochen
DESCRIPTION:gemeinsames Kochen – Eure Vorschläge sing gefragt 🙂
URL:http://s130056251.online.de/event/kochen-3/2023-11-01/
LOCATION:U5\, Auerbacher Ring 25\, Berlin\, Berlin\, 12619\, Germany
ORGANIZER;CN="U5":MAILTO:u5@eastend-berlin.com
END:VEVENT
BEGIN:VEVENT
DTSTART;TZID=Europe/Berlin:20231102T173000
DTEND;TZID=Europe/Berlin:20231102T203000
DTSTAMP:20260422T205957
CREATED:20230622T110458Z
LAST-MODIFIED:20250204T173825Z
UID:10000552-1698946200-1698957000@s130056251.online.de
SUMMARY:Pen and Paper
DESCRIPTION:Rollenspielspaß mit Paul
URL:http://s130056251.online.de/event/pen-and-paper/2023-11-02/
LOCATION:U5\, Auerbacher Ring 25\, Berlin\, Berlin\, 12619\, Germany
END:VEVENT
BEGIN:VEVENT
DTSTART;TZID=Europe/Berlin:20231108T160000
DTEND;TZID=Europe/Berlin:20231108T170000
DTSTAMP:20260422T205957
CREATED:20231031T120239Z
LAST-MODIFIED:20240110T133938Z
UID:10005192-1699459200-1699462800@s130056251.online.de
SUMMARY:Kochen
DESCRIPTION:gemeinsames Kochen – Eure Vorschläge sing gefragt 🙂
URL:http://s130056251.online.de/event/kochen-3/2023-11-08/
LOCATION:U5\, Auerbacher Ring 25\, Berlin\, Berlin\, 12619\, Germany
ORGANIZER;CN="U5":MAILTO:u5@eastend-berlin.com
END:VEVENT
BEGIN:VEVENT
DTSTART;TZID=Europe/Berlin:20231109T173000
DTEND;TZID=Europe/Berlin:20231109T203000
DTSTAMP:20260422T205957
CREATED:20230622T110458Z
LAST-MODIFIED:20250204T173825Z
UID:10000553-1699551000-1699561800@s130056251.online.de
SUMMARY:Pen and Paper
DESCRIPTION:Rollenspielspaß mit Paul
URL:http://s130056251.online.de/event/pen-and-paper/2023-11-09/
LOCATION:U5\, Auerbacher Ring 25\, Berlin\, Berlin\, 12619\, Germany
END:VEVENT
BEGIN:VEVENT
DTSTART;TZID=Europe/Berlin:20231115T160000
DTEND;TZID=Europe/Berlin:20231115T170000
DTSTAMP:20260422T205957
CREATED:20231031T120239Z
LAST-MODIFIED:20240110T133938Z
UID:10005193-1700064000-1700067600@s130056251.online.de
SUMMARY:Kochen
DESCRIPTION:gemeinsames Kochen – Eure Vorschläge sing gefragt 🙂
URL:http://s130056251.online.de/event/kochen-3/2023-11-15/
LOCATION:U5\, Auerbacher Ring 25\, Berlin\, Berlin\, 12619\, Germany
ORGANIZER;CN="U5":MAILTO:u5@eastend-berlin.com
END:VEVENT
BEGIN:VEVENT
DTSTART;TZID=Europe/Berlin:20231116T173000
DTEND;TZID=Europe/Berlin:20231116T203000
DTSTAMP:20260422T205957
CREATED:20230622T110458Z
LAST-MODIFIED:20250204T173825Z
UID:10000554-1700155800-1700166600@s130056251.online.de
SUMMARY:Pen and Paper
DESCRIPTION:Rollenspielspaß mit Paul
URL:http://s130056251.online.de/event/pen-and-paper/2023-11-16/
LOCATION:U5\, Auerbacher Ring 25\, Berlin\, Berlin\, 12619\, Germany
END:VEVENT
BEGIN:VEVENT
DTSTART;TZID=Europe/Berlin:20231122T150000
DTEND;TZID=Europe/Berlin:20231122T170000
DTSTAMP:20260422T205957
CREATED:20231122T124128Z
LAST-MODIFIED:20231122T124128Z
UID:10005456-1700665200-1700672400@s130056251.online.de
SUMMARY:Kochlöffel schwingen
DESCRIPTION:Wir überlegen gemeinsam was wir kochen\, gehen gemeinsam Einkaufen und kochen dann.
URL:http://s130056251.online.de/event/kochloeffel-schwingen/
LOCATION:U5\, Auerbacher Ring 25\, Berlin\, Berlin\, 12619\, Germany
ATTACH;FMTTYPE=image/jpeg:http://s130056251.online.de/wp-content/uploads/2023/11/Download-1.jpg
END:VEVENT
BEGIN:VEVENT
DTSTART;TZID=Europe/Berlin:20231122T160000
DTEND;TZID=Europe/Berlin:20231122T170000
DTSTAMP:20260422T205957
CREATED:20231031T120239Z
LAST-MODIFIED:20240110T133938Z
UID:10005194-1700668800-1700672400@s130056251.online.de
SUMMARY:Kochen
DESCRIPTION:gemeinsames Kochen – Eure Vorschläge sing gefragt 🙂
URL:http://s130056251.online.de/event/kochen-3/2023-11-22/
LOCATION:U5\, Auerbacher Ring 25\, Berlin\, Berlin\, 12619\, Germany
ORGANIZER;CN="U5":MAILTO:u5@eastend-berlin.com
END:VEVENT
BEGIN:VEVENT
DTSTART;TZID=Europe/Berlin:20231123T150000
DTEND;TZID=Europe/Berlin:20231123T180000
DTSTAMP:20260422T205957
CREATED:20231122T124523Z
LAST-MODIFIED:20231122T124523Z
UID:10005457-1700751600-1700762400@s130056251.online.de
SUMMARY:Leitergolf
DESCRIPTION:Garnicht so leicht! schaffst du es das die Bolas hängen bleibe ?\nLeitergolf ist ein Wurf- und Geschicklichkeitsspiel\, bei dem mit sogenannten Bolas auf ein dreisprossiges Leitergestell gezielt wird.
URL:http://s130056251.online.de/event/leitergolf/
LOCATION:U5\, Auerbacher Ring 25\, Berlin\, Berlin\, 12619\, Germany
END:VEVENT
BEGIN:VEVENT
DTSTART;TZID=Europe/Berlin:20231123T173000
DTEND;TZID=Europe/Berlin:20231123T203000
DTSTAMP:20260422T205957
CREATED:20230622T110458Z
LAST-MODIFIED:20250204T173825Z
UID:10000555-1700760600-1700771400@s130056251.online.de
SUMMARY:Pen and Paper
DESCRIPTION:Rollenspielspaß mit Paul
URL:http://s130056251.online.de/event/pen-and-paper/2023-11-23/
LOCATION:U5\, Auerbacher Ring 25\, Berlin\, Berlin\, 12619\, Germany
END:VEVENT
BEGIN:VEVENT
DTSTART;TZID=Europe/Berlin:20231124T170000
DTEND;TZID=Europe/Berlin:20231124T193000
DTSTAMP:20260422T205957
CREATED:20231122T125452Z
LAST-MODIFIED:20231122T125452Z
UID:10005458-1700845200-1700854200@s130056251.online.de
SUMMARY:Lagerfeuer und Stockbrot
DESCRIPTION:Stockbot ist da\, das Lagerfeuer machen wir gemeinsam.
URL:http://s130056251.online.de/event/lagerfeuer-und-stockbrot/
LOCATION:U5\, Auerbacher Ring 25\, Berlin\, Berlin\, 12619\, Germany
ATTACH;FMTTYPE=image/jpeg:http://s130056251.online.de/wp-content/uploads/2023/11/552729-lagerfeuer-kostenlos-vektor.jpg
END:VEVENT
BEGIN:VEVENT
DTSTART;TZID=Europe/Berlin:20231125T150000
DTEND;TZID=Europe/Berlin:20231125T190000
DTSTAMP:20260422T205957
CREATED:20231122T125935Z
LAST-MODIFIED:20231122T130132Z
UID:10005459-1700924400-1700938800@s130056251.online.de
SUMMARY:Trainingsturnier Tischtennis
DESCRIPTION:Am 09.12 findet ein großes\, Jugendclub übergreifendesTischtennisturnier statt\, dafür wollen wir heute etwas trainieren.
URL:http://s130056251.online.de/event/trainingsturnier-tischtennis/
LOCATION:U5\, Auerbacher Ring 25\, Berlin\, Berlin\, 12619\, Germany
ATTACH;FMTTYPE=image/jpeg:http://s130056251.online.de/wp-content/uploads/2023/11/istockphoto-518343288-1024x1024-1.jpg
END:VEVENT
BEGIN:VEVENT
DTSTART;TZID=Europe/Berlin:20231129T160000
DTEND;TZID=Europe/Berlin:20231129T170000
DTSTAMP:20260422T205957
CREATED:20231031T120239Z
LAST-MODIFIED:20240110T133938Z
UID:10005195-1701273600-1701277200@s130056251.online.de
SUMMARY:Kochen
DESCRIPTION:gemeinsames Kochen – Eure Vorschläge sing gefragt 🙂
URL:http://s130056251.online.de/event/kochen-3/2023-11-29/
LOCATION:U5\, Auerbacher Ring 25\, Berlin\, Berlin\, 12619\, Germany
ORGANIZER;CN="U5":MAILTO:u5@eastend-berlin.com
END:VEVENT
BEGIN:VEVENT
DTSTART;TZID=Europe/Berlin:20231130T173000
DTEND;TZID=Europe/Berlin:20231130T203000
DTSTAMP:20260422T205957
CREATED:20230622T110458Z
LAST-MODIFIED:20250204T173825Z
UID:10000556-1701365400-1701376200@s130056251.online.de
SUMMARY:Pen and Paper
DESCRIPTION:Rollenspielspaß mit Paul
URL:http://s130056251.online.de/event/pen-and-paper/2023-11-30/
LOCATION:U5\, Auerbacher Ring 25\, Berlin\, Berlin\, 12619\, Germany
END:VEVENT
BEGIN:VEVENT
DTSTART;TZID=Europe/Berlin:20231206T160000
DTEND;TZID=Europe/Berlin:20231206T170000
DTSTAMP:20260422T205957
CREATED:20231031T120239Z
LAST-MODIFIED:20240110T133938Z
UID:10005196-1701878400-1701882000@s130056251.online.de
SUMMARY:Kochen
DESCRIPTION:gemeinsames Kochen – Eure Vorschläge sing gefragt 🙂
URL:http://s130056251.online.de/event/kochen-3/2023-12-06/
LOCATION:U5\, Auerbacher Ring 25\, Berlin\, Berlin\, 12619\, Germany
ORGANIZER;CN="U5":MAILTO:u5@eastend-berlin.com
END:VEVENT
BEGIN:VEVENT
DTSTART;TZID=Europe/Berlin:20231207T173000
DTEND;TZID=Europe/Berlin:20231207T203000
DTSTAMP:20260422T205957
CREATED:20230622T110458Z
LAST-MODIFIED:20250204T173825Z
UID:10000557-1701970200-1701981000@s130056251.online.de
SUMMARY:Pen and Paper
DESCRIPTION:Rollenspielspaß mit Paul
URL:http://s130056251.online.de/event/pen-and-paper/2023-12-07/
LOCATION:U5\, Auerbacher Ring 25\, Berlin\, Berlin\, 12619\, Germany
END:VEVENT
BEGIN:VEVENT
DTSTART;TZID=Europe/Berlin:20231213T160000
DTEND;TZID=Europe/Berlin:20231213T170000
DTSTAMP:20260422T205957
CREATED:20231031T120239Z
LAST-MODIFIED:20240110T133938Z
UID:10005197-1702483200-1702486800@s130056251.online.de
SUMMARY:Kochen
DESCRIPTION:gemeinsames Kochen – Eure Vorschläge sing gefragt 🙂
URL:http://s130056251.online.de/event/kochen-3/2023-12-13/
LOCATION:U5\, Auerbacher Ring 25\, Berlin\, Berlin\, 12619\, Germany
ORGANIZER;CN="U5":MAILTO:u5@eastend-berlin.com
END:VEVENT
BEGIN:VEVENT
DTSTART;TZID=Europe/Berlin:20231214T173000
DTEND;TZID=Europe/Berlin:20231214T203000
DTSTAMP:20260422T205957
CREATED:20230622T110458Z
LAST-MODIFIED:20250204T173825Z
UID:10000558-1702575000-1702585800@s130056251.online.de
SUMMARY:Pen and Paper
DESCRIPTION:Rollenspielspaß mit Paul
URL:http://s130056251.online.de/event/pen-and-paper/2023-12-14/
LOCATION:U5\, Auerbacher Ring 25\, Berlin\, Berlin\, 12619\, Germany
END:VEVENT
BEGIN:VEVENT
DTSTART;TZID=Europe/Berlin:20231219T140000
DTEND;TZID=Europe/Berlin:20231219T170000
DTSTAMP:20260422T205957
CREATED:20231218T132454Z
LAST-MODIFIED:20231218T134429Z
UID:10005460-1702994400-1703005200@s130056251.online.de
SUMMARY:Aquarium bewohnen
DESCRIPTION:In unser neues Aquarium\, ziehen heute die Fische ein 🙂
URL:http://s130056251.online.de/event/aquarium-bewohnen/
LOCATION:U5\, Auerbacher Ring 25\, Berlin\, Berlin\, 12619\, Germany
ATTACH;FMTTYPE=image/jpeg:http://s130056251.online.de/wp-content/uploads/2023/12/fish-in-the-aquarium-with-bubbles-icon-isolated-on-white-background-free-vector.jpg
END:VEVENT
BEGIN:VEVENT
DTSTART;TZID=Europe/Berlin:20231220T160000
DTEND;TZID=Europe/Berlin:20231220T170000
DTSTAMP:20260422T205957
CREATED:20231031T120239Z
LAST-MODIFIED:20240110T133938Z
UID:10005198-1703088000-1703091600@s130056251.online.de
SUMMARY:Kochen
DESCRIPTION:gemeinsames Kochen – Eure Vorschläge sing gefragt 🙂
URL:http://s130056251.online.de/event/kochen-3/2023-12-20/
LOCATION:U5\, Auerbacher Ring 25\, Berlin\, Berlin\, 12619\, Germany
ORGANIZER;CN="U5":MAILTO:u5@eastend-berlin.com
END:VEVENT
BEGIN:VEVENT
DTSTART;TZID=Europe/Berlin:20231221T080000
DTEND;TZID=Europe/Berlin:20231221T170000
DTSTAMP:20260422T205957
CREATED:20231218T133325Z
LAST-MODIFIED:20231218T133845Z
UID:10005463-1703145600-1703178000@s130056251.online.de
SUMMARY:Pen und Paper mit Paul ab 17:30Uhr – 20:30
DESCRIPTION:Das Pen-&-Paper-Rollenspiel (engl. pen „Stift“ und paper „Papier“) ist ein Spiel\, bei dem die Mitwirkenden fiktive Rollen einnehmen und gemeinsam durch Erzählen ein Abenteuer erleben. ( Wikipedia 🙂 )
URL:http://s130056251.online.de/event/pen-und-paper-mit-paul-ab-1730uhr-2030/
LOCATION:U5\, Auerbacher Ring 25\, Berlin\, Berlin\, 12619\, Germany
END:VEVENT
BEGIN:VEVENT
DTSTART;TZID=Europe/Berlin:20231221T150000
DTEND;TZID=Europe/Berlin:20231221T163000
DTSTAMP:20260422T205957
CREATED:20231218T133024Z
LAST-MODIFIED:20231218T134803Z
UID:10005462-1703170800-1703176200@s130056251.online.de
SUMMARY:Tanzen mit Celina ab 15 Uhr
DESCRIPTION:🙂 Nur diese Woche Donnerstag.
URL:http://s130056251.online.de/event/tanzen-mit-celina-ab-15-uhr/
LOCATION:U5\, Auerbacher Ring 25\, Berlin\, Berlin\, 12619\, Germany
ATTACH;FMTTYPE=image/jpeg:http://s130056251.online.de/wp-content/uploads/2023/12/tanzen.jpg
END:VEVENT
BEGIN:VEVENT
DTSTART;TZID=Europe/Berlin:20231221T173000
DTEND;TZID=Europe/Berlin:20231221T203000
DTSTAMP:20260422T205957
CREATED:20230622T110458Z
LAST-MODIFIED:20250204T173825Z
UID:10000559-1703179800-1703190600@s130056251.online.de
SUMMARY:Pen and Paper
DESCRIPTION:Rollenspielspaß mit Paul
URL:http://s130056251.online.de/event/pen-and-paper/2023-12-21/
LOCATION:U5\, Auerbacher Ring 25\, Berlin\, Berlin\, 12619\, Germany
END:VEVENT
BEGIN:VEVENT
DTSTART;TZID=Europe/Berlin:20231222T140000
DTEND;TZID=Europe/Berlin:20231222T200000
DTSTAMP:20260422T205957
CREATED:20231218T133757Z
LAST-MODIFIED:20231218T133946Z
UID:10005464-1703253600-1703275200@s130056251.online.de
SUMMARY:weihnachtlicher Filmtag
DESCRIPTION:Wir machen es und gemütlich und schauen gemeinsam einen Film.
URL:http://s130056251.online.de/event/weihnachtlicher-filmtag/
LOCATION:U5\, Auerbacher Ring 25\, Berlin\, Berlin\, 12619\, Germany
ATTACH;FMTTYPE=image/jpeg:http://s130056251.online.de/wp-content/uploads/2023/12/kinoangebote_kinder_aachen.jpg
END:VEVENT
BEGIN:VEVENT
DTSTART;TZID=Europe/Berlin:20231227T160000
DTEND;TZID=Europe/Berlin:20231227T170000
DTSTAMP:20260422T205957
CREATED:20231031T120239Z
LAST-MODIFIED:20240110T133938Z
UID:10005199-1703692800-1703696400@s130056251.online.de
SUMMARY:Kochen
DESCRIPTION:gemeinsames Kochen – Eure Vorschläge sing gefragt 🙂
URL:http://s130056251.online.de/event/kochen-3/2023-12-27/
LOCATION:U5\, Auerbacher Ring 25\, Berlin\, Berlin\, 12619\, Germany
ORGANIZER;CN="U5":MAILTO:u5@eastend-berlin.com
END:VEVENT
BEGIN:VEVENT
DTSTART;TZID=Europe/Berlin:20231228T173000
DTEND;TZID=Europe/Berlin:20231228T203000
DTSTAMP:20260422T205957
CREATED:20230622T110458Z
LAST-MODIFIED:20250204T173825Z
UID:10000560-1703784600-1703795400@s130056251.online.de
SUMMARY:Pen and Paper
DESCRIPTION:Rollenspielspaß mit Paul
URL:http://s130056251.online.de/event/pen-and-paper/2023-12-28/
LOCATION:U5\, Auerbacher Ring 25\, Berlin\, Berlin\, 12619\, Germany
END:VEVENT
BEGIN:VEVENT
DTSTART;TZID=Europe/Berlin:20240104T173000
DTEND;TZID=Europe/Berlin:20240104T203000
DTSTAMP:20260422T205957
CREATED:20230622T110458Z
LAST-MODIFIED:20250204T173825Z
UID:10000561-1704389400-1704400200@s130056251.online.de
SUMMARY:Pen and Paper
DESCRIPTION:Rollenspielspaß mit Paul
URL:http://s130056251.online.de/event/pen-and-paper/2024-01-04/
LOCATION:U5\, Auerbacher Ring 25\, Berlin\, Berlin\, 12619\, Germany
END:VEVENT
END:VCALENDAR