BEGIN:VCALENDAR
VERSION:2.0
PRODID:-//Was geht in Hellersdorf - ECPv6.1.2.2//NONSGML v1.0//EN
CALSCALE:GREGORIAN
METHOD:PUBLISH
X-ORIGINAL-URL:http://s130056251.online.de
X-WR-CALDESC:Veranstaltungen für Was geht in Hellersdorf
REFRESH-INTERVAL;VALUE=DURATION:PT1H
X-Robots-Tag:noindex
X-PUBLISHED-TTL:PT1H
BEGIN:VTIMEZONE
TZID:Europe/Berlin
BEGIN:DAYLIGHT
TZOFFSETFROM:+0100
TZOFFSETTO:+0200
TZNAME:CEST
DTSTART:20270328T010000
END:DAYLIGHT
BEGIN:STANDARD
TZOFFSETFROM:+0200
TZOFFSETTO:+0100
TZNAME:CET
DTSTART:20271031T010000
END:STANDARD
BEGIN:DAYLIGHT
TZOFFSETFROM:+0100
TZOFFSETTO:+0200
TZNAME:CEST
DTSTART:20280326T010000
END:DAYLIGHT
BEGIN:STANDARD
TZOFFSETFROM:+0200
TZOFFSETTO:+0100
TZNAME:CET
DTSTART:20281029T010000
END:STANDARD
END:VTIMEZONE
BEGIN:VEVENT
DTSTART;TZID=Europe/Berlin:20270624T173000
DTEND;TZID=Europe/Berlin:20270624T203000
DTSTAMP:20260424T131401
CREATED:20230622T110458Z
LAST-MODIFIED:20250204T173825Z
UID:10000742-1813858200-1813869000@s130056251.online.de
SUMMARY:Pen and Paper
DESCRIPTION:Rollenspielspaß mit Paul
URL:http://s130056251.online.de/event/pen-and-paper/2027-06-24/
LOCATION:U5\, Auerbacher Ring 25\, Berlin\, Berlin\, 12619\, Germany
END:VEVENT
BEGIN:VEVENT
DTSTART;TZID=Europe/Berlin:20270701T173000
DTEND;TZID=Europe/Berlin:20270701T203000
DTSTAMP:20260424T131401
CREATED:20230622T110458Z
LAST-MODIFIED:20250204T173825Z
UID:10000743-1814463000-1814473800@s130056251.online.de
SUMMARY:Pen and Paper
DESCRIPTION:Rollenspielspaß mit Paul
URL:http://s130056251.online.de/event/pen-and-paper/2027-07-01/
LOCATION:U5\, Auerbacher Ring 25\, Berlin\, Berlin\, 12619\, Germany
END:VEVENT
BEGIN:VEVENT
DTSTART;TZID=Europe/Berlin:20270708T173000
DTEND;TZID=Europe/Berlin:20270708T203000
DTSTAMP:20260424T131401
CREATED:20230622T110458Z
LAST-MODIFIED:20250204T173825Z
UID:10000744-1815067800-1815078600@s130056251.online.de
SUMMARY:Pen and Paper
DESCRIPTION:Rollenspielspaß mit Paul
URL:http://s130056251.online.de/event/pen-and-paper/2027-07-08/
LOCATION:U5\, Auerbacher Ring 25\, Berlin\, Berlin\, 12619\, Germany
END:VEVENT
BEGIN:VEVENT
DTSTART;TZID=Europe/Berlin:20270715T173000
DTEND;TZID=Europe/Berlin:20270715T203000
DTSTAMP:20260424T131401
CREATED:20230622T110458Z
LAST-MODIFIED:20250204T173825Z
UID:10000745-1815672600-1815683400@s130056251.online.de
SUMMARY:Pen and Paper
DESCRIPTION:Rollenspielspaß mit Paul
URL:http://s130056251.online.de/event/pen-and-paper/2027-07-15/
LOCATION:U5\, Auerbacher Ring 25\, Berlin\, Berlin\, 12619\, Germany
END:VEVENT
BEGIN:VEVENT
DTSTART;TZID=Europe/Berlin:20270722T173000
DTEND;TZID=Europe/Berlin:20270722T203000
DTSTAMP:20260424T131401
CREATED:20230622T110458Z
LAST-MODIFIED:20250204T173825Z
UID:10000746-1816277400-1816288200@s130056251.online.de
SUMMARY:Pen and Paper
DESCRIPTION:Rollenspielspaß mit Paul
URL:http://s130056251.online.de/event/pen-and-paper/2027-07-22/
LOCATION:U5\, Auerbacher Ring 25\, Berlin\, Berlin\, 12619\, Germany
END:VEVENT
BEGIN:VEVENT
DTSTART;TZID=Europe/Berlin:20270729T173000
DTEND;TZID=Europe/Berlin:20270729T203000
DTSTAMP:20260424T131401
CREATED:20230622T110458Z
LAST-MODIFIED:20250204T173825Z
UID:10000747-1816882200-1816893000@s130056251.online.de
SUMMARY:Pen and Paper
DESCRIPTION:Rollenspielspaß mit Paul
URL:http://s130056251.online.de/event/pen-and-paper/2027-07-29/
LOCATION:U5\, Auerbacher Ring 25\, Berlin\, Berlin\, 12619\, Germany
END:VEVENT
BEGIN:VEVENT
DTSTART;TZID=Europe/Berlin:20270805T173000
DTEND;TZID=Europe/Berlin:20270805T203000
DTSTAMP:20260424T131401
CREATED:20230622T110458Z
LAST-MODIFIED:20250204T173825Z
UID:10000748-1817487000-1817497800@s130056251.online.de
SUMMARY:Pen and Paper
DESCRIPTION:Rollenspielspaß mit Paul
URL:http://s130056251.online.de/event/pen-and-paper/2027-08-05/
LOCATION:U5\, Auerbacher Ring 25\, Berlin\, Berlin\, 12619\, Germany
END:VEVENT
BEGIN:VEVENT
DTSTART;TZID=Europe/Berlin:20270812T173000
DTEND;TZID=Europe/Berlin:20270812T203000
DTSTAMP:20260424T131401
CREATED:20230622T110458Z
LAST-MODIFIED:20250204T173825Z
UID:10000749-1818091800-1818102600@s130056251.online.de
SUMMARY:Pen and Paper
DESCRIPTION:Rollenspielspaß mit Paul
URL:http://s130056251.online.de/event/pen-and-paper/2027-08-12/
LOCATION:U5\, Auerbacher Ring 25\, Berlin\, Berlin\, 12619\, Germany
END:VEVENT
BEGIN:VEVENT
DTSTART;TZID=Europe/Berlin:20270819T173000
DTEND;TZID=Europe/Berlin:20270819T203000
DTSTAMP:20260424T131401
CREATED:20230622T110458Z
LAST-MODIFIED:20250204T173825Z
UID:10000750-1818696600-1818707400@s130056251.online.de
SUMMARY:Pen and Paper
DESCRIPTION:Rollenspielspaß mit Paul
URL:http://s130056251.online.de/event/pen-and-paper/2027-08-19/
LOCATION:U5\, Auerbacher Ring 25\, Berlin\, Berlin\, 12619\, Germany
END:VEVENT
BEGIN:VEVENT
DTSTART;TZID=Europe/Berlin:20270826T173000
DTEND;TZID=Europe/Berlin:20270826T203000
DTSTAMP:20260424T131401
CREATED:20230622T110458Z
LAST-MODIFIED:20250204T173825Z
UID:10000751-1819301400-1819312200@s130056251.online.de
SUMMARY:Pen and Paper
DESCRIPTION:Rollenspielspaß mit Paul
URL:http://s130056251.online.de/event/pen-and-paper/2027-08-26/
LOCATION:U5\, Auerbacher Ring 25\, Berlin\, Berlin\, 12619\, Germany
END:VEVENT
BEGIN:VEVENT
DTSTART;TZID=Europe/Berlin:20270902T173000
DTEND;TZID=Europe/Berlin:20270902T203000
DTSTAMP:20260424T131401
CREATED:20230622T110458Z
LAST-MODIFIED:20250204T173825Z
UID:10000752-1819906200-1819917000@s130056251.online.de
SUMMARY:Pen and Paper
DESCRIPTION:Rollenspielspaß mit Paul
URL:http://s130056251.online.de/event/pen-and-paper/2027-09-02/
LOCATION:U5\, Auerbacher Ring 25\, Berlin\, Berlin\, 12619\, Germany
END:VEVENT
BEGIN:VEVENT
DTSTART;TZID=Europe/Berlin:20270909T173000
DTEND;TZID=Europe/Berlin:20270909T203000
DTSTAMP:20260424T131401
CREATED:20230622T110458Z
LAST-MODIFIED:20250204T173825Z
UID:10000753-1820511000-1820521800@s130056251.online.de
SUMMARY:Pen and Paper
DESCRIPTION:Rollenspielspaß mit Paul
URL:http://s130056251.online.de/event/pen-and-paper/2027-09-09/
LOCATION:U5\, Auerbacher Ring 25\, Berlin\, Berlin\, 12619\, Germany
END:VEVENT
BEGIN:VEVENT
DTSTART;TZID=Europe/Berlin:20270916T173000
DTEND;TZID=Europe/Berlin:20270916T203000
DTSTAMP:20260424T131401
CREATED:20230622T110458Z
LAST-MODIFIED:20250204T173825Z
UID:10000754-1821115800-1821126600@s130056251.online.de
SUMMARY:Pen and Paper
DESCRIPTION:Rollenspielspaß mit Paul
URL:http://s130056251.online.de/event/pen-and-paper/2027-09-16/
LOCATION:U5\, Auerbacher Ring 25\, Berlin\, Berlin\, 12619\, Germany
END:VEVENT
BEGIN:VEVENT
DTSTART;TZID=Europe/Berlin:20270923T173000
DTEND;TZID=Europe/Berlin:20270923T203000
DTSTAMP:20260424T131401
CREATED:20230622T110458Z
LAST-MODIFIED:20250204T173825Z
UID:10000755-1821720600-1821731400@s130056251.online.de
SUMMARY:Pen and Paper
DESCRIPTION:Rollenspielspaß mit Paul
URL:http://s130056251.online.de/event/pen-and-paper/2027-09-23/
LOCATION:U5\, Auerbacher Ring 25\, Berlin\, Berlin\, 12619\, Germany
END:VEVENT
BEGIN:VEVENT
DTSTART;TZID=Europe/Berlin:20270930T173000
DTEND;TZID=Europe/Berlin:20270930T203000
DTSTAMP:20260424T131401
CREATED:20230622T110458Z
LAST-MODIFIED:20250204T173825Z
UID:10000756-1822325400-1822336200@s130056251.online.de
SUMMARY:Pen and Paper
DESCRIPTION:Rollenspielspaß mit Paul
URL:http://s130056251.online.de/event/pen-and-paper/2027-09-30/
LOCATION:U5\, Auerbacher Ring 25\, Berlin\, Berlin\, 12619\, Germany
END:VEVENT
BEGIN:VEVENT
DTSTART;TZID=Europe/Berlin:20271007T173000
DTEND;TZID=Europe/Berlin:20271007T203000
DTSTAMP:20260424T131401
CREATED:20230622T110458Z
LAST-MODIFIED:20250204T173825Z
UID:10000757-1822930200-1822941000@s130056251.online.de
SUMMARY:Pen and Paper
DESCRIPTION:Rollenspielspaß mit Paul
URL:http://s130056251.online.de/event/pen-and-paper/2027-10-07/
LOCATION:U5\, Auerbacher Ring 25\, Berlin\, Berlin\, 12619\, Germany
END:VEVENT
BEGIN:VEVENT
DTSTART;TZID=Europe/Berlin:20271014T173000
DTEND;TZID=Europe/Berlin:20271014T203000
DTSTAMP:20260424T131401
CREATED:20230622T110458Z
LAST-MODIFIED:20250204T173825Z
UID:10000758-1823535000-1823545800@s130056251.online.de
SUMMARY:Pen and Paper
DESCRIPTION:Rollenspielspaß mit Paul
URL:http://s130056251.online.de/event/pen-and-paper/2027-10-14/
LOCATION:U5\, Auerbacher Ring 25\, Berlin\, Berlin\, 12619\, Germany
END:VEVENT
BEGIN:VEVENT
DTSTART;TZID=Europe/Berlin:20271021T173000
DTEND;TZID=Europe/Berlin:20271021T203000
DTSTAMP:20260424T131401
CREATED:20230622T110458Z
LAST-MODIFIED:20250204T173825Z
UID:10000759-1824139800-1824150600@s130056251.online.de
SUMMARY:Pen and Paper
DESCRIPTION:Rollenspielspaß mit Paul
URL:http://s130056251.online.de/event/pen-and-paper/2027-10-21/
LOCATION:U5\, Auerbacher Ring 25\, Berlin\, Berlin\, 12619\, Germany
END:VEVENT
BEGIN:VEVENT
DTSTART;TZID=Europe/Berlin:20271028T173000
DTEND;TZID=Europe/Berlin:20271028T203000
DTSTAMP:20260424T131401
CREATED:20230622T110458Z
LAST-MODIFIED:20250204T173825Z
UID:10000760-1824744600-1824755400@s130056251.online.de
SUMMARY:Pen and Paper
DESCRIPTION:Rollenspielspaß mit Paul
URL:http://s130056251.online.de/event/pen-and-paper/2027-10-28/
LOCATION:U5\, Auerbacher Ring 25\, Berlin\, Berlin\, 12619\, Germany
END:VEVENT
BEGIN:VEVENT
DTSTART;TZID=Europe/Berlin:20271104T173000
DTEND;TZID=Europe/Berlin:20271104T203000
DTSTAMP:20260424T131401
CREATED:20230622T110458Z
LAST-MODIFIED:20250204T173825Z
UID:10000761-1825349400-1825360200@s130056251.online.de
SUMMARY:Pen and Paper
DESCRIPTION:Rollenspielspaß mit Paul
URL:http://s130056251.online.de/event/pen-and-paper/2027-11-04/
LOCATION:U5\, Auerbacher Ring 25\, Berlin\, Berlin\, 12619\, Germany
END:VEVENT
BEGIN:VEVENT
DTSTART;TZID=Europe/Berlin:20271111T173000
DTEND;TZID=Europe/Berlin:20271111T203000
DTSTAMP:20260424T131401
CREATED:20230622T110458Z
LAST-MODIFIED:20250204T173825Z
UID:10000762-1825954200-1825965000@s130056251.online.de
SUMMARY:Pen and Paper
DESCRIPTION:Rollenspielspaß mit Paul
URL:http://s130056251.online.de/event/pen-and-paper/2027-11-11/
LOCATION:U5\, Auerbacher Ring 25\, Berlin\, Berlin\, 12619\, Germany
END:VEVENT
BEGIN:VEVENT
DTSTART;TZID=Europe/Berlin:20271118T173000
DTEND;TZID=Europe/Berlin:20271118T203000
DTSTAMP:20260424T131401
CREATED:20230622T110458Z
LAST-MODIFIED:20250204T173825Z
UID:10000763-1826559000-1826569800@s130056251.online.de
SUMMARY:Pen and Paper
DESCRIPTION:Rollenspielspaß mit Paul
URL:http://s130056251.online.de/event/pen-and-paper/2027-11-18/
LOCATION:U5\, Auerbacher Ring 25\, Berlin\, Berlin\, 12619\, Germany
END:VEVENT
BEGIN:VEVENT
DTSTART;TZID=Europe/Berlin:20271125T173000
DTEND;TZID=Europe/Berlin:20271125T203000
DTSTAMP:20260424T131401
CREATED:20230622T110458Z
LAST-MODIFIED:20250204T173825Z
UID:10000764-1827163800-1827174600@s130056251.online.de
SUMMARY:Pen and Paper
DESCRIPTION:Rollenspielspaß mit Paul
URL:http://s130056251.online.de/event/pen-and-paper/2027-11-25/
LOCATION:U5\, Auerbacher Ring 25\, Berlin\, Berlin\, 12619\, Germany
END:VEVENT
BEGIN:VEVENT
DTSTART;TZID=Europe/Berlin:20271202T173000
DTEND;TZID=Europe/Berlin:20271202T203000
DTSTAMP:20260424T131402
CREATED:20230622T110458Z
LAST-MODIFIED:20250204T173825Z
UID:10000765-1827768600-1827779400@s130056251.online.de
SUMMARY:Pen and Paper
DESCRIPTION:Rollenspielspaß mit Paul
URL:http://s130056251.online.de/event/pen-and-paper/2027-12-02/
LOCATION:U5\, Auerbacher Ring 25\, Berlin\, Berlin\, 12619\, Germany
END:VEVENT
BEGIN:VEVENT
DTSTART;TZID=Europe/Berlin:20271209T173000
DTEND;TZID=Europe/Berlin:20271209T203000
DTSTAMP:20260424T131402
CREATED:20230622T110458Z
LAST-MODIFIED:20250204T173825Z
UID:10000766-1828373400-1828384200@s130056251.online.de
SUMMARY:Pen and Paper
DESCRIPTION:Rollenspielspaß mit Paul
URL:http://s130056251.online.de/event/pen-and-paper/2027-12-09/
LOCATION:U5\, Auerbacher Ring 25\, Berlin\, Berlin\, 12619\, Germany
END:VEVENT
BEGIN:VEVENT
DTSTART;TZID=Europe/Berlin:20271216T173000
DTEND;TZID=Europe/Berlin:20271216T203000
DTSTAMP:20260424T131402
CREATED:20230622T110458Z
LAST-MODIFIED:20250204T173825Z
UID:10000767-1828978200-1828989000@s130056251.online.de
SUMMARY:Pen and Paper
DESCRIPTION:Rollenspielspaß mit Paul
URL:http://s130056251.online.de/event/pen-and-paper/2027-12-16/
LOCATION:U5\, Auerbacher Ring 25\, Berlin\, Berlin\, 12619\, Germany
END:VEVENT
BEGIN:VEVENT
DTSTART;TZID=Europe/Berlin:20271223T173000
DTEND;TZID=Europe/Berlin:20271223T203000
DTSTAMP:20260424T131402
CREATED:20230622T110458Z
LAST-MODIFIED:20250204T173825Z
UID:10000768-1829583000-1829593800@s130056251.online.de
SUMMARY:Pen and Paper
DESCRIPTION:Rollenspielspaß mit Paul
URL:http://s130056251.online.de/event/pen-and-paper/2027-12-23/
LOCATION:U5\, Auerbacher Ring 25\, Berlin\, Berlin\, 12619\, Germany
END:VEVENT
BEGIN:VEVENT
DTSTART;TZID=Europe/Berlin:20271230T173000
DTEND;TZID=Europe/Berlin:20271230T203000
DTSTAMP:20260424T131402
CREATED:20230622T110458Z
LAST-MODIFIED:20250204T173825Z
UID:10000769-1830187800-1830198600@s130056251.online.de
SUMMARY:Pen and Paper
DESCRIPTION:Rollenspielspaß mit Paul
URL:http://s130056251.online.de/event/pen-and-paper/2027-12-30/
LOCATION:U5\, Auerbacher Ring 25\, Berlin\, Berlin\, 12619\, Germany
END:VEVENT
BEGIN:VEVENT
DTSTART;TZID=Europe/Berlin:20280106T173000
DTEND;TZID=Europe/Berlin:20280106T203000
DTSTAMP:20260424T131402
CREATED:20230622T110458Z
LAST-MODIFIED:20250204T173825Z
UID:10000770-1830792600-1830803400@s130056251.online.de
SUMMARY:Pen and Paper
DESCRIPTION:Rollenspielspaß mit Paul
URL:http://s130056251.online.de/event/pen-and-paper/2028-01-06/
LOCATION:U5\, Auerbacher Ring 25\, Berlin\, Berlin\, 12619\, Germany
END:VEVENT
BEGIN:VEVENT
DTSTART;TZID=Europe/Berlin:20280113T173000
DTEND;TZID=Europe/Berlin:20280113T203000
DTSTAMP:20260424T131402
CREATED:20230622T110458Z
LAST-MODIFIED:20250204T173825Z
UID:10000771-1831397400-1831408200@s130056251.online.de
SUMMARY:Pen and Paper
DESCRIPTION:Rollenspielspaß mit Paul
URL:http://s130056251.online.de/event/pen-and-paper/2028-01-13/
LOCATION:U5\, Auerbacher Ring 25\, Berlin\, Berlin\, 12619\, Germany
END:VEVENT
END:VCALENDAR