BEGIN:VCALENDAR
VERSION:2.0
PRODID:-//Was geht in Hellersdorf - ECPv6.1.2.2//NONSGML v1.0//EN
CALSCALE:GREGORIAN
METHOD:PUBLISH
X-ORIGINAL-URL:http://s130056251.online.de
X-WR-CALDESC:Veranstaltungen für Was geht in Hellersdorf
REFRESH-INTERVAL;VALUE=DURATION:PT1H
X-Robots-Tag:noindex
X-PUBLISHED-TTL:PT1H
BEGIN:VTIMEZONE
TZID:Europe/Berlin
BEGIN:DAYLIGHT
TZOFFSETFROM:+0100
TZOFFSETTO:+0200
TZNAME:CEST
DTSTART:20230326T010000
END:DAYLIGHT
BEGIN:STANDARD
TZOFFSETFROM:+0200
TZOFFSETTO:+0100
TZNAME:CET
DTSTART:20231029T010000
END:STANDARD
BEGIN:DAYLIGHT
TZOFFSETFROM:+0100
TZOFFSETTO:+0200
TZNAME:CEST
DTSTART:20240331T010000
END:DAYLIGHT
BEGIN:STANDARD
TZOFFSETFROM:+0200
TZOFFSETTO:+0100
TZNAME:CET
DTSTART:20241027T010000
END:STANDARD
END:VTIMEZONE
BEGIN:VEVENT
DTSTART;TZID=Europe/Berlin:20231221T150000
DTEND;TZID=Europe/Berlin:20231221T163000
DTSTAMP:20260423T013946
CREATED:20231218T133024Z
LAST-MODIFIED:20231218T134803Z
UID:10005462-1703170800-1703176200@s130056251.online.de
SUMMARY:Tanzen mit Celina ab 15 Uhr
DESCRIPTION:🙂 Nur diese Woche Donnerstag.
URL:http://s130056251.online.de/event/tanzen-mit-celina-ab-15-uhr/
LOCATION:U5\, Auerbacher Ring 25\, Berlin\, Berlin\, 12619\, Germany
ATTACH;FMTTYPE=image/jpeg:http://s130056251.online.de/wp-content/uploads/2023/12/tanzen.jpg
END:VEVENT
BEGIN:VEVENT
DTSTART;TZID=Europe/Berlin:20231221T173000
DTEND;TZID=Europe/Berlin:20231221T203000
DTSTAMP:20260423T013946
CREATED:20230622T110458Z
LAST-MODIFIED:20250204T173825Z
UID:10000559-1703179800-1703190600@s130056251.online.de
SUMMARY:Pen and Paper
DESCRIPTION:Rollenspielspaß mit Paul
URL:http://s130056251.online.de/event/pen-and-paper/2023-12-21/
LOCATION:U5\, Auerbacher Ring 25\, Berlin\, Berlin\, 12619\, Germany
END:VEVENT
BEGIN:VEVENT
DTSTART;TZID=Europe/Berlin:20231222T140000
DTEND;TZID=Europe/Berlin:20231222T200000
DTSTAMP:20260423T013946
CREATED:20231218T133757Z
LAST-MODIFIED:20231218T133946Z
UID:10005464-1703253600-1703275200@s130056251.online.de
SUMMARY:weihnachtlicher Filmtag
DESCRIPTION:Wir machen es und gemütlich und schauen gemeinsam einen Film.
URL:http://s130056251.online.de/event/weihnachtlicher-filmtag/
LOCATION:U5\, Auerbacher Ring 25\, Berlin\, Berlin\, 12619\, Germany
ATTACH;FMTTYPE=image/jpeg:http://s130056251.online.de/wp-content/uploads/2023/12/kinoangebote_kinder_aachen.jpg
END:VEVENT
BEGIN:VEVENT
DTSTART;TZID=Europe/Berlin:20231227T160000
DTEND;TZID=Europe/Berlin:20231227T170000
DTSTAMP:20260423T013946
CREATED:20231031T120239Z
LAST-MODIFIED:20240110T133938Z
UID:10005199-1703692800-1703696400@s130056251.online.de
SUMMARY:Kochen
DESCRIPTION:gemeinsames Kochen – Eure Vorschläge sing gefragt 🙂
URL:http://s130056251.online.de/event/kochen-3/2023-12-27/
LOCATION:U5\, Auerbacher Ring 25\, Berlin\, Berlin\, 12619\, Germany
ORGANIZER;CN="U5":MAILTO:u5@eastend-berlin.com
END:VEVENT
BEGIN:VEVENT
DTSTART;TZID=Europe/Berlin:20231228T173000
DTEND;TZID=Europe/Berlin:20231228T203000
DTSTAMP:20260423T013946
CREATED:20230622T110458Z
LAST-MODIFIED:20250204T173825Z
UID:10000560-1703784600-1703795400@s130056251.online.de
SUMMARY:Pen and Paper
DESCRIPTION:Rollenspielspaß mit Paul
URL:http://s130056251.online.de/event/pen-and-paper/2023-12-28/
LOCATION:U5\, Auerbacher Ring 25\, Berlin\, Berlin\, 12619\, Germany
END:VEVENT
BEGIN:VEVENT
DTSTART;TZID=Europe/Berlin:20240104T173000
DTEND;TZID=Europe/Berlin:20240104T203000
DTSTAMP:20260423T013946
CREATED:20230622T110458Z
LAST-MODIFIED:20250204T173825Z
UID:10000561-1704389400-1704400200@s130056251.online.de
SUMMARY:Pen and Paper
DESCRIPTION:Rollenspielspaß mit Paul
URL:http://s130056251.online.de/event/pen-and-paper/2024-01-04/
LOCATION:U5\, Auerbacher Ring 25\, Berlin\, Berlin\, 12619\, Germany
END:VEVENT
BEGIN:VEVENT
DTSTART;TZID=Europe/Berlin:20240109T150000
DTEND;TZID=Europe/Berlin:20240109T190000
DTSTAMP:20260423T013946
CREATED:20240110T132459Z
LAST-MODIFIED:20240110T132459Z
UID:10005469-1704812400-1704826800@s130056251.online.de
SUMMARY:Gemeinsames Kartenspielen
DESCRIPTION:Spielen von verschiedenen Kartenspielen im offenen Bereich
URL:http://s130056251.online.de/event/gemeinsames-kartenspielen/
LOCATION:U5\, Auerbacher Ring 25\, Berlin\, Berlin\, 12619\, Germany
ORGANIZER;CN="U5":MAILTO:u5@eastend-berlin.com
END:VEVENT
BEGIN:VEVENT
DTSTART;TZID=Europe/Berlin:20240110T150000
DTEND;TZID=Europe/Berlin:20240110T170000
DTSTAMP:20260423T013946
CREATED:20240110T132627Z
LAST-MODIFIED:20240110T132627Z
UID:10005470-1704898800-1704906000@s130056251.online.de
SUMMARY:Shuffleboard
DESCRIPTION:Wir treten mit dem Shuffleboard gegeneinander an.\nWer erzielt die meisten Punkte?
URL:http://s130056251.online.de/event/shuffleboard/
LOCATION:U5\, Auerbacher Ring 25\, Berlin\, Berlin\, 12619\, Germany
ORGANIZER;CN="U5":MAILTO:u5@eastend-berlin.com
END:VEVENT
BEGIN:VEVENT
DTSTART;TZID=Europe/Berlin:20240111T080000
DTEND;TZID=Europe/Berlin:20240111T170000
DTSTAMP:20260423T013946
CREATED:20240110T132804Z
LAST-MODIFIED:20240123T160804Z
UID:10006091-1704960000-1704992400@s130056251.online.de
SUMMARY:gemeinsames Kochen
DESCRIPTION:Wir probieren ein veganes oder vegetarisches Rezept aus.\nVorschläge können gern abgegeben werden.
URL:http://s130056251.online.de/event/gemeinsames-kochen/2024-01-11/1/
LOCATION:U5\, Auerbacher Ring 25\, Berlin\, Berlin\, 12619\, Germany
ORGANIZER;CN="U5":MAILTO:u5@eastend-berlin.com
END:VEVENT
BEGIN:VEVENT
DTSTART;TZID=Europe/Berlin:20240111T150000
DTEND;TZID=Europe/Berlin:20240111T170000
DTSTAMP:20260423T013946
CREATED:20240110T132804Z
LAST-MODIFIED:20240123T160804Z
UID:10005471-1704985200-1704992400@s130056251.online.de
SUMMARY:gemeinsames Kochen
DESCRIPTION:Wir probieren ein veganes oder vegetarisches Rezept aus.\nVorschläge können gern abgegeben werden.
URL:http://s130056251.online.de/event/gemeinsames-kochen/2024-01-11/2/
LOCATION:U5\, Auerbacher Ring 25\, Berlin\, Berlin\, 12619\, Germany
ORGANIZER;CN="U5":MAILTO:u5@eastend-berlin.com
END:VEVENT
BEGIN:VEVENT
DTSTART;TZID=Europe/Berlin:20240111T173000
DTEND;TZID=Europe/Berlin:20240111T203000
DTSTAMP:20260423T013946
CREATED:20230622T110458Z
LAST-MODIFIED:20250204T173825Z
UID:10000562-1704994200-1705005000@s130056251.online.de
SUMMARY:Pen and Paper
DESCRIPTION:Rollenspielspaß mit Paul
URL:http://s130056251.online.de/event/pen-and-paper/2024-01-11/
LOCATION:U5\, Auerbacher Ring 25\, Berlin\, Berlin\, 12619\, Germany
END:VEVENT
BEGIN:VEVENT
DTSTART;TZID=Europe/Berlin:20240112T150000
DTEND;TZID=Europe/Berlin:20240112T170000
DTSTAMP:20260423T013946
CREATED:20240110T132900Z
LAST-MODIFIED:20240110T132900Z
UID:10005472-1705071600-1705078800@s130056251.online.de
SUMMARY:Tischtennisturnier
DESCRIPTION:Wir veranstalten ein kleines Tischtennisturnier zum Jahresbeginn.
URL:http://s130056251.online.de/event/tischtennisturnier/
LOCATION:U5\, Auerbacher Ring 25\, Berlin\, Berlin\, 12619\, Germany
ORGANIZER;CN="U5":MAILTO:u5@eastend-berlin.com
END:VEVENT
BEGIN:VEVENT
DTSTART;TZID=Europe/Berlin:20240113T170000
DTEND;TZID=Europe/Berlin:20240113T190000
DTSTAMP:20260423T013946
CREATED:20240110T133342Z
LAST-MODIFIED:20240110T133342Z
UID:10005474-1705165200-1705172400@s130056251.online.de
SUMMARY:Lagerfeuer mit Wunschsammlung
DESCRIPTION:Am Lagerfeuer möchten wir eure Wünsche an uns und das Jahr 2024 sammeln und besprechen.
URL:http://s130056251.online.de/event/lagerfeuer-mit-wunschsammlung/
LOCATION:U5\, Auerbacher Ring 25\, Berlin\, Berlin\, 12619\, Germany
ORGANIZER;CN="U5":MAILTO:u5@eastend-berlin.com
END:VEVENT
BEGIN:VEVENT
DTSTART;TZID=Europe/Berlin:20240116T150000
DTEND;TZID=Europe/Berlin:20240116T160000
DTSTAMP:20260423T013946
CREATED:20240116T115927Z
LAST-MODIFIED:20240116T115927Z
UID:10005746-1705417200-1705420800@s130056251.online.de
SUMMARY:Aquariumregeln festlegen
DESCRIPTION:Gemeinsam wollen wir mit Euch Regeln für das Aquarium aufstellen und klären\, welche Aufgaben Ihr übernehmen könnt.
URL:http://s130056251.online.de/event/aquariumregeln-festlegen/
LOCATION:U5\, Auerbacher Ring 25\, Berlin\, Berlin\, 12619\, Germany
ORGANIZER;CN="U5":MAILTO:u5@eastend-berlin.com
END:VEVENT
BEGIN:VEVENT
DTSTART;TZID=Europe/Berlin:20240117T150000
DTEND;TZID=Europe/Berlin:20240117T170000
DTSTAMP:20260423T013946
CREATED:20240116T120141Z
LAST-MODIFIED:20240116T120141Z
UID:10006009-1705503600-1705510800@s130056251.online.de
SUMMARY:Basteln mit Origami
DESCRIPTION:Wir probieren verschiedene Origami-Anleitungen aus.
URL:http://s130056251.online.de/event/basteln-mit-origami/
LOCATION:U5\, Auerbacher Ring 25\, Berlin\, Berlin\, 12619\, Germany
ORGANIZER;CN="U5":MAILTO:u5@eastend-berlin.com
END:VEVENT
BEGIN:VEVENT
DTSTART;TZID=Europe/Berlin:20240118T173000
DTEND;TZID=Europe/Berlin:20240118T203000
DTSTAMP:20260423T013946
CREATED:20230622T110458Z
LAST-MODIFIED:20250204T173825Z
UID:10000563-1705599000-1705609800@s130056251.online.de
SUMMARY:Pen and Paper
DESCRIPTION:Rollenspielspaß mit Paul
URL:http://s130056251.online.de/event/pen-and-paper/2024-01-18/
LOCATION:U5\, Auerbacher Ring 25\, Berlin\, Berlin\, 12619\, Germany
END:VEVENT
BEGIN:VEVENT
DTSTART;TZID=Europe/Berlin:20240119T150000
DTEND;TZID=Europe/Berlin:20240119T160000
DTSTAMP:20260423T013946
CREATED:20240116T120311Z
LAST-MODIFIED:20240116T120311Z
UID:10006010-1705676400-1705680000@s130056251.online.de
SUMMARY:Aufräumen im Aquarium
DESCRIPTION:Wir säubern mit Eurer Unterstützung unser Aquarium.
URL:http://s130056251.online.de/event/aufraeumen-im-aquarium/
LOCATION:U5\, Auerbacher Ring 25\, Berlin\, Berlin\, 12619\, Germany
ORGANIZER;CN="U5":MAILTO:u5@eastend-berlin.com
END:VEVENT
BEGIN:VEVENT
DTSTART;TZID=Europe/Berlin:20240120T140000
DTEND;TZID=Europe/Berlin:20240120T160000
DTSTAMP:20260423T013946
CREATED:20240116T120424Z
LAST-MODIFIED:20240116T120424Z
UID:10006011-1705759200-1705766400@s130056251.online.de
SUMMARY:Schleckbilder mit Daiko
DESCRIPTION:Gemeinsam mit Daiko malen wir auf einer Leinwand.
URL:http://s130056251.online.de/event/schleckbilder-mit-daiko/
LOCATION:U5\, Auerbacher Ring 25\, Berlin\, Berlin\, 12619\, Germany
ORGANIZER;CN="U5":MAILTO:u5@eastend-berlin.com
END:VEVENT
BEGIN:VEVENT
DTSTART;TZID=Europe/Berlin:20240123T150000
DTEND;TZID=Europe/Berlin:20240123T170000
DTSTAMP:20260423T013946
CREATED:20240123T121751Z
LAST-MODIFIED:20241019T134622Z
UID:10006012-1706022000-1706029200@s130056251.online.de
SUMMARY:gemeinsames Kochen
DESCRIPTION:Wir probieren ein neues Rezept aus.\nVorschläge können gern abgegeben werden.
URL:http://s130056251.online.de/event/gemeinsames-kochen-2/2024-01-23/
LOCATION:U5\, Auerbacher Ring 25\, Berlin\, Berlin\, 12619\, Germany
ORGANIZER;CN="U5":MAILTO:u5@eastend-berlin.com
END:VEVENT
BEGIN:VEVENT
DTSTART;TZID=Europe/Berlin:20240123T163000
DTEND;TZID=Europe/Berlin:20240123T180000
DTSTAMP:20260423T013946
CREATED:20240123T122103Z
LAST-MODIFIED:20250128T134748Z
UID:10007190-1706027400-1706032800@s130056251.online.de
SUMMARY:Boxtraining
DESCRIPTION:Jeden Dienstag findet um 16:30 Uhr das Boxtraining mit Eric statt.
URL:http://s130056251.online.de/event/boxtraining-2/2024-01-23/
LOCATION:U5\, Auerbacher Ring 25\, Berlin\, Berlin\, 12619\, Germany
ATTACH;FMTTYPE=image/png:http://s130056251.online.de/wp-content/uploads/2024/01/Boxing-Night-Instagram-Story.png
ORGANIZER;CN="U5":MAILTO:u5@eastend-berlin.com
END:VEVENT
BEGIN:VEVENT
DTSTART;TZID=Europe/Berlin:20240124T150000
DTEND;TZID=Europe/Berlin:20240124T193000
DTSTAMP:20260423T013946
CREATED:20240123T122252Z
LAST-MODIFIED:20240123T122252Z
UID:10006036-1706108400-1706124600@s130056251.online.de
SUMMARY:Turniertag
DESCRIPTION:Welchen Sport wir ausüben entscheidet ihr – mal schauen wer am Ende auf dem Treppchen steht.
URL:http://s130056251.online.de/event/turniertag/
LOCATION:U5\, Auerbacher Ring 25\, Berlin\, Berlin\, 12619\, Germany
ORGANIZER;CN="U5":MAILTO:u5@eastend-berlin.com
END:VEVENT
BEGIN:VEVENT
DTSTART;TZID=Europe/Berlin:20240125T150000
DTEND;TZID=Europe/Berlin:20240125T190000
DTSTAMP:20260423T013946
CREATED:20240123T123147Z
LAST-MODIFIED:20240123T123147Z
UID:10006037-1706194800-1706209200@s130056251.online.de
SUMMARY:OBR Vorbereitung mit Celina
DESCRIPTION:Celina möchte sich mit euch auf One Billion Rising vorbereiten.
URL:http://s130056251.online.de/event/obr-vorbereitung-mit-celina/
LOCATION:U5\, Auerbacher Ring 25\, Berlin\, Berlin\, 12619\, Germany
ORGANIZER;CN="U5":MAILTO:u5@eastend-berlin.com
END:VEVENT
BEGIN:VEVENT
DTSTART;TZID=Europe/Berlin:20240125T173000
DTEND;TZID=Europe/Berlin:20240125T203000
DTSTAMP:20260423T013946
CREATED:20230622T110458Z
LAST-MODIFIED:20250204T173825Z
UID:10000564-1706203800-1706214600@s130056251.online.de
SUMMARY:Pen and Paper
DESCRIPTION:Rollenspielspaß mit Paul
URL:http://s130056251.online.de/event/pen-and-paper/2024-01-25/
LOCATION:U5\, Auerbacher Ring 25\, Berlin\, Berlin\, 12619\, Germany
END:VEVENT
BEGIN:VEVENT
DTSTART;TZID=Europe/Berlin:20240126T150000
DTEND;TZID=Europe/Berlin:20240126T170000
DTSTAMP:20260423T013946
CREATED:20240123T123245Z
LAST-MODIFIED:20240123T123245Z
UID:10006038-1706281200-1706288400@s130056251.online.de
SUMMARY:Window Color
DESCRIPTION:Kreative Fensterbilder
URL:http://s130056251.online.de/event/window-color/
LOCATION:U5\, Auerbacher Ring 25\, Berlin\, Berlin\, 12619\, Germany
ORGANIZER;CN="U5":MAILTO:u5@eastend-berlin.com
END:VEVENT
BEGIN:VEVENT
DTSTART;TZID=Europe/Berlin:20240127T140000
DTEND;TZID=Europe/Berlin:20240127T190000
DTSTAMP:20260423T013946
CREATED:20240123T123329Z
LAST-MODIFIED:20240123T123329Z
UID:10006039-1706364000-1706382000@s130056251.online.de
SUMMARY:Zocken im Saal
DESCRIPTION:Zocken auf der großen Leinwand
URL:http://s130056251.online.de/event/zocken-im-saal-2/
LOCATION:U5\, Auerbacher Ring 25\, Berlin\, Berlin\, 12619\, Germany
ORGANIZER;CN="U5":MAILTO:u5@eastend-berlin.com
END:VEVENT
BEGIN:VEVENT
DTSTART;TZID=Europe/Berlin:20240130T150000
DTEND;TZID=Europe/Berlin:20240130T170000
DTSTAMP:20260423T013946
CREATED:20240123T121751Z
LAST-MODIFIED:20241019T134622Z
UID:10006043-1706626800-1706634000@s130056251.online.de
SUMMARY:gemeinsames Kochen
DESCRIPTION:Wir probieren ein neues Rezept aus.\nVorschläge können gern abgegeben werden.
URL:http://s130056251.online.de/event/gemeinsames-kochen-2/2024-01-30/
LOCATION:U5\, Auerbacher Ring 25\, Berlin\, Berlin\, 12619\, Germany
ORGANIZER;CN="U5":MAILTO:u5@eastend-berlin.com
END:VEVENT
BEGIN:VEVENT
DTSTART;TZID=Europe/Berlin:20240130T163000
DTEND;TZID=Europe/Berlin:20240130T180000
DTSTAMP:20260423T013946
CREATED:20240123T122103Z
LAST-MODIFIED:20250128T134748Z
UID:10007191-1706632200-1706637600@s130056251.online.de
SUMMARY:Boxtraining
DESCRIPTION:Jeden Dienstag findet um 16:30 Uhr das Boxtraining mit Eric statt.
URL:http://s130056251.online.de/event/boxtraining-2/2024-01-30/
LOCATION:U5\, Auerbacher Ring 25\, Berlin\, Berlin\, 12619\, Germany
ATTACH;FMTTYPE=image/png:http://s130056251.online.de/wp-content/uploads/2024/01/Boxing-Night-Instagram-Story.png
ORGANIZER;CN="U5":MAILTO:u5@eastend-berlin.com
END:VEVENT
BEGIN:VEVENT
DTSTART;TZID=Europe/Berlin:20240131T150000
DTEND;TZID=Europe/Berlin:20240131T200000
DTSTAMP:20260423T013946
CREATED:20240130T125642Z
LAST-MODIFIED:20240130T125642Z
UID:10006097-1706713200-1706731200@s130056251.online.de
SUMMARY:OBR Vorbereitung mit Celina
DESCRIPTION:Vorbereitung auf One Billion Rising mit Celina
URL:http://s130056251.online.de/event/obr-vorbereitung-mit-celina-2/
LOCATION:U5\, Auerbacher Ring 25\, Berlin\, Berlin\, 12619\, Germany
ATTACH;FMTTYPE=image/jpeg:http://s130056251.online.de/wp-content/uploads/2024/01/OBR.jpg
ORGANIZER;CN="U5":MAILTO:u5@eastend-berlin.com
END:VEVENT
BEGIN:VEVENT
DTSTART;TZID=Europe/Berlin:20240201T150000
DTEND;TZID=Europe/Berlin:20240201T193000
DTSTAMP:20260423T013946
CREATED:20240130T125847Z
LAST-MODIFIED:20240130T125847Z
UID:10006098-1706799600-1706815800@s130056251.online.de
SUMMARY:Gesellschaftsspiele
DESCRIPTION:Wir haben viele neue Gesellschaftsspiele die wir ausprobieren wollen
URL:http://s130056251.online.de/event/gesellschaftsspiele-5/
LOCATION:U5\, Auerbacher Ring 25\, Berlin\, Berlin\, 12619\, Germany
ORGANIZER;CN="U5":MAILTO:u5@eastend-berlin.com
END:VEVENT
BEGIN:VEVENT
DTSTART;TZID=Europe/Berlin:20240201T173000
DTEND;TZID=Europe/Berlin:20240201T203000
DTSTAMP:20260423T013946
CREATED:20230622T110458Z
LAST-MODIFIED:20250204T173825Z
UID:10000565-1706808600-1706819400@s130056251.online.de
SUMMARY:Pen and Paper
DESCRIPTION:Rollenspielspaß mit Paul
URL:http://s130056251.online.de/event/pen-and-paper/2024-02-01/
LOCATION:U5\, Auerbacher Ring 25\, Berlin\, Berlin\, 12619\, Germany
END:VEVENT
END:VCALENDAR