BEGIN:VCALENDAR
VERSION:2.0
PRODID:-//Was geht in Hellersdorf - ECPv6.1.2.2//NONSGML v1.0//EN
CALSCALE:GREGORIAN
METHOD:PUBLISH
X-ORIGINAL-URL:http://s130056251.online.de
X-WR-CALDESC:Veranstaltungen für Was geht in Hellersdorf
REFRESH-INTERVAL;VALUE=DURATION:PT1H
X-Robots-Tag:noindex
X-PUBLISHED-TTL:PT1H
BEGIN:VTIMEZONE
TZID:Europe/Berlin
BEGIN:DAYLIGHT
TZOFFSETFROM:+0100
TZOFFSETTO:+0200
TZNAME:CEST
DTSTART:20280326T010000
END:DAYLIGHT
BEGIN:STANDARD
TZOFFSETFROM:+0200
TZOFFSETTO:+0100
TZNAME:CET
DTSTART:20281029T010000
END:STANDARD
END:VTIMEZONE
BEGIN:VEVENT
DTSTART;TZID=Europe/Berlin:20280302T173000
DTEND;TZID=Europe/Berlin:20280302T203000
DTSTAMP:20260424T193201
CREATED:20230622T110458Z
LAST-MODIFIED:20250204T173825Z
UID:10000778-1835631000-1835641800@s130056251.online.de
SUMMARY:Pen and Paper
DESCRIPTION:Rollenspielspaß mit Paul
URL:http://s130056251.online.de/event/pen-and-paper/2028-03-02/
LOCATION:U5\, Auerbacher Ring 25\, Berlin\, Berlin\, 12619\, Germany
END:VEVENT
BEGIN:VEVENT
DTSTART;TZID=Europe/Berlin:20280309T173000
DTEND;TZID=Europe/Berlin:20280309T203000
DTSTAMP:20260424T193201
CREATED:20230622T110458Z
LAST-MODIFIED:20250204T173825Z
UID:10000779-1836235800-1836246600@s130056251.online.de
SUMMARY:Pen and Paper
DESCRIPTION:Rollenspielspaß mit Paul
URL:http://s130056251.online.de/event/pen-and-paper/2028-03-09/
LOCATION:U5\, Auerbacher Ring 25\, Berlin\, Berlin\, 12619\, Germany
END:VEVENT
BEGIN:VEVENT
DTSTART;TZID=Europe/Berlin:20280316T173000
DTEND;TZID=Europe/Berlin:20280316T203000
DTSTAMP:20260424T193201
CREATED:20230622T110458Z
LAST-MODIFIED:20250204T173825Z
UID:10000780-1836840600-1836851400@s130056251.online.de
SUMMARY:Pen and Paper
DESCRIPTION:Rollenspielspaß mit Paul
URL:http://s130056251.online.de/event/pen-and-paper/2028-03-16/
LOCATION:U5\, Auerbacher Ring 25\, Berlin\, Berlin\, 12619\, Germany
END:VEVENT
BEGIN:VEVENT
DTSTART;TZID=Europe/Berlin:20280323T173000
DTEND;TZID=Europe/Berlin:20280323T203000
DTSTAMP:20260424T193201
CREATED:20230622T110458Z
LAST-MODIFIED:20250204T173825Z
UID:10000781-1837445400-1837456200@s130056251.online.de
SUMMARY:Pen and Paper
DESCRIPTION:Rollenspielspaß mit Paul
URL:http://s130056251.online.de/event/pen-and-paper/2028-03-23/
LOCATION:U5\, Auerbacher Ring 25\, Berlin\, Berlin\, 12619\, Germany
END:VEVENT
BEGIN:VEVENT
DTSTART;TZID=Europe/Berlin:20280330T173000
DTEND;TZID=Europe/Berlin:20280330T203000
DTSTAMP:20260424T193201
CREATED:20230622T110458Z
LAST-MODIFIED:20250204T173825Z
UID:10000782-1838050200-1838061000@s130056251.online.de
SUMMARY:Pen and Paper
DESCRIPTION:Rollenspielspaß mit Paul
URL:http://s130056251.online.de/event/pen-and-paper/2028-03-30/
LOCATION:U5\, Auerbacher Ring 25\, Berlin\, Berlin\, 12619\, Germany
END:VEVENT
BEGIN:VEVENT
DTSTART;TZID=Europe/Berlin:20280406T173000
DTEND;TZID=Europe/Berlin:20280406T203000
DTSTAMP:20260424T193201
CREATED:20230622T110458Z
LAST-MODIFIED:20250204T173825Z
UID:10000783-1838655000-1838665800@s130056251.online.de
SUMMARY:Pen and Paper
DESCRIPTION:Rollenspielspaß mit Paul
URL:http://s130056251.online.de/event/pen-and-paper/2028-04-06/
LOCATION:U5\, Auerbacher Ring 25\, Berlin\, Berlin\, 12619\, Germany
END:VEVENT
BEGIN:VEVENT
DTSTART;TZID=Europe/Berlin:20280413T173000
DTEND;TZID=Europe/Berlin:20280413T203000
DTSTAMP:20260424T193201
CREATED:20230622T110458Z
LAST-MODIFIED:20250204T173825Z
UID:10000784-1839259800-1839270600@s130056251.online.de
SUMMARY:Pen and Paper
DESCRIPTION:Rollenspielspaß mit Paul
URL:http://s130056251.online.de/event/pen-and-paper/2028-04-13/
LOCATION:U5\, Auerbacher Ring 25\, Berlin\, Berlin\, 12619\, Germany
END:VEVENT
BEGIN:VEVENT
DTSTART;TZID=Europe/Berlin:20280420T173000
DTEND;TZID=Europe/Berlin:20280420T203000
DTSTAMP:20260424T193201
CREATED:20230622T110458Z
LAST-MODIFIED:20250204T173825Z
UID:10000785-1839864600-1839875400@s130056251.online.de
SUMMARY:Pen and Paper
DESCRIPTION:Rollenspielspaß mit Paul
URL:http://s130056251.online.de/event/pen-and-paper/2028-04-20/
LOCATION:U5\, Auerbacher Ring 25\, Berlin\, Berlin\, 12619\, Germany
END:VEVENT
BEGIN:VEVENT
DTSTART;TZID=Europe/Berlin:20280427T173000
DTEND;TZID=Europe/Berlin:20280427T203000
DTSTAMP:20260424T193201
CREATED:20230622T110458Z
LAST-MODIFIED:20250204T173825Z
UID:10000786-1840469400-1840480200@s130056251.online.de
SUMMARY:Pen and Paper
DESCRIPTION:Rollenspielspaß mit Paul
URL:http://s130056251.online.de/event/pen-and-paper/2028-04-27/
LOCATION:U5\, Auerbacher Ring 25\, Berlin\, Berlin\, 12619\, Germany
END:VEVENT
BEGIN:VEVENT
DTSTART;TZID=Europe/Berlin:20280504T173000
DTEND;TZID=Europe/Berlin:20280504T203000
DTSTAMP:20260424T193201
CREATED:20230622T110458Z
LAST-MODIFIED:20250204T173825Z
UID:10000787-1841074200-1841085000@s130056251.online.de
SUMMARY:Pen and Paper
DESCRIPTION:Rollenspielspaß mit Paul
URL:http://s130056251.online.de/event/pen-and-paper/2028-05-04/
LOCATION:U5\, Auerbacher Ring 25\, Berlin\, Berlin\, 12619\, Germany
END:VEVENT
BEGIN:VEVENT
DTSTART;TZID=Europe/Berlin:20280511T173000
DTEND;TZID=Europe/Berlin:20280511T203000
DTSTAMP:20260424T193201
CREATED:20230622T110458Z
LAST-MODIFIED:20250204T173825Z
UID:10000788-1841679000-1841689800@s130056251.online.de
SUMMARY:Pen and Paper
DESCRIPTION:Rollenspielspaß mit Paul
URL:http://s130056251.online.de/event/pen-and-paper/2028-05-11/
LOCATION:U5\, Auerbacher Ring 25\, Berlin\, Berlin\, 12619\, Germany
END:VEVENT
BEGIN:VEVENT
DTSTART;TZID=Europe/Berlin:20280518T173000
DTEND;TZID=Europe/Berlin:20280518T203000
DTSTAMP:20260424T193201
CREATED:20230622T110458Z
LAST-MODIFIED:20250204T173825Z
UID:10000789-1842283800-1842294600@s130056251.online.de
SUMMARY:Pen and Paper
DESCRIPTION:Rollenspielspaß mit Paul
URL:http://s130056251.online.de/event/pen-and-paper/2028-05-18/
LOCATION:U5\, Auerbacher Ring 25\, Berlin\, Berlin\, 12619\, Germany
END:VEVENT
BEGIN:VEVENT
DTSTART;TZID=Europe/Berlin:20280525T173000
DTEND;TZID=Europe/Berlin:20280525T203000
DTSTAMP:20260424T193201
CREATED:20230622T110458Z
LAST-MODIFIED:20250204T173825Z
UID:10003505-1842888600-1842899400@s130056251.online.de
SUMMARY:Pen and Paper
DESCRIPTION:Rollenspielspaß mit Paul
URL:http://s130056251.online.de/event/pen-and-paper/2028-05-25/
LOCATION:U5\, Auerbacher Ring 25\, Berlin\, Berlin\, 12619\, Germany
END:VEVENT
BEGIN:VEVENT
DTSTART;TZID=Europe/Berlin:20280601T173000
DTEND;TZID=Europe/Berlin:20280601T203000
DTSTAMP:20260424T193201
CREATED:20230622T110458Z
LAST-MODIFIED:20250204T173825Z
UID:10003506-1843493400-1843504200@s130056251.online.de
SUMMARY:Pen and Paper
DESCRIPTION:Rollenspielspaß mit Paul
URL:http://s130056251.online.de/event/pen-and-paper/2028-06-01/
LOCATION:U5\, Auerbacher Ring 25\, Berlin\, Berlin\, 12619\, Germany
END:VEVENT
BEGIN:VEVENT
DTSTART;TZID=Europe/Berlin:20280608T173000
DTEND;TZID=Europe/Berlin:20280608T203000
DTSTAMP:20260424T193201
CREATED:20230622T110458Z
LAST-MODIFIED:20250204T173825Z
UID:10003507-1844098200-1844109000@s130056251.online.de
SUMMARY:Pen and Paper
DESCRIPTION:Rollenspielspaß mit Paul
URL:http://s130056251.online.de/event/pen-and-paper/2028-06-08/
LOCATION:U5\, Auerbacher Ring 25\, Berlin\, Berlin\, 12619\, Germany
END:VEVENT
BEGIN:VEVENT
DTSTART;TZID=Europe/Berlin:20280615T173000
DTEND;TZID=Europe/Berlin:20280615T203000
DTSTAMP:20260424T193201
CREATED:20230622T110458Z
LAST-MODIFIED:20250204T173825Z
UID:10003508-1844703000-1844713800@s130056251.online.de
SUMMARY:Pen and Paper
DESCRIPTION:Rollenspielspaß mit Paul
URL:http://s130056251.online.de/event/pen-and-paper/2028-06-15/
LOCATION:U5\, Auerbacher Ring 25\, Berlin\, Berlin\, 12619\, Germany
END:VEVENT
BEGIN:VEVENT
DTSTART;TZID=Europe/Berlin:20280622T173000
DTEND;TZID=Europe/Berlin:20280622T203000
DTSTAMP:20260424T193201
CREATED:20230622T110458Z
LAST-MODIFIED:20250204T173825Z
UID:10003509-1845307800-1845318600@s130056251.online.de
SUMMARY:Pen and Paper
DESCRIPTION:Rollenspielspaß mit Paul
URL:http://s130056251.online.de/event/pen-and-paper/2028-06-22/
LOCATION:U5\, Auerbacher Ring 25\, Berlin\, Berlin\, 12619\, Germany
END:VEVENT
BEGIN:VEVENT
DTSTART;TZID=Europe/Berlin:20280629T173000
DTEND;TZID=Europe/Berlin:20280629T203000
DTSTAMP:20260424T193201
CREATED:20230622T110458Z
LAST-MODIFIED:20250204T173825Z
UID:10006383-1845912600-1845923400@s130056251.online.de
SUMMARY:Pen and Paper
DESCRIPTION:Rollenspielspaß mit Paul
URL:http://s130056251.online.de/event/pen-and-paper/2028-06-29/
LOCATION:U5\, Auerbacher Ring 25\, Berlin\, Berlin\, 12619\, Germany
END:VEVENT
BEGIN:VEVENT
DTSTART;TZID=Europe/Berlin:20280706T173000
DTEND;TZID=Europe/Berlin:20280706T203000
DTSTAMP:20260424T193201
CREATED:20230622T110458Z
LAST-MODIFIED:20250204T173825Z
UID:10006384-1846517400-1846528200@s130056251.online.de
SUMMARY:Pen and Paper
DESCRIPTION:Rollenspielspaß mit Paul
URL:http://s130056251.online.de/event/pen-and-paper/2028-07-06/
LOCATION:U5\, Auerbacher Ring 25\, Berlin\, Berlin\, 12619\, Germany
END:VEVENT
BEGIN:VEVENT
DTSTART;TZID=Europe/Berlin:20280713T173000
DTEND;TZID=Europe/Berlin:20280713T203000
DTSTAMP:20260424T193201
CREATED:20230622T110458Z
LAST-MODIFIED:20250204T173825Z
UID:10006385-1847122200-1847133000@s130056251.online.de
SUMMARY:Pen and Paper
DESCRIPTION:Rollenspielspaß mit Paul
URL:http://s130056251.online.de/event/pen-and-paper/2028-07-13/
LOCATION:U5\, Auerbacher Ring 25\, Berlin\, Berlin\, 12619\, Germany
END:VEVENT
BEGIN:VEVENT
DTSTART;TZID=Europe/Berlin:20280720T173000
DTEND;TZID=Europe/Berlin:20280720T203000
DTSTAMP:20260424T193201
CREATED:20230622T110458Z
LAST-MODIFIED:20250204T173825Z
UID:10006386-1847727000-1847737800@s130056251.online.de
SUMMARY:Pen and Paper
DESCRIPTION:Rollenspielspaß mit Paul
URL:http://s130056251.online.de/event/pen-and-paper/2028-07-20/
LOCATION:U5\, Auerbacher Ring 25\, Berlin\, Berlin\, 12619\, Germany
END:VEVENT
BEGIN:VEVENT
DTSTART;TZID=Europe/Berlin:20280727T173000
DTEND;TZID=Europe/Berlin:20280727T203000
DTSTAMP:20260424T193201
CREATED:20230622T110458Z
LAST-MODIFIED:20250204T173825Z
UID:10006387-1848331800-1848342600@s130056251.online.de
SUMMARY:Pen and Paper
DESCRIPTION:Rollenspielspaß mit Paul
URL:http://s130056251.online.de/event/pen-and-paper/2028-07-27/
LOCATION:U5\, Auerbacher Ring 25\, Berlin\, Berlin\, 12619\, Germany
END:VEVENT
BEGIN:VEVENT
DTSTART;TZID=Europe/Berlin:20280803T173000
DTEND;TZID=Europe/Berlin:20280803T203000
DTSTAMP:20260424T193201
CREATED:20230622T110458Z
LAST-MODIFIED:20250204T173825Z
UID:10006388-1848936600-1848947400@s130056251.online.de
SUMMARY:Pen and Paper
DESCRIPTION:Rollenspielspaß mit Paul
URL:http://s130056251.online.de/event/pen-and-paper/2028-08-03/
LOCATION:U5\, Auerbacher Ring 25\, Berlin\, Berlin\, 12619\, Germany
END:VEVENT
BEGIN:VEVENT
DTSTART;TZID=Europe/Berlin:20280810T173000
DTEND;TZID=Europe/Berlin:20280810T203000
DTSTAMP:20260424T193201
CREATED:20230622T110458Z
LAST-MODIFIED:20250204T173825Z
UID:10006389-1849541400-1849552200@s130056251.online.de
SUMMARY:Pen and Paper
DESCRIPTION:Rollenspielspaß mit Paul
URL:http://s130056251.online.de/event/pen-and-paper/2028-08-10/
LOCATION:U5\, Auerbacher Ring 25\, Berlin\, Berlin\, 12619\, Germany
END:VEVENT
BEGIN:VEVENT
DTSTART;TZID=Europe/Berlin:20280817T173000
DTEND;TZID=Europe/Berlin:20280817T203000
DTSTAMP:20260424T193201
CREATED:20230622T110458Z
LAST-MODIFIED:20250204T173825Z
UID:10006390-1850146200-1850157000@s130056251.online.de
SUMMARY:Pen and Paper
DESCRIPTION:Rollenspielspaß mit Paul
URL:http://s130056251.online.de/event/pen-and-paper/2028-08-17/
LOCATION:U5\, Auerbacher Ring 25\, Berlin\, Berlin\, 12619\, Germany
END:VEVENT
BEGIN:VEVENT
DTSTART;TZID=Europe/Berlin:20280824T173000
DTEND;TZID=Europe/Berlin:20280824T203000
DTSTAMP:20260424T193201
CREATED:20230622T110458Z
LAST-MODIFIED:20250204T173825Z
UID:10006391-1850751000-1850761800@s130056251.online.de
SUMMARY:Pen and Paper
DESCRIPTION:Rollenspielspaß mit Paul
URL:http://s130056251.online.de/event/pen-and-paper/2028-08-24/
LOCATION:U5\, Auerbacher Ring 25\, Berlin\, Berlin\, 12619\, Germany
END:VEVENT
BEGIN:VEVENT
DTSTART;TZID=Europe/Berlin:20280831T173000
DTEND;TZID=Europe/Berlin:20280831T203000
DTSTAMP:20260424T193201
CREATED:20230622T110458Z
LAST-MODIFIED:20250204T173825Z
UID:10006392-1851355800-1851366600@s130056251.online.de
SUMMARY:Pen and Paper
DESCRIPTION:Rollenspielspaß mit Paul
URL:http://s130056251.online.de/event/pen-and-paper/2028-08-31/
LOCATION:U5\, Auerbacher Ring 25\, Berlin\, Berlin\, 12619\, Germany
END:VEVENT
BEGIN:VEVENT
DTSTART;TZID=Europe/Berlin:20280907T173000
DTEND;TZID=Europe/Berlin:20280907T203000
DTSTAMP:20260424T193201
CREATED:20230622T110458Z
LAST-MODIFIED:20250204T173825Z
UID:10006393-1851960600-1851971400@s130056251.online.de
SUMMARY:Pen and Paper
DESCRIPTION:Rollenspielspaß mit Paul
URL:http://s130056251.online.de/event/pen-and-paper/2028-09-07/
LOCATION:U5\, Auerbacher Ring 25\, Berlin\, Berlin\, 12619\, Germany
END:VEVENT
BEGIN:VEVENT
DTSTART;TZID=Europe/Berlin:20280914T173000
DTEND;TZID=Europe/Berlin:20280914T203000
DTSTAMP:20260424T193201
CREATED:20230622T110458Z
LAST-MODIFIED:20250204T173825Z
UID:10006394-1852565400-1852576200@s130056251.online.de
SUMMARY:Pen and Paper
DESCRIPTION:Rollenspielspaß mit Paul
URL:http://s130056251.online.de/event/pen-and-paper/2028-09-14/
LOCATION:U5\, Auerbacher Ring 25\, Berlin\, Berlin\, 12619\, Germany
END:VEVENT
BEGIN:VEVENT
DTSTART;TZID=Europe/Berlin:20280921T173000
DTEND;TZID=Europe/Berlin:20280921T203000
DTSTAMP:20260424T193201
CREATED:20230622T110458Z
LAST-MODIFIED:20250204T173825Z
UID:10006395-1853170200-1853181000@s130056251.online.de
SUMMARY:Pen and Paper
DESCRIPTION:Rollenspielspaß mit Paul
URL:http://s130056251.online.de/event/pen-and-paper/2028-09-21/
LOCATION:U5\, Auerbacher Ring 25\, Berlin\, Berlin\, 12619\, Germany
END:VEVENT
END:VCALENDAR